BEGIN:VCALENDAR
VERSION:2.0
METHOD:PUBLISH
PRODID:-//IETF//datatracker.ietf.org ical agenda//EN
BEGIN:VTIMEZONE
TZID:Asia/Bangkok
X-LIC-LOCATION:Asia/Bangkok
BEGIN:STANDARD
TZOFFSETFROM:+064204
TZOFFSETTO:+064204
TZNAME:BMT
DTSTART:18800101T000000
RDATE:18800101T000000
END:STANDARD
BEGIN:STANDARD
TZOFFSETFROM:+064204
TZOFFSETTO:+0700
TZNAME:ICT
DTSTART:19200401T000000
RDATE:19200401T000000
END:STANDARD
END:VTIMEZONE
BEGIN:VEVENT
UID:ietf-109-13202-lsr
SUMMARY:lsr - Link State Routing
LOCATION:Room 4
STATUS:CONFIRMED
CLASS:PUBLIC
DTSTART;TZID=Asia/Bangkok:20201116T120000
DTEND;TZID=Asia/Bangkok:20201116T140000
DTSTAMP:20201012T131229Z
URL:https://datatracker.ietf.org/meeting/109/materials/agenda-109-lsr-02
DESCRIPTION:Session I\n
 \n
 Meetecho: https://meetings.conf.meetecho.com/ietf109/?group=lsr&short=&item=1\n
 \n
 Agenda https://datatracker.ietf.org/meeting/109/materials/agenda-109-lsr-02\n
 \n
 Session materials: https://datatracker.ietf.org/meeting/109/session/lsr\n
 \n
 See in schedule: https://datatracker.ietf.org/meeting/109/agenda#row-109-2020-11-16-mon-1200-rtg-lsr\n
END:VEVENT
BEGIN:VEVENT
UID:ietf-109-13201-raw
SUMMARY:raw - Reliable and Available Wireless
LOCATION:Room 5
STATUS:CONFIRMED
CLASS:PUBLIC
DTSTART;TZID=Asia/Bangkok:20201116T120000
DTEND;TZID=Asia/Bangkok:20201116T140000
DTSTAMP:20201012T131229Z
URL:https://datatracker.ietf.org/meeting/109/materials/agenda-109-raw-01
DESCRIPTION:Session I\n
 \n
 Meetecho: https://meetings.conf.meetecho.com/ietf109/?group=raw&short=&item=1\n
 \n
 Agenda https://datatracker.ietf.org/meeting/109/materials/agenda-109-raw-01\n
 \n
 Session materials: https://datatracker.ietf.org/meeting/109/session/raw\n
 \n
 See in schedule: https://datatracker.ietf.org/meeting/109/agenda#row-109-2020-11-16-mon-1200-rtg-raw\n
END:VEVENT
BEGIN:VEVENT
UID:ietf-109-13193-idr
SUMMARY:idr - Inter-Domain Routing
LOCATION:Room 5
STATUS:CONFIRMED
CLASS:PUBLIC
DTSTART;TZID=Asia/Bangkok:20201116T143000
DTEND;TZID=Asia/Bangkok:20201116T153000
DTSTAMP:20201012T131251Z
URL:https://datatracker.ietf.org/meeting/109/materials/agenda-109-idr-03
DESCRIPTION:Session II\n
 \n
 Meetecho: https://meetings.conf.meetecho.com/ietf109/?group=idr&short=&item=1\n
 \n
 Agenda https://datatracker.ietf.org/meeting/109/materials/agenda-109-idr-03\n
 \n
 Session materials: https://datatracker.ietf.org/meeting/109/session/idr\n
 \n
 See in schedule: https://datatracker.ietf.org/meeting/109/agenda#row-109-2020-11-16-mon-1430-rtg-idr\n
END:VEVENT
BEGIN:VEVENT
UID:ietf-109-13185-pim
SUMMARY:pim - Protocols for IP Multicast
LOCATION:Room 5
STATUS:CONFIRMED
CLASS:PUBLIC
DTSTART;TZID=Asia/Bangkok:20201116T160000
DTEND;TZID=Asia/Bangkok:20201116T180000
DTSTAMP:20201012T131312Z
URL:https://datatracker.ietf.org/meeting/109/materials/agenda-109-pim-03
DESCRIPTION:Session III\n
 \n
 Meetecho: https://meetings.conf.meetecho.com/ietf109/?group=pim&short=&item=1\n
 \n
 Agenda https://datatracker.ietf.org/meeting/109/materials/agenda-109-pim-03\n
 \n
 Session materials: https://datatracker.ietf.org/meeting/109/session/pim\n
 \n
 See in schedule: https://datatracker.ietf.org/meeting/109/agenda#row-109-2020-11-16-mon-1600-rtg-pim\n
END:VEVENT
BEGIN:VEVENT
UID:ietf-109-13184-teas
SUMMARY:teas - Traffic Engineering Architecture and Signaling
LOCATION:Room 6
STATUS:CONFIRMED
CLASS:PUBLIC
DTSTART;TZID=Asia/Bangkok:20201116T160000
DTEND;TZID=Asia/Bangkok:20201116T180000
DTSTAMP:20201012T131312Z
URL:https://datatracker.ietf.org/meeting/109/materials/agenda-109-teas-05
DESCRIPTION:Session III\n
 \n
 Meetecho: https://meetings.conf.meetecho.com/ietf109/?group=teas&short=&item=1\n
 \n
 Agenda https://datatracker.ietf.org/meeting/109/materials/agenda-109-teas-05\n
 \n
 Session materials: https://datatracker.ietf.org/meeting/109/session/teas\n
 \n
 See in schedule: https://datatracker.ietf.org/meeting/109/agenda#row-109-2020-11-16-mon-1600-rtg-teas\n
END:VEVENT
BEGIN:VEVENT
UID:ietf-109-13176-rtgwg
SUMMARY:rtgwg - Routing Area Working Group
LOCATION:Room 6
STATUS:CONFIRMED
CLASS:PUBLIC
DTSTART;TZID=Asia/Bangkok:20201117T120000
DTEND;TZID=Asia/Bangkok:20201117T140000
DTSTAMP:20201012T131327Z
URL:https://datatracker.ietf.org/meeting/109/materials/agenda-109-rtgwg-sessa-09
DESCRIPTION:Session I\n
 \n
 Meetecho: https://meetings.conf.meetecho.com/ietf109/?group=rtgwg&short=&item=1\n
 \n
 Agenda https://datatracker.ietf.org/meeting/109/materials/agenda-109-rtgwg-sessa-09\n
 \n
 Session materials: https://datatracker.ietf.org/meeting/109/session/rtgwg\n
 \n
 See in schedule: https://datatracker.ietf.org/meeting/109/agenda#row-109-2020-11-17-tue-1200-rtg-rtgwg\n
END:VEVENT
BEGIN:VEVENT
UID:ietf-109-13169-babel
SUMMARY:babel - Babel routing protocol
LOCATION:Room 5
STATUS:CANCELLED
CLASS:PUBLIC
DTSTART;TZID=Asia/Bangkok:20201117T143000
DTEND;TZID=Asia/Bangkok:20201117T153000
DTSTAMP:20201012T131342Z
DESCRIPTION:Session II\n
 \n
 Meetecho: https://meetings.conf.meetecho.com/ietf109/?group=babel&short=&item=1\n
 \n
 Session materials: https://datatracker.ietf.org/meeting/109/session/babel\n
 \n
 See in schedule: https://datatracker.ietf.org/meeting/109/agenda#row-109-2020-11-17-tue-1430-rtg-babel\n
END:VEVENT
BEGIN:VEVENT
UID:ietf-109-13153-bier
SUMMARY:bier - Bit Indexed Explicit Replication
LOCATION:Room 5
STATUS:CONFIRMED
CLASS:PUBLIC
DTSTART;TZID=Asia/Bangkok:20201118T120000
DTEND;TZID=Asia/Bangkok:20201118T140000
DTSTAMP:20201012T131408Z
URL:https://datatracker.ietf.org/meeting/109/materials/agenda-109-bier-02
DESCRIPTION:Session I\n
 \n
 Meetecho: https://meetings.conf.meetecho.com/ietf109/?group=bier&short=&item=1\n
 \n
 Agenda https://datatracker.ietf.org/meeting/109/materials/agenda-109-bier-02\n
 \n
 Session materials: https://datatracker.ietf.org/meeting/109/session/bier\n
 \n
 See in schedule: https://datatracker.ietf.org/meeting/109/agenda#row-109-2020-11-18-wed-1200-rtg-bier\n
END:VEVENT
BEGIN:VEVENT
UID:ietf-109-13152-spring
SUMMARY:spring - Source Packet Routing in Networking
LOCATION:Room 6
STATUS:CONFIRMED
CLASS:PUBLIC
DTSTART;TZID=Asia/Bangkok:20201118T120000
DTEND;TZID=Asia/Bangkok:20201118T140000
DTSTAMP:20201012T131408Z
URL:https://datatracker.ietf.org/meeting/109/materials/agenda-109-spring-01
DESCRIPTION:Session I\n
 \n
 Meetecho: https://meetings.conf.meetecho.com/ietf109/?group=spring&short=&item=1\n
 \n
 Agenda https://datatracker.ietf.org/meeting/109/materials/agenda-109-spring-01\n
 \n
 Session materials: https://datatracker.ietf.org/meeting/109/session/spring\n
 \n
 See in schedule: https://datatracker.ietf.org/meeting/109/agenda#row-109-2020-11-18-wed-1200-rtg-spring\n
END:VEVENT
BEGIN:VEVENT
UID:ietf-109-13128-rtgwg
SUMMARY:rtgwg - Routing Area Working Group
LOCATION:Room 6
STATUS:CONFIRMED
CLASS:PUBLIC
DTSTART;TZID=Asia/Bangkok:20201118T143000
DTEND;TZID=Asia/Bangkok:20201118T153000
DTSTAMP:20201012T131758Z
URL:https://datatracker.ietf.org/meeting/109/materials/agenda-109-rtgwg-sessb-05
DESCRIPTION:Session II\n
 \n
 Meetecho: https://meetings.conf.meetecho.com/ietf109/?group=rtgwg&short=&item=2\n
 \n
 Agenda https://datatracker.ietf.org/meeting/109/materials/agenda-109-rtgwg-sessb-05\n
 \n
 Session materials: https://datatracker.ietf.org/meeting/109/session/rtgwg\n
 \n
 See in schedule: https://datatracker.ietf.org/meeting/109/agenda#row-109-2020-11-18-wed-1430-rtg-rtgwg\n
END:VEVENT
BEGIN:VEVENT
UID:ietf-109-13137-lisp
SUMMARY:lisp - Locator/ID Separation Protocol
LOCATION:Room 5
STATUS:CONFIRMED
CLASS:PUBLIC
DTSTART;TZID=Asia/Bangkok:20201119T120000
DTEND;TZID=Asia/Bangkok:20201119T140000
DTSTAMP:20201012T131437Z
URL:https://datatracker.ietf.org/meeting/109/materials/agenda-109-lisp-01
DESCRIPTION:Session I\n
 \n
 Meetecho: https://meetings.conf.meetecho.com/ietf109/?group=lisp&short=&item=1\n
 \n
 Agenda https://datatracker.ietf.org/meeting/109/materials/agenda-109-lisp-01\n
 \n
 Session materials: https://datatracker.ietf.org/meeting/109/session/lisp\n
 \n
 See in schedule: https://datatracker.ietf.org/meeting/109/agenda#row-109-2020-11-19-thu-1200-rtg-lisp\n
END:VEVENT
BEGIN:VEVENT
UID:ietf-109-13136-pce
SUMMARY:pce - Path Computation Element
LOCATION:Room 6
STATUS:CONFIRMED
CLASS:PUBLIC
DTSTART;TZID=Asia/Bangkok:20201119T120000
DTEND;TZID=Asia/Bangkok:20201119T140000
DTSTAMP:20201012T131437Z
URL:https://datatracker.ietf.org/meeting/109/materials/agenda-109-pce-03
DESCRIPTION:Session I\n
 \n
 Meetecho: https://meetings.conf.meetecho.com/ietf109/?group=pce&short=&item=1\n
 \n
 Agenda https://datatracker.ietf.org/meeting/109/materials/agenda-109-pce-03\n
 \n
 Session materials: https://datatracker.ietf.org/meeting/109/session/pce\n
 \n
 See in schedule: https://datatracker.ietf.org/meeting/109/agenda#row-109-2020-11-19-thu-1200-rtg-pce\n
END:VEVENT
BEGIN:VEVENT
UID:ietf-109-13211-detnet
SUMMARY:detnet - Deterministic Networking
LOCATION:Room 3
STATUS:CONFIRMED
CLASS:PUBLIC
DTSTART;TZID=Asia/Bangkok:20201119T143000
DTEND;TZID=Asia/Bangkok:20201119T153000
DTSTAMP:20201016T115518Z
URL:https://datatracker.ietf.org/meeting/109/materials/agenda-109-detnet-03
DESCRIPTION:Session II\n
 \n
 Meetecho: https://meetings.conf.meetecho.com/ietf109/?group=detnet&short=&item=1\n
 \n
 Agenda https://datatracker.ietf.org/meeting/109/materials/agenda-109-detnet-03\n
 \n
 Session materials: https://datatracker.ietf.org/meeting/109/session/detnet\n
 \n
 See in schedule: https://datatracker.ietf.org/meeting/109/agenda#row-109-2020-11-19-thu-1430-rtg-detnet\n
END:VEVENT
BEGIN:VEVENT
UID:ietf-109-13210-nvo3
SUMMARY:nvo3 - Network Virtualization Overlays
LOCATION:Room 4
STATUS:CANCELLED
CLASS:PUBLIC
DTSTART;TZID=Asia/Bangkok:20201119T143000
DTEND;TZID=Asia/Bangkok:20201119T153000
DTSTAMP:20201016T115518Z
DESCRIPTION:Session II\n
 \n
 Meetecho: https://meetings.conf.meetecho.com/ietf109/?group=nvo3&short=&item=1\n
 \n
 Session materials: https://datatracker.ietf.org/meeting/109/session/nvo3\n
 \n
 See in schedule: https://datatracker.ietf.org/meeting/109/agenda#row-109-2020-11-19-thu-1430-rtg-nvo3\n
END:VEVENT
BEGIN:VEVENT
UID:ietf-109-13121-bess
SUMMARY:bess - BGP Enabled ServiceS
LOCATION:Room 5
STATUS:CONFIRMED
CLASS:PUBLIC
DTSTART;TZID=Asia/Bangkok:20201119T160000
DTEND;TZID=Asia/Bangkok:20201119T180000
DTSTAMP:20201016T115531Z
URL:https://datatracker.ietf.org/meeting/109/materials/agenda-109-bess-04
DESCRIPTION:Session III\n
 \n
 Meetecho: https://meetings.conf.meetecho.com/ietf109/?group=bess&short=&item=1\n
 \n
 Agenda https://datatracker.ietf.org/meeting/109/materials/agenda-109-bess-04\n
 \n
 Session materials: https://datatracker.ietf.org/meeting/109/session/bess\n
 \n
 See in schedule: https://datatracker.ietf.org/meeting/109/agenda#row-109-2020-11-19-thu-1600-rtg-bess\n
END:VEVENT
BEGIN:VEVENT
UID:ietf-109-13120-roll
SUMMARY:roll - Routing Over Low power and Lossy networks
LOCATION:Room 6
STATUS:CONFIRMED
CLASS:PUBLIC
DTSTART;TZID=Asia/Bangkok:20201119T160000
DTEND;TZID=Asia/Bangkok:20201119T180000
DTSTAMP:20201016T115531Z
URL:https://datatracker.ietf.org/meeting/109/materials/agenda-109-roll-03
DESCRIPTION:Session III\n
 \n
 Meetecho: https://meetings.conf.meetecho.com/ietf109/?group=roll&short=&item=1\n
 \n
 Agenda https://datatracker.ietf.org/meeting/109/materials/agenda-109-roll-03\n
 \n
 Session materials: https://datatracker.ietf.org/meeting/109/session/roll\n
 \n
 See in schedule: https://datatracker.ietf.org/meeting/109/agenda#row-109-2020-11-19-thu-1600-rtg-roll\n
END:VEVENT
BEGIN:VEVENT
UID:ietf-109-13113-mpls
SUMMARY:mpls - Multiprotocol Label Switching
LOCATION:Room 5
STATUS:CONFIRMED
CLASS:PUBLIC
DTSTART;TZID=Asia/Bangkok:20201120T120000
DTEND;TZID=Asia/Bangkok:20201120T140000
DTSTAMP:20201012T131517Z
URL:https://datatracker.ietf.org/meeting/109/materials/agenda-109-mpls-01
DESCRIPTION:Session I\n
 \n
 Meetecho: https://meetings.conf.meetecho.com/ietf109/?group=mpls&short=&item=1\n
 \n
 Agenda https://datatracker.ietf.org/meeting/109/materials/agenda-109-mpls-01\n
 \n
 Session materials: https://datatracker.ietf.org/meeting/109/session/mpls\n
 \n
 See in schedule: https://datatracker.ietf.org/meeting/109/agenda#row-109-2020-11-20-fri-1200-rtg-mpls\n
END:VEVENT
BEGIN:VEVENT
UID:ietf-109-13112-rift
SUMMARY:rift - Routing In Fat Trees
LOCATION:Room 6
STATUS:CONFIRMED
CLASS:PUBLIC
DTSTART;TZID=Asia/Bangkok:20201120T120000
DTEND;TZID=Asia/Bangkok:20201120T140000
DTSTAMP:20201012T131517Z
URL:https://datatracker.ietf.org/meeting/109/materials/agenda-109-rift-00
DESCRIPTION:Session I\n
 \n
 Meetecho: https://meetings.conf.meetecho.com/ietf109/?group=rift&short=&item=1\n
 \n
 Agenda https://datatracker.ietf.org/meeting/109/materials/agenda-109-rift-00\n
 \n
 Session materials: https://datatracker.ietf.org/meeting/109/session/rift\n
 \n
 See in schedule: https://datatracker.ietf.org/meeting/109/agenda#row-109-2020-11-20-fri-1200-rtg-rift\n
END:VEVENT
BEGIN:VEVENT
UID:ietf-109-13105-spring
SUMMARY:spring - Source Packet Routing in Networking
LOCATION:Room 5
STATUS:CONFIRMED
CLASS:PUBLIC
DTSTART;TZID=Asia/Bangkok:20201120T143000
DTEND;TZID=Asia/Bangkok:20201120T153000
DTSTAMP:20201012T131529Z
URL:https://datatracker.ietf.org/meeting/109/materials/agenda-109-spring-01
DESCRIPTION:Session II\n
 \n
 Meetecho: https://meetings.conf.meetecho.com/ietf109/?group=spring&short=&item=2\n
 \n
 Agenda https://datatracker.ietf.org/meeting/109/materials/agenda-109-spring-01\n
 \n
 Session materials: https://datatracker.ietf.org/meeting/109/session/spring\n
 \n
 See in schedule: https://datatracker.ietf.org/meeting/109/agenda#row-109-2020-11-20-fri-1430-rtg-spring\n
END:VEVENT
BEGIN:VEVENT
UID:ietf-109-13096-ccamp
SUMMARY:ccamp - Common Control and Measurement Plane
LOCATION:Room 6
STATUS:CONFIRMED
CLASS:PUBLIC
DTSTART;TZID=Asia/Bangkok:20201120T160000
DTEND;TZID=Asia/Bangkok:20201120T180000
DTSTAMP:20201012T131548Z
URL:https://datatracker.ietf.org/meeting/109/materials/agenda-109-ccamp-00
DESCRIPTION:Session III\n
 \n
 Meetecho: https://meetings.conf.meetecho.com/ietf109/?group=ccamp&short=&item=1\n
 \n
 Agenda https://datatracker.ietf.org/meeting/109/materials/agenda-109-ccamp-00\n
 \n
 Session materials: https://datatracker.ietf.org/meeting/109/session/ccamp\n
 \n
 See in schedule: https://datatracker.ietf.org/meeting/109/agenda#row-109-2020-11-20-fri-1600-rtg-ccamp\n
END:VEVENT
BEGIN:VEVENT
UID:ietf-109-13095-idr
SUMMARY:idr - Inter-Domain Routing
LOCATION:Room 7
STATUS:CONFIRMED
CLASS:PUBLIC
DTSTART;TZID=Asia/Bangkok:20201120T160000
DTEND;TZID=Asia/Bangkok:20201120T180000
DTSTAMP:20201012T131548Z
URL:https://datatracker.ietf.org/meeting/109/materials/agenda-109-idr-03
DESCRIPTION:Session III\n
 \n
 Meetecho: https://meetings.conf.meetecho.com/ietf109/?group=idr&short=&item=2\n
 \n
 Agenda https://datatracker.ietf.org/meeting/109/materials/agenda-109-idr-03\n
 \n
 Session materials: https://datatracker.ietf.org/meeting/109/session/idr\n
 \n
 See in schedule: https://datatracker.ietf.org/meeting/109/agenda#row-109-2020-11-20-fri-1600-rtg-idr\n
END:VEVENT
END:VCALENDAR
