BEGIN:VCALENDAR
VERSION:2.0
METHOD:PUBLISH
PRODID:-//IETF//datatracker.ietf.org ical agenda//EN
BEGIN:VTIMEZONE
TZID:Asia/Bangkok
X-LIC-LOCATION:Asia/Bangkok
BEGIN:STANDARD
TZOFFSETFROM:+064204
TZOFFSETTO:+064204
TZNAME:BMT
DTSTART:18800101T000000
RDATE:18800101T000000
END:STANDARD
BEGIN:STANDARD
TZOFFSETFROM:+064204
TZOFFSETTO:+0700
TZNAME:ICT
DTSTART:19200401T000000
RDATE:19200401T000000
END:STANDARD
END:VTIMEZONE
BEGIN:VEVENT
UID:ietf-109-13200-lake
SUMMARY:lake - Lightweight Authenticated Key Exchange
LOCATION:Room 6
STATUS:CONFIRMED
CLASS:PUBLIC
DTSTART;TZID=Asia/Bangkok:20201116T120000
DTEND;TZID=Asia/Bangkok:20201116T140000
DTSTAMP:20201012T131229Z
URL:https://datatracker.ietf.org/meeting/109/materials/agenda-109-lake-01
DESCRIPTION:Session I\n
 \n
 Meetecho: https://meetings.conf.meetecho.com/ietf109/?group=lake&short=&item=1\n
 \n
 Agenda https://datatracker.ietf.org/meeting/109/materials/agenda-109-lake-01\n
 \n
 Session materials: https://datatracker.ietf.org/meeting/109/session/lake\n
 \n
 See in schedule: https://datatracker.ietf.org/meeting/109/agenda#row-109-2020-11-16-mon-1200-sec-lake\n
END:VEVENT
BEGIN:VEVENT
UID:ietf-109-13199-sacm
SUMMARY:sacm - Security Automation and Continuous Monitoring
LOCATION:Room 7
STATUS:CONFIRMED
CLASS:PUBLIC
DTSTART;TZID=Asia/Bangkok:20201116T120000
DTEND;TZID=Asia/Bangkok:20201116T140000
DTSTAMP:20201012T131229Z
URL:https://datatracker.ietf.org/meeting/109/materials/agenda-109-sacm-00
DESCRIPTION:Session I\n
 \n
 Meetecho: https://meetings.conf.meetecho.com/ietf109/?group=sacm&short=&item=1\n
 \n
 Agenda https://datatracker.ietf.org/meeting/109/materials/agenda-109-sacm-00\n
 \n
 Session materials: https://datatracker.ietf.org/meeting/109/session/sacm\n
 \n
 See in schedule: https://datatracker.ietf.org/meeting/109/agenda#row-109-2020-11-16-mon-1200-sec-sacm\n
END:VEVENT
BEGIN:VEVENT
UID:ietf-109-13192-cose
SUMMARY:cose - CBOR Object Signing and Encryption
LOCATION:Room 6
STATUS:CONFIRMED
CLASS:PUBLIC
DTSTART;TZID=Asia/Bangkok:20201116T143000
DTEND;TZID=Asia/Bangkok:20201116T153000
DTSTAMP:20201012T131251Z
URL:https://datatracker.ietf.org/meeting/109/materials/agenda-109-cose-00
DESCRIPTION:Session II\n
 \n
 Meetecho: https://meetings.conf.meetecho.com/ietf109/?group=cose&short=&item=1\n
 \n
 Agenda https://datatracker.ietf.org/meeting/109/materials/agenda-109-cose-00\n
 \n
 Session materials: https://datatracker.ietf.org/meeting/109/session/cose\n
 \n
 See in schedule: https://datatracker.ietf.org/meeting/109/agenda#row-109-2020-11-16-mon-1430-sec-cose\n
END:VEVENT
BEGIN:VEVENT
UID:ietf-109-13183-secdispatch
SUMMARY:secdispatch - Security Dispatch
LOCATION:Room 7
STATUS:CONFIRMED
CLASS:PUBLIC
DTSTART;TZID=Asia/Bangkok:20201116T160000
DTEND;TZID=Asia/Bangkok:20201116T180000
DTSTAMP:20201012T131312Z
URL:https://datatracker.ietf.org/meeting/109/materials/agenda-109-secdispatch-00
DESCRIPTION:Session III\n
 \n
 Meetecho: https://meetings.conf.meetecho.com/ietf109/?group=secdispatch&short=&item=1\n
 \n
 Agenda https://datatracker.ietf.org/meeting/109/materials/agenda-109-secdispatch-00\n
 \n
 Session materials: https://datatracker.ietf.org/meeting/109/session/secdispatch\n
 \n
 See in schedule: https://datatracker.ietf.org/meeting/109/agenda#row-109-2020-11-16-mon-1600-sec-secdispatch\n
END:VEVENT
BEGIN:VEVENT
UID:ietf-109-13175-gnap
SUMMARY:gnap - Grant Negotiation and Authorization Protocol
LOCATION:Room 7
STATUS:CONFIRMED
CLASS:PUBLIC
DTSTART;TZID=Asia/Bangkok:20201117T120000
DTEND;TZID=Asia/Bangkok:20201117T140000
DTSTAMP:20201012T131327Z
URL:https://datatracker.ietf.org/meeting/109/materials/agenda-109-gnap-00
DESCRIPTION:Session I\n
 \n
 Meetecho: https://meetings.conf.meetecho.com/ietf109/?group=gnap&short=&item=1\n
 \n
 Agenda https://datatracker.ietf.org/meeting/109/materials/agenda-109-gnap-00\n
 \n
 Session materials: https://datatracker.ietf.org/meeting/109/session/gnap\n
 \n
 See in schedule: https://datatracker.ietf.org/meeting/109/agenda#row-109-2020-11-17-tue-1200-sec-gnap\n
END:VEVENT
BEGIN:VEVENT
UID:ietf-109-13168-tls
SUMMARY:tls - Transport Layer Security
LOCATION:Room 6
STATUS:CONFIRMED
CLASS:PUBLIC
DTSTART;TZID=Asia/Bangkok:20201117T143000
DTEND;TZID=Asia/Bangkok:20201117T153000
DTSTAMP:20201012T131342Z
URL:https://datatracker.ietf.org/meeting/109/materials/agenda-109-tls-01
DESCRIPTION:Session II\n
 \n
 Meetecho: https://meetings.conf.meetecho.com/ietf109/?group=tls&short=&item=1\n
 \n
 Agenda https://datatracker.ietf.org/meeting/109/materials/agenda-109-tls-01\n
 \n
 Session materials: https://datatracker.ietf.org/meeting/109/session/tls\n
 \n
 See in schedule: https://datatracker.ietf.org/meeting/109/agenda#row-109-2020-11-17-tue-1430-sec-tls\n
END:VEVENT
BEGIN:VEVENT
UID:ietf-109-13161-ipsecme
SUMMARY:ipsecme - IP Security Maintenance and Extensions
LOCATION:Room 5
STATUS:CONFIRMED
CLASS:PUBLIC
DTSTART;TZID=Asia/Bangkok:20201117T160000
DTEND;TZID=Asia/Bangkok:20201117T180000
DTSTAMP:20201012T131354Z
URL:https://datatracker.ietf.org/meeting/109/materials/agenda-109-ipsecme-03
DESCRIPTION:Session III\n
 \n
 Meetecho: https://meetings.conf.meetecho.com/ietf109/?group=ipsecme&short=&item=1\n
 \n
 Agenda https://datatracker.ietf.org/meeting/109/materials/agenda-109-ipsecme-03\n
 \n
 Session materials: https://datatracker.ietf.org/meeting/109/session/ipsecme\n
 \n
 See in schedule: https://datatracker.ietf.org/meeting/109/agenda#row-109-2020-11-17-tue-1600-sec-ipsecme\n
END:VEVENT
BEGIN:VEVENT
UID:ietf-109-13160-lamps
SUMMARY:lamps - Limited Additional Mechanisms for PKIX and SMIME
LOCATION:Room 6
STATUS:CONFIRMED
CLASS:PUBLIC
DTSTART;TZID=Asia/Bangkok:20201117T160000
DTEND;TZID=Asia/Bangkok:20201117T180000
DTSTAMP:20201012T131354Z
URL:https://datatracker.ietf.org/meeting/109/materials/agenda-109-lamps-00
DESCRIPTION:Session III\n
 \n
 Meetecho: https://meetings.conf.meetecho.com/ietf109/?group=lamps&short=&item=1\n
 \n
 Agenda https://datatracker.ietf.org/meeting/109/materials/agenda-109-lamps-00\n
 \n
 Session materials: https://datatracker.ietf.org/meeting/109/session/lamps\n
 \n
 See in schedule: https://datatracker.ietf.org/meeting/109/agenda#row-109-2020-11-17-tue-1600-sec-lamps\n
END:VEVENT
BEGIN:VEVENT
UID:ietf-109-13159-rats
SUMMARY:rats - Remote ATtestation ProcedureS
LOCATION:Room 7
STATUS:CONFIRMED
CLASS:PUBLIC
DTSTART;TZID=Asia/Bangkok:20201117T160000
DTEND;TZID=Asia/Bangkok:20201117T180000
DTSTAMP:20201012T131354Z
URL:https://datatracker.ietf.org/meeting/109/materials/agenda-109-rats-01
DESCRIPTION:Session III\n
 \n
 Meetecho: https://meetings.conf.meetecho.com/ietf109/?group=rats&short=&item=1\n
 \n
 Agenda https://datatracker.ietf.org/meeting/109/materials/agenda-109-rats-01\n
 \n
 Session materials: https://datatracker.ietf.org/meeting/109/session/rats\n
 \n
 See in schedule: https://datatracker.ietf.org/meeting/109/agenda#row-109-2020-11-17-tue-1600-sec-rats\n
END:VEVENT
BEGIN:VEVENT
UID:ietf-109-13151-ace
SUMMARY:ace - Authentication and Authorization for Constrained Environments
LOCATION:Room 7
STATUS:CONFIRMED
CLASS:PUBLIC
DTSTART;TZID=Asia/Bangkok:20201118T120000
DTEND;TZID=Asia/Bangkok:20201118T140000
DTSTAMP:20201012T131408Z
URL:https://datatracker.ietf.org/meeting/109/materials/agenda-109-ace-00
DESCRIPTION:Session I\n
 \n
 Meetecho: https://meetings.conf.meetecho.com/ietf109/?group=ace&short=&item=1\n
 \n
 Agenda https://datatracker.ietf.org/meeting/109/materials/agenda-109-ace-00\n
 \n
 Session materials: https://datatracker.ietf.org/meeting/109/session/ace\n
 \n
 See in schedule: https://datatracker.ietf.org/meeting/109/agenda#row-109-2020-11-18-wed-1200-sec-ace\n
END:VEVENT
BEGIN:VEVENT
UID:ietf-109-13127-teep
SUMMARY:teep - Trusted Execution Environment Provisioning
LOCATION:Room 7
STATUS:CONFIRMED
CLASS:PUBLIC
DTSTART;TZID=Asia/Bangkok:20201118T143000
DTEND;TZID=Asia/Bangkok:20201118T153000
DTSTAMP:20201012T131758Z
URL:https://datatracker.ietf.org/meeting/109/materials/agenda-109-teep-01
DESCRIPTION:Session II\n
 \n
 Meetecho: https://meetings.conf.meetecho.com/ietf109/?group=teep&short=&item=1\n
 \n
 Agenda https://datatracker.ietf.org/meeting/109/materials/agenda-109-teep-01\n
 \n
 Session materials: https://datatracker.ietf.org/meeting/109/session/teep\n
 \n
 See in schedule: https://datatracker.ietf.org/meeting/109/agenda#row-109-2020-11-18-wed-1430-sec-teep\n
END:VEVENT
BEGIN:VEVENT
UID:ietf-109-13135-saag
SUMMARY:saag - Security Area Open Meeting
LOCATION:Room 7
STATUS:CONFIRMED
CLASS:PUBLIC
DTSTART;TZID=Asia/Bangkok:20201119T120000
DTEND;TZID=Asia/Bangkok:20201119T140000
DTSTAMP:20201012T131437Z
URL:https://datatracker.ietf.org/meeting/109/materials/agenda-109-saag-01
DESCRIPTION:Session I\n
 \n
 Meetecho: https://meetings.conf.meetecho.com/ietf109/?group=saag&short=&item=1\n
 \n
 Agenda https://datatracker.ietf.org/meeting/109/materials/agenda-109-saag-01\n
 \n
 Session materials: https://datatracker.ietf.org/meeting/109/session/saag\n
 \n
 See in schedule: https://datatracker.ietf.org/meeting/109/agenda#row-109-2020-11-19-thu-1200-sec-saag\n
END:VEVENT
BEGIN:VEVENT
UID:ietf-109-13209-acme
SUMMARY:acme - Automated Certificate Management Environment
LOCATION:Room 5
STATUS:CONFIRMED
CLASS:PUBLIC
DTSTART;TZID=Asia/Bangkok:20201119T143000
DTEND;TZID=Asia/Bangkok:20201119T153000
DTSTAMP:20201016T115518Z
URL:https://datatracker.ietf.org/meeting/109/materials/agenda-109-acme-02
DESCRIPTION:Session II\n
 \n
 Meetecho: https://meetings.conf.meetecho.com/ietf109/?group=acme&short=&item=1\n
 \n
 Agenda https://datatracker.ietf.org/meeting/109/materials/agenda-109-acme-02\n
 \n
 Session materials: https://datatracker.ietf.org/meeting/109/session/acme\n
 \n
 See in schedule: https://datatracker.ietf.org/meeting/109/agenda#row-109-2020-11-19-thu-1430-sec-acme\n
END:VEVENT
BEGIN:VEVENT
UID:ietf-109-13119-mls
SUMMARY:mls - Messaging Layer Security
LOCATION:Room 7
STATUS:CONFIRMED
CLASS:PUBLIC
DTSTART;TZID=Asia/Bangkok:20201119T160000
DTEND;TZID=Asia/Bangkok:20201119T180000
DTSTAMP:20201016T115531Z
URL:https://datatracker.ietf.org/meeting/109/materials/agenda-109-mls-00
DESCRIPTION:Session III\n
 \n
 Meetecho: https://meetings.conf.meetecho.com/ietf109/?group=mls&short=&item=1\n
 \n
 Agenda https://datatracker.ietf.org/meeting/109/materials/agenda-109-mls-00\n
 \n
 Session materials: https://datatracker.ietf.org/meeting/109/session/mls\n
 \n
 See in schedule: https://datatracker.ietf.org/meeting/109/agenda#row-109-2020-11-19-thu-1600-sec-mls\n
END:VEVENT
BEGIN:VEVENT
UID:ietf-109-13118-rats
SUMMARY:rats - Remote ATtestation ProcedureS
LOCATION:Room 8
STATUS:CANCELLED
CLASS:PUBLIC
DTSTART;TZID=Asia/Bangkok:20201119T160000
DTEND;TZID=Asia/Bangkok:20201119T180000
DTSTAMP:20201016T115531Z
URL:https://datatracker.ietf.org/meeting/109/materials/agenda-109-rats-01
DESCRIPTION:Session III\n
 \n
 Meetecho: https://meetings.conf.meetecho.com/ietf109/?group=rats&short=&item=2\n
 \n
 Agenda https://datatracker.ietf.org/meeting/109/materials/agenda-109-rats-01\n
 \n
 Session materials: https://datatracker.ietf.org/meeting/109/session/rats\n
 \n
 See in schedule: https://datatracker.ietf.org/meeting/109/agenda#row-109-2020-11-19-thu-1600-sec-rats\n
END:VEVENT
BEGIN:VEVENT
UID:ietf-109-13111-emu
SUMMARY:emu - EAP Method Update
LOCATION:Room 7
STATUS:CONFIRMED
CLASS:PUBLIC
DTSTART;TZID=Asia/Bangkok:20201120T120000
DTEND;TZID=Asia/Bangkok:20201120T140000
DTSTAMP:20201012T131517Z
URL:https://datatracker.ietf.org/meeting/109/materials/agenda-109-emu-02
DESCRIPTION:Session I\n
 \n
 Meetecho: https://meetings.conf.meetecho.com/ietf109/?group=emu&short=&item=1\n
 \n
 Agenda https://datatracker.ietf.org/meeting/109/materials/agenda-109-emu-02\n
 \n
 Session materials: https://datatracker.ietf.org/meeting/109/session/emu\n
 \n
 See in schedule: https://datatracker.ietf.org/meeting/109/agenda#row-109-2020-11-20-fri-1200-sec-emu\n
END:VEVENT
BEGIN:VEVENT
UID:ietf-109-13104-suit
SUMMARY:suit - Software Updates for Internet of Things
LOCATION:Room 6
STATUS:CONFIRMED
CLASS:PUBLIC
DTSTART;TZID=Asia/Bangkok:20201120T143000
DTEND;TZID=Asia/Bangkok:20201120T153000
DTSTAMP:20201012T131529Z
URL:https://datatracker.ietf.org/meeting/109/materials/agenda-109-suit-00
DESCRIPTION:Session II\n
 \n
 Meetecho: https://meetings.conf.meetecho.com/ietf109/?group=suit&short=&item=1\n
 \n
 Agenda https://datatracker.ietf.org/meeting/109/materials/agenda-109-suit-00\n
 \n
 Session materials: https://datatracker.ietf.org/meeting/109/session/suit\n
 \n
 See in schedule: https://datatracker.ietf.org/meeting/109/agenda#row-109-2020-11-20-fri-1430-sec-suit\n
END:VEVENT
END:VCALENDAR
