BEGIN:VCALENDAR
VERSION:2.0
METHOD:PUBLISH
PRODID:-//IETF//datatracker.ietf.org ical agenda//EN
BEGIN:VTIMEZONE
TZID:Asia/Bangkok
X-LIC-LOCATION:Asia/Bangkok
BEGIN:STANDARD
TZOFFSETFROM:+064204
TZOFFSETTO:+064204
TZNAME:BMT
DTSTART:18800101T000000
RDATE:18800101T000000
END:STANDARD
BEGIN:STANDARD
TZOFFSETFROM:+064204
TZOFFSETTO:+0700
TZNAME:ICT
DTSTART:19200401T000000
RDATE:19200401T000000
END:STANDARD
END:VTIMEZONE
BEGIN:VEVENT
UID:ietf-109-13198-ippm
SUMMARY:ippm - IP Performance Measurement
LOCATION:Room 8
STATUS:CONFIRMED
CLASS:PUBLIC
DTSTART;TZID=Asia/Bangkok:20201116T120000
DTEND;TZID=Asia/Bangkok:20201116T140000
DTSTAMP:20201012T131229Z
URL:https://datatracker.ietf.org/meeting/109/materials/agenda-109-ippm-00
DESCRIPTION:Session I\n
 \n
 Meetecho: https://meetings.conf.meetecho.com/ietf109/?group=ippm&short=&item=1\n
 \n
 Agenda https://datatracker.ietf.org/meeting/109/materials/agenda-109-ippm-00\n
 \n
 Session materials: https://datatracker.ietf.org/meeting/109/session/ippm\n
 \n
 See in schedule: https://datatracker.ietf.org/meeting/109/agenda#row-109-2020-11-16-mon-1200-tsv-ippm\n
END:VEVENT
BEGIN:VEVENT
UID:ietf-109-13182-tsvwg
SUMMARY:tsvwg - Transport Area Working Group
LOCATION:Room 8
STATUS:CONFIRMED
CLASS:PUBLIC
DTSTART;TZID=Asia/Bangkok:20201116T160000
DTEND;TZID=Asia/Bangkok:20201116T180000
DTSTAMP:20201012T131312Z
URL:https://datatracker.ietf.org/meeting/109/materials/agenda-109-tsvwg-07
DESCRIPTION:Session III\n
 \n
 Meetecho: https://meetings.conf.meetecho.com/ietf109/?group=tsvwg&short=&item=1\n
 \n
 Agenda https://datatracker.ietf.org/meeting/109/materials/agenda-109-tsvwg-07\n
 \n
 Session materials: https://datatracker.ietf.org/meeting/109/session/tsvwg\n
 \n
 See in schedule: https://datatracker.ietf.org/meeting/109/agenda#row-109-2020-11-16-mon-1600-tsv-tsvwg\n
END:VEVENT
BEGIN:VEVENT
UID:ietf-109-13174-tcpm
SUMMARY:tcpm - TCP Maintenance and Minor Extensions
LOCATION:Room 8
STATUS:CONFIRMED
CLASS:PUBLIC
DTSTART;TZID=Asia/Bangkok:20201117T120000
DTEND;TZID=Asia/Bangkok:20201117T140000
DTSTAMP:20201012T131327Z
URL:https://datatracker.ietf.org/meeting/109/materials/agenda-109-tcpm-03
DESCRIPTION:Session I\n
 \n
 Meetecho: https://meetings.conf.meetecho.com/ietf109/?group=tcpm&short=&item=1\n
 \n
 Agenda https://datatracker.ietf.org/meeting/109/materials/agenda-109-tcpm-03\n
 \n
 Session materials: https://datatracker.ietf.org/meeting/109/session/tcpm\n
 \n
 See in schedule: https://datatracker.ietf.org/meeting/109/agenda#row-109-2020-11-17-tue-1200-tsv-tcpm\n
END:VEVENT
BEGIN:VEVENT
UID:ietf-109-13150-quic
SUMMARY:quic - QUIC
LOCATION:Room 8
STATUS:CONFIRMED
CLASS:PUBLIC
DTSTART;TZID=Asia/Bangkok:20201118T120000
DTEND;TZID=Asia/Bangkok:20201118T140000
DTSTAMP:20201012T131408Z
URL:https://datatracker.ietf.org/meeting/109/materials/agenda-109-quic-00
DESCRIPTION:Session I\n
 \n
 Meetecho: https://meetings.conf.meetecho.com/ietf109/?group=quic&short=&item=1\n
 \n
 Agenda https://datatracker.ietf.org/meeting/109/materials/agenda-109-quic-00\n
 \n
 Session materials: https://datatracker.ietf.org/meeting/109/session/quic\n
 \n
 See in schedule: https://datatracker.ietf.org/meeting/109/agenda#row-109-2020-11-18-wed-1200-tsv-quic\n
END:VEVENT
BEGIN:VEVENT
UID:ietf-109-13126-tsvwg
SUMMARY:tsvwg - Transport Area Working Group
LOCATION:Room 8
STATUS:CONFIRMED
CLASS:PUBLIC
DTSTART;TZID=Asia/Bangkok:20201118T143000
DTEND;TZID=Asia/Bangkok:20201118T153000
DTSTAMP:20201012T131758Z
URL:https://datatracker.ietf.org/meeting/109/materials/agenda-109-tsvwg-07
DESCRIPTION:Session II\n
 \n
 Meetecho: https://meetings.conf.meetecho.com/ietf109/?group=tsvwg&short=&item=2\n
 \n
 Agenda https://datatracker.ietf.org/meeting/109/materials/agenda-109-tsvwg-07\n
 \n
 Session materials: https://datatracker.ietf.org/meeting/109/session/tsvwg\n
 \n
 See in schedule: https://datatracker.ietf.org/meeting/109/agenda#row-109-2020-11-18-wed-1430-tsv-tsvwg\n
END:VEVENT
BEGIN:VEVENT
UID:ietf-109-13134-alto
SUMMARY:alto - Application-Layer Traffic Optimization
LOCATION:Room 8
STATUS:CONFIRMED
CLASS:PUBLIC
DTSTART;TZID=Asia/Bangkok:20201119T120000
DTEND;TZID=Asia/Bangkok:20201119T140000
DTSTAMP:20201012T131437Z
URL:https://datatracker.ietf.org/meeting/109/materials/agenda-109-alto-00
DESCRIPTION:Session I\n
 \n
 Meetecho: https://meetings.conf.meetecho.com/ietf109/?group=alto&short=&item=1\n
 \n
 Agenda https://datatracker.ietf.org/meeting/109/materials/agenda-109-alto-00\n
 \n
 Session materials: https://datatracker.ietf.org/meeting/109/session/alto\n
 \n
 See in schedule: https://datatracker.ietf.org/meeting/109/agenda#row-109-2020-11-19-thu-1200-tsv-alto\n
END:VEVENT
BEGIN:VEVENT
UID:ietf-109-13110-dtn
SUMMARY:dtn - Delay/Disruption Tolerant Networking
LOCATION:Room 8
STATUS:CONFIRMED
CLASS:PUBLIC
DTSTART;TZID=Asia/Bangkok:20201120T120000
DTEND;TZID=Asia/Bangkok:20201120T140000
DTSTAMP:20201012T131517Z
URL:https://datatracker.ietf.org/meeting/109/materials/agenda-109-dtn-04
DESCRIPTION:Session I\n
 \n
 Meetecho: https://meetings.conf.meetecho.com/ietf109/?group=dtn&short=&item=1\n
 \n
 Agenda https://datatracker.ietf.org/meeting/109/materials/agenda-109-dtn-04\n
 \n
 Session materials: https://datatracker.ietf.org/meeting/109/session/dtn\n
 \n
 See in schedule: https://datatracker.ietf.org/meeting/109/agenda#row-109-2020-11-20-fri-1200-tsv-dtn\n
END:VEVENT
BEGIN:VEVENT
UID:ietf-109-13103-tsvarea
SUMMARY:tsvarea - Transport Area Open Meeting
LOCATION:Room 7
STATUS:CONFIRMED
CLASS:PUBLIC
DTSTART;TZID=Asia/Bangkok:20201120T143000
DTEND;TZID=Asia/Bangkok:20201120T153000
DTSTAMP:20201012T131529Z
URL:https://datatracker.ietf.org/meeting/109/materials/agenda-109-tsvarea-00
DESCRIPTION:Session II\n
 \n
 Meetecho: https://meetings.conf.meetecho.com/ietf109/?group=tsvarea&short=&item=1\n
 \n
 Agenda https://datatracker.ietf.org/meeting/109/materials/agenda-109-tsvarea-00\n
 \n
 Session materials: https://datatracker.ietf.org/meeting/109/session/tsvarea\n
 \n
 See in schedule: https://datatracker.ietf.org/meeting/109/agenda#row-109-2020-11-20-fri-1430-tsv-tsvarea\n
END:VEVENT
BEGIN:VEVENT
UID:ietf-109-13094-masque
SUMMARY:masque - Multiplexed Application Substrate over QUIC Encryption
LOCATION:Room 8
STATUS:CONFIRMED
CLASS:PUBLIC
DTSTART;TZID=Asia/Bangkok:20201120T160000
DTEND;TZID=Asia/Bangkok:20201120T180000
DTSTAMP:20201012T131548Z
URL:https://datatracker.ietf.org/meeting/109/materials/agenda-109-masque-04
DESCRIPTION:Session III\n
 \n
 Meetecho: https://meetings.conf.meetecho.com/ietf109/?group=masque&short=&item=1\n
 \n
 Agenda https://datatracker.ietf.org/meeting/109/materials/agenda-109-masque-04\n
 \n
 Session materials: https://datatracker.ietf.org/meeting/109/session/masque\n
 \n
 See in schedule: https://datatracker.ietf.org/meeting/109/agenda#row-109-2020-11-20-fri-1600-tsv-masque\n
END:VEVENT
END:VCALENDAR
