BEGIN:VCALENDAR
VERSION:2.0
METHOD:PUBLISH
PRODID:-//IETF//datatracker.ietf.org ical agenda//EN
BEGIN:VTIMEZONE
TZID:Asia/Bangkok
X-LIC-LOCATION:Asia/Bangkok
BEGIN:STANDARD
TZOFFSETFROM:+064204
TZOFFSETTO:+064204
TZNAME:BMT
DTSTART:18800101T000000
RDATE:18800101T000000
END:STANDARD
BEGIN:STANDARD
TZOFFSETFROM:+064204
TZOFFSETTO:+0700
TZNAME:ICT
DTSTART:19200401T000000
RDATE:19200401T000000
END:STANDARD
END:VTIMEZONE
BEGIN:VEVENT
UID:ietf-109-13163-gaia
SUMMARY:gaia - Global Access to the Internet for All
LOCATION:Room 3
STATUS:CANCELLED
CLASS:PUBLIC
DTSTART;TZID=Asia/Bangkok:20201117T160000
DTEND;TZID=Asia/Bangkok:20201117T180000
DTSTAMP:20201012T131354Z
DESCRIPTION:Session III\n
 \n
 Meetecho: https://meetings.conf.meetecho.com/ietf109/?group=gaia&short=&item=1\n
 \n
 Session materials: https://datatracker.ietf.org/meeting/109/session/gaia\n
 \n
 See in schedule: https://datatracker.ietf.org/meeting/109/agenda#row-109-2020-11-17-tue-1600-irtf-gaia\n
END:VEVENT
END:VCALENDAR
