BEGIN:VCALENDAR
VERSION:2.0
METHOD:PUBLISH
PRODID:-//IETF//datatracker.ietf.org ical agenda//EN
BEGIN:VTIMEZONE
TZID:Europe/Prague
X-LIC-LOCATION:Europe/Prague
BEGIN:DAYLIGHT
TZOFFSETFROM:+0100
TZOFFSETTO:+0200
TZNAME:CEST
DTSTART:19810329T020000
RRULE:FREQ=YEARLY;BYMONTH=3;BYDAY=-1SU
END:DAYLIGHT
BEGIN:STANDARD
TZOFFSETFROM:+0200
TZOFFSETTO:+0100
TZNAME:CET
DTSTART:19961027T030000
RRULE:FREQ=YEARLY;BYMONTH=10;BYDAY=-1SU
END:STANDARD
BEGIN:STANDARD
TZOFFSETFROM:+005744
TZOFFSETTO:+005744
TZNAME:PMT
DTSTART:18500101T000000
RDATE:18500101T000000
END:STANDARD
BEGIN:STANDARD
TZOFFSETFROM:+005744
TZOFFSETTO:+0100
TZNAME:CET
DTSTART:18911001T000000
RDATE:18911001T000000
END:STANDARD
BEGIN:DAYLIGHT
TZOFFSETFROM:+0100
TZOFFSETTO:+0200
TZNAME:CEST
DTSTART:19160430T230000
RDATE:19160430T230000
RDATE:19170416T020000
RDATE:19180415T020000
RDATE:19400401T020000
RDATE:19430329T020000
RDATE:19440403T020000
RDATE:19450408T020000
RDATE:19460506T020000
RDATE:19470420T020000
RDATE:19480418T020000
RDATE:19490409T020000
RDATE:19790401T020000
RDATE:19800406T020000
END:DAYLIGHT
BEGIN:STANDARD
TZOFFSETFROM:+0200
TZOFFSETTO:+0100
TZNAME:CET
DTSTART:19161001T010000
RDATE:19161001T010000
RDATE:19170917T030000
RDATE:19180916T030000
RDATE:19421102T030000
RDATE:19431004T030000
RDATE:19440917T030000
RDATE:19451118T030000
RDATE:19461006T030000
RDATE:19471005T030000
RDATE:19481003T030000
RDATE:19491002T030000
RDATE:19790930T030000
RDATE:19800928T030000
RDATE:19810927T030000
RDATE:19820926T030000
RDATE:19830925T030000
RDATE:19840930T030000
RDATE:19850929T030000
RDATE:19860928T030000
RDATE:19870927T030000
RDATE:19880925T030000
RDATE:19890924T030000
RDATE:19900930T030000
RDATE:19910929T030000
RDATE:19920927T030000
RDATE:19930926T030000
RDATE:19940925T030000
RDATE:19950924T030000
END:STANDARD
BEGIN:STANDARD
TZOFFSETFROM:+0100
TZOFFSETTO:+0100
TZNAME:CET
DTSTART:19790101T000000
RDATE:19790101T000000
END:STANDARD
END:VTIMEZONE
BEGIN:VEVENT
UID:ietf-110-13485-dispatch
SUMMARY:dispatch - Dispatch (Joint with ARTAREA)
LOCATION:Room 1
STATUS:CONFIRMED
CLASS:PUBLIC
DTSTART;TZID=Europe/Prague:20210308T130000
DTEND;TZID=Europe/Prague:20210308T150000
DTSTAMP:20210205T124238Z
URL:https://datatracker.ietf.org/meeting/110/materials/agenda-110-dispatch-01
DESCRIPTION:Session I\n
 Note: Joint with ARTAREA\n
 \n
 Meetecho: https://meetings.conf.meetecho.com/ietf110/?group=dispatch&short=&item=1\n
 \n
 Agenda https://datatracker.ietf.org/meeting/110/materials/agenda-110-dispatch-01\n
 \n
 Session materials: https://datatracker.ietf.org/meeting/110/session/dispatch\n
 \n
 See in schedule: https://datatracker.ietf.org/meeting/110/agenda#row-110-2021-03-08-mon-1300-art-dispatch\n
END:VEVENT
BEGIN:VEVENT
UID:ietf-110-13477-cbor
SUMMARY:cbor - Concise Binary Object Representation Maintenance and Extensions
LOCATION:Room 1
STATUS:CONFIRMED
CLASS:PUBLIC
DTSTART;TZID=Europe/Prague:20210308T153000
DTEND;TZID=Europe/Prague:20210308T163000
DTSTAMP:20210205T124246Z
URL:https://datatracker.ietf.org/meeting/110/materials/agenda-110-cbor-00
DESCRIPTION:Session II\n
 \n
 Meetecho: https://meetings.conf.meetecho.com/ietf110/?group=cbor&short=&item=1\n
 \n
 Agenda https://datatracker.ietf.org/meeting/110/materials/agenda-110-cbor-00\n
 \n
 Session materials: https://datatracker.ietf.org/meeting/110/session/cbor\n
 \n
 See in schedule: https://datatracker.ietf.org/meeting/110/agenda#row-110-2021-03-08-mon-1530-art-cbor\n
END:VEVENT
BEGIN:VEVENT
UID:ietf-110-13469-asap
SUMMARY:asap - Automatic SIP trunking And Peering
LOCATION:Room 1
STATUS:CONFIRMED
CLASS:PUBLIC
DTSTART;TZID=Europe/Prague:20210308T170000
DTEND;TZID=Europe/Prague:20210308T190000
DTSTAMP:20210205T124253Z
URL:https://datatracker.ietf.org/meeting/110/materials/agenda-110-asap-00
DESCRIPTION:Session III\n
 \n
 Meetecho: https://meetings.conf.meetecho.com/ietf110/?group=asap&short=&item=1\n
 \n
 Agenda https://datatracker.ietf.org/meeting/110/materials/agenda-110-asap-00\n
 \n
 Session materials: https://datatracker.ietf.org/meeting/110/session/asap\n
 \n
 See in schedule: https://datatracker.ietf.org/meeting/110/agenda#row-110-2021-03-08-mon-1700-art-asap\n
END:VEVENT
BEGIN:VEVENT
UID:ietf-110-13468-core
SUMMARY:core - Constrained RESTful Environments
LOCATION:Room 2
STATUS:CONFIRMED
CLASS:PUBLIC
DTSTART;TZID=Europe/Prague:20210308T170000
DTEND;TZID=Europe/Prague:20210308T190000
DTSTAMP:20210205T124253Z
URL:https://datatracker.ietf.org/meeting/110/materials/agenda-110-core-sessb-00
DESCRIPTION:Session III\n
 \n
 Meetecho: https://meetings.conf.meetecho.com/ietf110/?group=core&short=&item=1\n
 \n
 Agenda https://datatracker.ietf.org/meeting/110/materials/agenda-110-core-sessb-00\n
 \n
 Session materials: https://datatracker.ietf.org/meeting/110/session/core\n
 \n
 See in schedule: https://datatracker.ietf.org/meeting/110/agenda#row-110-2021-03-08-mon-1700-art-core\n
END:VEVENT
BEGIN:VEVENT
UID:ietf-110-13467-webtrans
SUMMARY:webtrans - WebTransport
LOCATION:Room 3
STATUS:CONFIRMED
CLASS:PUBLIC
DTSTART;TZID=Europe/Prague:20210308T170000
DTEND;TZID=Europe/Prague:20210308T190000
DTSTAMP:20210205T124253Z
URL:https://datatracker.ietf.org/meeting/110/materials/agenda-110-webtrans-01
DESCRIPTION:Session III\n
 \n
 Meetecho: https://meetings.conf.meetecho.com/ietf110/?group=webtrans&short=&item=1\n
 \n
 Agenda https://datatracker.ietf.org/meeting/110/materials/agenda-110-webtrans-01\n
 \n
 Session materials: https://datatracker.ietf.org/meeting/110/session/webtrans\n
 \n
 See in schedule: https://datatracker.ietf.org/meeting/110/agenda#row-110-2021-03-08-mon-1700-art-webtrans\n
END:VEVENT
BEGIN:VEVENT
UID:ietf-110-13461-wish
SUMMARY:wish - WebRTC Ingest Signaling over HTTPS
LOCATION:Room 1
STATUS:CONFIRMED
CLASS:PUBLIC
DTSTART;TZID=Europe/Prague:20210309T130000
DTEND;TZID=Europe/Prague:20210309T150000
DTSTAMP:20210205T124303Z
URL:https://datatracker.ietf.org/meeting/110/materials/agenda-110-wish-00
DESCRIPTION:Session I\n
 \n
 Meetecho: https://meetings.conf.meetecho.com/ietf110/?group=wish&short=&item=1\n
 \n
 Agenda https://datatracker.ietf.org/meeting/110/materials/agenda-110-wish-00\n
 \n
 Session materials: https://datatracker.ietf.org/meeting/110/session/wish\n
 \n
 See in schedule: https://datatracker.ietf.org/meeting/110/agenda#row-110-2021-03-09-tue-1300-art-wish\n
END:VEVENT
BEGIN:VEVENT
UID:ietf-110-13452-sframe
SUMMARY:sframe - Secure Media Frames
LOCATION:Room 2
STATUS:CONFIRMED
CLASS:PUBLIC
DTSTART;TZID=Europe/Prague:20210309T153000
DTEND;TZID=Europe/Prague:20210309T163000
DTSTAMP:20210205T124312Z
URL:https://datatracker.ietf.org/meeting/110/materials/agenda-110-sframe-03
DESCRIPTION:Session II\n
 \n
 Meetecho: https://meetings.conf.meetecho.com/ietf110/?group=sframe&short=&item=1\n
 \n
 Agenda https://datatracker.ietf.org/meeting/110/materials/agenda-110-sframe-03\n
 \n
 Session materials: https://datatracker.ietf.org/meeting/110/session/sframe\n
 \n
 See in schedule: https://datatracker.ietf.org/meeting/110/agenda#row-110-2021-03-09-tue-1530-art-sframe\n
END:VEVENT
BEGIN:VEVENT
UID:ietf-110-13445-regext
SUMMARY:regext - Registration Protocols Extensions
LOCATION:Room 1
STATUS:CONFIRMED
CLASS:PUBLIC
DTSTART;TZID=Europe/Prague:20210309T170000
DTEND;TZID=Europe/Prague:20210309T190000
DTSTAMP:20210205T124319Z
URL:https://datatracker.ietf.org/meeting/110/materials/agenda-110-regext-02
DESCRIPTION:Session III\n
 \n
 Meetecho: https://meetings.conf.meetecho.com/ietf110/?group=regext&short=&item=1\n
 \n
 Agenda https://datatracker.ietf.org/meeting/110/materials/agenda-110-regext-02\n
 \n
 Session materials: https://datatracker.ietf.org/meeting/110/session/regext\n
 \n
 See in schedule: https://datatracker.ietf.org/meeting/110/agenda#row-110-2021-03-09-tue-1700-art-regext\n
END:VEVENT
BEGIN:VEVENT
UID:ietf-110-13437-emailcore
SUMMARY:emailcore - Revision of core Email specifications
LOCATION:Room 1
STATUS:CONFIRMED
CLASS:PUBLIC
DTSTART;TZID=Europe/Prague:20210310T130000
DTEND;TZID=Europe/Prague:20210310T150000
DTSTAMP:20210205T124357Z
URL:https://datatracker.ietf.org/meeting/110/materials/agenda-110-emailcore-00
DESCRIPTION:Session I\n
 \n
 Meetecho: https://meetings.conf.meetecho.com/ietf110/?group=emailcore&short=&item=1\n
 \n
 Agenda https://datatracker.ietf.org/meeting/110/materials/agenda-110-emailcore-00\n
 \n
 Session materials: https://datatracker.ietf.org/meeting/110/session/emailcore\n
 \n
 See in schedule: https://datatracker.ietf.org/meeting/110/agenda#row-110-2021-03-10-wed-1300-art-emailcore\n
END:VEVENT
BEGIN:VEVENT
UID:ietf-110-13436-jsonpath
SUMMARY:jsonpath - JSON Path
LOCATION:Room 2
STATUS:CONFIRMED
CLASS:PUBLIC
DTSTART;TZID=Europe/Prague:20210310T130000
DTEND;TZID=Europe/Prague:20210310T150000
DTSTAMP:20210205T124357Z
URL:https://datatracker.ietf.org/meeting/110/materials/agenda-110-jsonpath-00
DESCRIPTION:Session I\n
 \n
 Meetecho: https://meetings.conf.meetecho.com/ietf110/?group=jsonpath&short=&item=1\n
 \n
 Agenda https://datatracker.ietf.org/meeting/110/materials/agenda-110-jsonpath-00\n
 \n
 Session materials: https://datatracker.ietf.org/meeting/110/session/jsonpath\n
 \n
 See in schedule: https://datatracker.ietf.org/meeting/110/agenda#row-110-2021-03-10-wed-1300-art-jsonpath\n
END:VEVENT
BEGIN:VEVENT
UID:ietf-110-13413-calext
SUMMARY:calext - Calendaring Extensions
LOCATION:Room 1
STATUS:CONFIRMED
CLASS:PUBLIC
DTSTART;TZID=Europe/Prague:20210310T153000
DTEND;TZID=Europe/Prague:20210310T163000
DTSTAMP:20210205T135511Z
URL:https://datatracker.ietf.org/meeting/110/materials/agenda-110-calext-00
DESCRIPTION:Session II\n
 \n
 Meetecho: https://meetings.conf.meetecho.com/ietf110/?group=calext&short=&item=1\n
 \n
 Agenda https://datatracker.ietf.org/meeting/110/materials/agenda-110-calext-00\n
 \n
 Session materials: https://datatracker.ietf.org/meeting/110/session/calext\n
 \n
 See in schedule: https://datatracker.ietf.org/meeting/110/agenda#row-110-2021-03-10-wed-1530-art-calext\n
END:VEVENT
BEGIN:VEVENT
UID:ietf-110-13412-dmarc
SUMMARY:dmarc - Domain-based Message Authentication, Reporting & Conformance
LOCATION:Room 2
STATUS:CANCELLED
CLASS:PUBLIC
DTSTART;TZID=Europe/Prague:20210310T153000
DTEND;TZID=Europe/Prague:20210310T163000
DTSTAMP:20210205T135511Z
DESCRIPTION:Session II\n
 \n
 Meetecho: https://meetings.conf.meetecho.com/ietf110/?group=dmarc&short=&item=1\n
 \n
 Session materials: https://datatracker.ietf.org/meeting/110/session/dmarc\n
 \n
 See in schedule: https://datatracker.ietf.org/meeting/110/agenda#row-110-2021-03-10-wed-1530-art-dmarc\n
END:VEVENT
BEGIN:VEVENT
UID:ietf-110-13411-rum
SUMMARY:rum - Relay User Machine
LOCATION:Room 3
STATUS:CONFIRMED
CLASS:PUBLIC
DTSTART;TZID=Europe/Prague:20210310T153000
DTEND;TZID=Europe/Prague:20210310T163000
DTSTAMP:20210205T135511Z
URL:https://datatracker.ietf.org/meeting/110/materials/agenda-110-rum-01
DESCRIPTION:Session II\n
 \n
 Meetecho: https://meetings.conf.meetecho.com/ietf110/?group=rum&short=&item=1\n
 \n
 Agenda https://datatracker.ietf.org/meeting/110/materials/agenda-110-rum-01\n
 \n
 Session materials: https://datatracker.ietf.org/meeting/110/session/rum\n
 \n
 See in schedule: https://datatracker.ietf.org/meeting/110/agenda#row-110-2021-03-10-wed-1530-art-rum\n
END:VEVENT
BEGIN:VEVENT
UID:ietf-110-13420-asdf
SUMMARY:asdf - A Semantic Definition Format for Data and Interactions of Things
LOCATION:Room 2
STATUS:CONFIRMED
CLASS:PUBLIC
DTSTART;TZID=Europe/Prague:20210311T130000
DTEND;TZID=Europe/Prague:20210311T150000
DTSTAMP:20210205T124636Z
URL:https://datatracker.ietf.org/meeting/110/materials/agenda-110-asdf-01
DESCRIPTION:Session I\n
 \n
 Meetecho: https://meetings.conf.meetecho.com/ietf110/?group=asdf&short=&item=1\n
 \n
 Agenda https://datatracker.ietf.org/meeting/110/materials/agenda-110-asdf-01\n
 \n
 Session materials: https://datatracker.ietf.org/meeting/110/session/asdf\n
 \n
 See in schedule: https://datatracker.ietf.org/meeting/110/agenda#row-110-2021-03-11-thu-1300-art-asdf\n
END:VEVENT
BEGIN:VEVENT
UID:ietf-110-13421-avtcore
SUMMARY:avtcore - Audio/Video Transport Core Maintenance
LOCATION:Room 1
STATUS:CONFIRMED
CLASS:PUBLIC
DTSTART;TZID=Europe/Prague:20210311T130000
DTEND;TZID=Europe/Prague:20210311T150000
DTSTAMP:20210205T124636Z
URL:https://datatracker.ietf.org/meeting/110/materials/agenda-110-avtcore-06
DESCRIPTION:Session I\n
 \n
 Meetecho: https://meetings.conf.meetecho.com/ietf110/?group=avtcore&short=&item=1\n
 \n
 Agenda https://datatracker.ietf.org/meeting/110/materials/agenda-110-avtcore-06\n
 \n
 Session materials: https://datatracker.ietf.org/meeting/110/session/avtcore\n
 \n
 See in schedule: https://datatracker.ietf.org/meeting/110/agenda#row-110-2021-03-11-thu-1300-art-avtcore\n
END:VEVENT
BEGIN:VEVENT
UID:ietf-110-13405-jmap
SUMMARY:jmap - JSON Mail Access Protocol
LOCATION:Room 1
STATUS:CONFIRMED
CLASS:PUBLIC
DTSTART;TZID=Europe/Prague:20210311T170000
DTEND;TZID=Europe/Prague:20210311T190000
DTSTAMP:20210205T124552Z
URL:https://datatracker.ietf.org/meeting/110/materials/agenda-110-jmap-00
DESCRIPTION:Session III\n
 \n
 Meetecho: https://meetings.conf.meetecho.com/ietf110/?group=jmap&short=&item=1\n
 \n
 Agenda https://datatracker.ietf.org/meeting/110/materials/agenda-110-jmap-00\n
 \n
 Session materials: https://datatracker.ietf.org/meeting/110/session/jmap\n
 \n
 See in schedule: https://datatracker.ietf.org/meeting/110/agenda#row-110-2021-03-11-thu-1700-art-jmap\n
END:VEVENT
BEGIN:VEVENT
UID:ietf-110-13397-core
SUMMARY:core - Constrained RESTful Environments
LOCATION:Room 1
STATUS:CONFIRMED
CLASS:PUBLIC
DTSTART;TZID=Europe/Prague:20210312T130000
DTEND;TZID=Europe/Prague:20210312T150000
DTSTAMP:20210205T124526Z
URL:https://datatracker.ietf.org/meeting/110/materials/agenda-110-core-sessa-00
DESCRIPTION:Session I\n
 \n
 Meetecho: https://meetings.conf.meetecho.com/ietf110/?group=core&short=&item=2\n
 \n
 Agenda https://datatracker.ietf.org/meeting/110/materials/agenda-110-core-sessa-00\n
 \n
 Session materials: https://datatracker.ietf.org/meeting/110/session/core\n
 \n
 See in schedule: https://datatracker.ietf.org/meeting/110/agenda#row-110-2021-03-12-fri-1300-art-core\n
END:VEVENT
BEGIN:VEVENT
UID:ietf-110-13396-rtcweb
SUMMARY:rtcweb - Real-Time Communication in WEB-browsers
LOCATION:Room 2
STATUS:CONFIRMED
CLASS:PUBLIC
DTSTART;TZID=Europe/Prague:20210312T130000
DTEND;TZID=Europe/Prague:20210312T150000
DTSTAMP:20210205T124526Z
URL:https://datatracker.ietf.org/meeting/110/materials/agenda-110-rtcweb-03
DESCRIPTION:Session I\n
 \n
 Meetecho: https://meetings.conf.meetecho.com/ietf110/?group=rtcweb&short=&item=1\n
 \n
 Agenda https://datatracker.ietf.org/meeting/110/materials/agenda-110-rtcweb-03\n
 \n
 Session materials: https://datatracker.ietf.org/meeting/110/session/rtcweb\n
 \n
 See in schedule: https://datatracker.ietf.org/meeting/110/agenda#row-110-2021-03-12-fri-1300-art-rtcweb\n
END:VEVENT
BEGIN:VEVENT
UID:ietf-110-13389-extra
SUMMARY:extra - Email mailstore and eXtensions To Revise or Amend
LOCATION:Room 1
STATUS:CONFIRMED
CLASS:PUBLIC
DTSTART;TZID=Europe/Prague:20210312T153000
DTEND;TZID=Europe/Prague:20210312T163000
DTSTAMP:20210205T124534Z
URL:https://datatracker.ietf.org/meeting/110/materials/agenda-110-extra-00
DESCRIPTION:Session II\n
 \n
 Meetecho: https://meetings.conf.meetecho.com/ietf110/?group=extra&short=&item=1\n
 \n
 Agenda https://datatracker.ietf.org/meeting/110/materials/agenda-110-extra-00\n
 \n
 Session materials: https://datatracker.ietf.org/meeting/110/session/extra\n
 \n
 See in schedule: https://datatracker.ietf.org/meeting/110/agenda#row-110-2021-03-12-fri-1530-art-extra\n
END:VEVENT
BEGIN:VEVENT
UID:ietf-110-13388-stir
SUMMARY:stir - Secure Telephone Identity Revisited
LOCATION:Room 2
STATUS:CONFIRMED
CLASS:PUBLIC
DTSTART;TZID=Europe/Prague:20210312T153000
DTEND;TZID=Europe/Prague:20210312T163000
DTSTAMP:20210205T124534Z
URL:https://datatracker.ietf.org/meeting/110/materials/agenda-110-stir-00
DESCRIPTION:Session II\n
 \n
 Meetecho: https://meetings.conf.meetecho.com/ietf110/?group=stir&short=&item=1\n
 \n
 Agenda https://datatracker.ietf.org/meeting/110/materials/agenda-110-stir-00\n
 \n
 Session materials: https://datatracker.ietf.org/meeting/110/session/stir\n
 \n
 See in schedule: https://datatracker.ietf.org/meeting/110/agenda#row-110-2021-03-12-fri-1530-art-stir\n
END:VEVENT
BEGIN:VEVENT
UID:ietf-110-13387-wpack
SUMMARY:wpack - Web Packaging
LOCATION:Room 3
STATUS:CONFIRMED
CLASS:PUBLIC
DTSTART;TZID=Europe/Prague:20210312T153000
DTEND;TZID=Europe/Prague:20210312T163000
DTSTAMP:20210205T124534Z
URL:https://datatracker.ietf.org/meeting/110/materials/agenda-110-wpack-01
DESCRIPTION:Session II\n
 \n
 Meetecho: https://meetings.conf.meetecho.com/ietf110/?group=wpack&short=&item=1\n
 \n
 Agenda https://datatracker.ietf.org/meeting/110/materials/agenda-110-wpack-01\n
 \n
 Session materials: https://datatracker.ietf.org/meeting/110/session/wpack\n
 \n
 See in schedule: https://datatracker.ietf.org/meeting/110/agenda#row-110-2021-03-12-fri-1530-art-wpack\n
END:VEVENT
BEGIN:VEVENT
UID:ietf-110-13381-httpapi
SUMMARY:httpapi - Building Blocks for HTTP APIs
LOCATION:Room 1
STATUS:CONFIRMED
CLASS:PUBLIC
DTSTART;TZID=Europe/Prague:20210312T170000
DTEND;TZID=Europe/Prague:20210312T190000
DTSTAMP:20210205T124543Z
URL:https://datatracker.ietf.org/meeting/110/materials/agenda-110-httpapi-04
DESCRIPTION:Session III\n
 \n
 Meetecho: https://meetings.conf.meetecho.com/ietf110/?group=httpapi&short=&item=1\n
 \n
 Agenda https://datatracker.ietf.org/meeting/110/materials/agenda-110-httpapi-04\n
 \n
 Session materials: https://datatracker.ietf.org/meeting/110/session/httpapi\n
 \n
 See in schedule: https://datatracker.ietf.org/meeting/110/agenda#row-110-2021-03-12-fri-1700-art-httpapi\n
END:VEVENT
END:VCALENDAR
