BEGIN:VCALENDAR
VERSION:2.0
PRODID:-//IETF//datatracker.ietf.org ical agenda//EN
METHOD:PUBLISH
BEGIN:VEVENT
SUMMARY:hackathon - Hackathon
DTSTART:20210301T160000Z
DTEND:20210301T180000Z
DTSTAMP:20210205T204143Z
UID:ietf-110-13556-hackathon
CLASS:PUBLIC
DESCRIPTION:Hackathon Kickoff\n\nOnsite tool: https://meetings.conf.meetec
 ho.com/onsite110/?session=28710\n\nMeetecho: https://meetings.conf.meetech
 o.com/ietf110/?session=28710\n\nSession materials: https://datatracker.iet
 f.org/meeting/110/session/hackathon\n\nSee in schedule: https://datatracke
 r.ietf.org/meeting/110/agenda#row-110-2021-03-01-mon-1600-gen-hackathon\n\
 nAgenda https://datatracker.ietf.org/meeting/110/materials/agenda-110-hack
 athon
LOCATION:Room 1
STATUS:CONFIRMED
URL:https://datatracker.ietf.org/meeting/110/session/hackathon
X-MEETING-TZ:Europe/Prague
END:VEVENT
BEGIN:VEVENT
SUMMARY:tdd - Technology Deep Dive
DTSTART:20210304T170000Z
DTEND:20210304T190000Z
DTSTAMP:20210206T003239Z
UID:ietf-110-13565-tdd
CLASS:PUBLIC
DESCRIPTION:Technology Deep Dive\n\nOnsite tool: https://meetings.conf.mee
 techo.com/onsite110/?session=28734\n\nMeetecho: https://meetings.conf.meet
 echo.com/ietf110/?session=28734\n\nSession materials: https://datatracker.
 ietf.org/meeting/110/session/tdd\n\nSee in schedule: https://datatracker.i
 etf.org/meeting/110/agenda#row-110-2021-03-04-thu-1700-tdd\n\nAgenda https
 ://datatracker.ietf.org/meeting/110/materials/agenda-110-tdd
LOCATION:Room 1
STATUS:CONFIRMED
URL:https://datatracker.ietf.org/meeting/110/session/tdd
X-MEETING-TZ:Europe/Prague
END:VEVENT
BEGIN:VEVENT
SUMMARY:hackathon - Hackathon
DTSTART:20210305T160000Z
DTEND:20210305T180000Z
DTSTAMP:20210205T204222Z
UID:ietf-110-13574-hackathon
CLASS:PUBLIC
DESCRIPTION:Hackathon Closing\n\nOnsite tool: https://meetings.conf.meetec
 ho.com/onsite110/?session=28711\n\nMeetecho: https://meetings.conf.meetech
 o.com/ietf110/?session=28711\n\nSession materials: https://datatracker.iet
 f.org/meeting/110/session/hackathon\n\nSee in schedule: https://datatracke
 r.ietf.org/meeting/110/agenda#row-110-2021-03-05-fri-1600-gen-hackathon\n\
 nAgenda https://datatracker.ietf.org/meeting/110/materials/agenda-110-hack
 athon
LOCATION:Room 1
STATUS:CONFIRMED
URL:https://datatracker.ietf.org/meeting/110/session/hackathon
X-MEETING-TZ:Europe/Prague
END:VEVENT
BEGIN:VEVENT
SUMMARY:Newcomers' Ask Me Anything (AMA)
DTSTART:20210309T140000Z
DTEND:20210309T143000Z
DTSTAMP:20210310T120807Z
UID:ietf-110-13600-edu
CLASS:PUBLIC
DESCRIPTION:Newcomers' Ask Me Anything (AMA)\n\nRemote instructions: https
 ://gather.town/app/L4fNNdm1NJa1sE2v/ietf\n\nSession materials: https://dat
 atracker.ietf.org/meeting/110/session/edu\n\nSee in schedule: https://data
 tracker.ietf.org/meeting/110/agenda#row-110-2021-03-09-tue-1400-edu-newcom
 ers-ask-me-anything-ama
LOCATION:Gather
STATUS:CONFIRMED
URL:https://datatracker.ietf.org/meeting/110/session/edu
X-MEETING-TZ:Europe/Prague
END:VEVENT
BEGIN:VEVENT
SUMMARY:IETF Plenary
DTSTART:20210310T160000Z
DTEND:20210310T174000Z
DTSTAMP:20210205T215707Z
UID:ietf-110-13584-ietf
CLASS:PUBLIC
DESCRIPTION:IETF Plenary\n\nOnsite tool: https://meetings.conf.meetecho.co
 m/onsite110/?session=28744\n\nMeetecho: https://meetings.conf.meetecho.com
 /ietf110/?session=28744\n\nSession materials: https://datatracker.ietf.org
 /meeting/110/session/ietf\n\nSee in schedule: https://datatracker.ietf.org
 /meeting/110/agenda#row-110-2021-03-10-wed-1600-1plenary-ietf\n\nAgenda ht
 tps://datatracker.ietf.org/meeting/110/materials/agenda-110-ietf-sessa
LOCATION:Plenary
STATUS:CONFIRMED
URL:https://datatracker.ietf.org/meeting/110/session/ietf
X-MEETING-TZ:Europe/Prague
END:VEVENT
BEGIN:VEVENT
SUMMARY:Newcomers' Ask Me Anything (AMA)
DTSTART:20210311T153000Z
DTEND:20210311T160000Z
DTSTAMP:20210310T120702Z
UID:ietf-110-13601-edu
CLASS:PUBLIC
DESCRIPTION:Newcomers' Ask Me Anything (AMA)\n\nRemote instructions: https
 ://gather.town/app/L4fNNdm1NJa1sE2v/ietf\n\nSession materials: https://dat
 atracker.ietf.org/meeting/110/session/edu\n\nSee in schedule: https://data
 tracker.ietf.org/meeting/110/agenda#row-110-2021-03-11-thu-1530-edu-newcom
 ers-ask-me-anything-ama
LOCATION:Gather
STATUS:CONFIRMED
URL:https://datatracker.ietf.org/meeting/110/session/edu
X-MEETING-TZ:Europe/Prague
END:VEVENT
BEGIN:VEVENT
SUMMARY:danish - DANE AutheNtication for Iot Service Hardening
DTSTART:20210312T120000Z
DTEND:20210312T140000Z
DTSTAMP:20210205T204526Z
UID:ietf-110-13390-danish
CLASS:PUBLIC
DESCRIPTION:Session I\n\nOnsite tool: https://meetings.conf.meetecho.com/o
 nsite110/?session=28735\n\nMeetecho: https://meetings.conf.meetecho.com/ie
 tf110/?session=28735\n\nSession materials: https://datatracker.ietf.org/me
 eting/110/session/danish\n\nSee in schedule: https://datatracker.ietf.org/
 meeting/110/agenda#row-110-2021-03-12-fri-1200-sec-danish\n\nAgenda https:
 //datatracker.ietf.org/meeting/110/materials/agenda-110-danish
LOCATION:Room 8
STATUS:CONFIRMED
URL:https://datatracker.ietf.org/meeting/110/session/danish
X-MEETING-TZ:Europe/Prague
END:VEVENT
END:VCALENDAR
