BEGIN:VCALENDAR
VERSION:2.0
METHOD:PUBLISH
PRODID:-//IETF//datatracker.ietf.org ical agenda//EN
BEGIN:VTIMEZONE
TZID:Europe/Prague
X-LIC-LOCATION:Europe/Prague
BEGIN:DAYLIGHT
TZOFFSETFROM:+0100
TZOFFSETTO:+0200
TZNAME:CEST
DTSTART:19810329T020000
RRULE:FREQ=YEARLY;BYMONTH=3;BYDAY=-1SU
END:DAYLIGHT
BEGIN:STANDARD
TZOFFSETFROM:+0200
TZOFFSETTO:+0100
TZNAME:CET
DTSTART:19961027T030000
RRULE:FREQ=YEARLY;BYMONTH=10;BYDAY=-1SU
END:STANDARD
BEGIN:STANDARD
TZOFFSETFROM:+005744
TZOFFSETTO:+005744
TZNAME:PMT
DTSTART:18500101T000000
RDATE:18500101T000000
END:STANDARD
BEGIN:STANDARD
TZOFFSETFROM:+005744
TZOFFSETTO:+0100
TZNAME:CET
DTSTART:18911001T000000
RDATE:18911001T000000
END:STANDARD
BEGIN:DAYLIGHT
TZOFFSETFROM:+0100
TZOFFSETTO:+0200
TZNAME:CEST
DTSTART:19160430T230000
RDATE:19160430T230000
RDATE:19170416T020000
RDATE:19180415T020000
RDATE:19400401T020000
RDATE:19430329T020000
RDATE:19440403T020000
RDATE:19450408T020000
RDATE:19460506T020000
RDATE:19470420T020000
RDATE:19480418T020000
RDATE:19490409T020000
RDATE:19790401T020000
RDATE:19800406T020000
END:DAYLIGHT
BEGIN:STANDARD
TZOFFSETFROM:+0200
TZOFFSETTO:+0100
TZNAME:CET
DTSTART:19161001T010000
RDATE:19161001T010000
RDATE:19170917T030000
RDATE:19180916T030000
RDATE:19421102T030000
RDATE:19431004T030000
RDATE:19440917T030000
RDATE:19451118T030000
RDATE:19461006T030000
RDATE:19471005T030000
RDATE:19481003T030000
RDATE:19491002T030000
RDATE:19790930T030000
RDATE:19800928T030000
RDATE:19810927T030000
RDATE:19820926T030000
RDATE:19830925T030000
RDATE:19840930T030000
RDATE:19850929T030000
RDATE:19860928T030000
RDATE:19870927T030000
RDATE:19880925T030000
RDATE:19890924T030000
RDATE:19900930T030000
RDATE:19910929T030000
RDATE:19920927T030000
RDATE:19930926T030000
RDATE:19940925T030000
RDATE:19950924T030000
END:STANDARD
BEGIN:STANDARD
TZOFFSETFROM:+0100
TZOFFSETTO:+0100
TZNAME:CET
DTSTART:19790101T000000
RDATE:19790101T000000
END:STANDARD
END:VTIMEZONE
BEGIN:VEVENT
UID:ietf-110-13556-hackathon
SUMMARY:hackathon - Hackathon
LOCATION:Room 1
STATUS:CONFIRMED
CLASS:PUBLIC
DTSTART;TZID=Europe/Prague:20210301T170000
DTEND;TZID=Europe/Prague:20210301T190000
DTSTAMP:20210205T124143Z
URL:https://datatracker.ietf.org/meeting/110/materials/agenda-110-hackathon-02
DESCRIPTION:Hackathon Kickoff\n
 \n
 Meetecho: https://meetings.conf.meetecho.com/ietf110/?group=hackathon&short=&item=1\n
 \n
 Agenda https://datatracker.ietf.org/meeting/110/materials/agenda-110-hackathon-02\n
 \n
 Session materials: https://datatracker.ietf.org/meeting/110/session/hackathon\n
 \n
 See in schedule: https://datatracker.ietf.org/meeting/110/agenda#row-110-2021-03-01-mon-1700-gen-hackathon\n
END:VEVENT
BEGIN:VEVENT
UID:ietf-110-13565-tdd
SUMMARY:tdd - Technology Deep Dive
LOCATION:Room 1
STATUS:CONFIRMED
CLASS:PUBLIC
DTSTART;TZID=Europe/Prague:20210304T180000
DTEND;TZID=Europe/Prague:20210304T200000
DTSTAMP:20210205T163239Z
URL:https://datatracker.ietf.org/meeting/110/materials/agenda-110-tdd-00
DESCRIPTION:Technology Deep Dive\n
 \n
 Meetecho: https://meetings.conf.meetecho.com/ietf110/?group=tdd&short=&item=1\n
 \n
 Agenda https://datatracker.ietf.org/meeting/110/materials/agenda-110-tdd-00\n
 \n
 Session materials: https://datatracker.ietf.org/meeting/110/session/tdd\n
 \n
 See in schedule: https://datatracker.ietf.org/meeting/110/agenda#row-110-2021-03-04-thu-1800-tdd\n
END:VEVENT
BEGIN:VEVENT
UID:ietf-110-13574-hackathon
SUMMARY:hackathon - Hackathon
LOCATION:Room 1
STATUS:CONFIRMED
CLASS:PUBLIC
DTSTART;TZID=Europe/Prague:20210305T170000
DTEND;TZID=Europe/Prague:20210305T190000
DTSTAMP:20210205T124222Z
URL:https://datatracker.ietf.org/meeting/110/materials/agenda-110-hackathon-02
DESCRIPTION:Hackathon Closing\n
 \n
 Meetecho: https://meetings.conf.meetecho.com/ietf110/?group=hackathon&short=&item=2\n
 \n
 Agenda https://datatracker.ietf.org/meeting/110/materials/agenda-110-hackathon-02\n
 \n
 Session materials: https://datatracker.ietf.org/meeting/110/session/hackathon\n
 \n
 See in schedule: https://datatracker.ietf.org/meeting/110/agenda#row-110-2021-03-05-fri-1700-gen-hackathon\n
END:VEVENT
BEGIN:VEVENT
UID:ietf-110-13600-edu
SUMMARY:Newcomers' Ask Me Anything (AMA)
LOCATION:Gather
STATUS:CONFIRMED
CLASS:PUBLIC
DTSTART;TZID=Europe/Prague:20210309T150000
DTEND;TZID=Europe/Prague:20210309T153000
DTSTAMP:20210310T040807Z
DESCRIPTION:Newcomers' Ask Me Anything (AMA)\n
 \n
 Session materials: https://datatracker.ietf.org/meeting/110/session/edu\n
 \n
 See in schedule: https://datatracker.ietf.org/meeting/110/agenda#row-110-2021-03-09-tue-1500-edu-newcomers-ask-me-anything-ama\n
END:VEVENT
BEGIN:VEVENT
UID:ietf-110-13584-ietf
SUMMARY:IETF Plenary
LOCATION:Plenary
STATUS:CONFIRMED
CLASS:PUBLIC
DTSTART;TZID=Europe/Prague:20210310T170000
DTEND;TZID=Europe/Prague:20210310T184000
DTSTAMP:20210205T135707Z
URL:https://datatracker.ietf.org/meeting/110/materials/agenda-110-ietf-sessa-02
DESCRIPTION:IETF Plenary\n
 \n
 Meetecho: https://meetings.conf.meetecho.com/ietf110/?group=ietf&short=plenary&item=1\n
 \n
 Agenda https://datatracker.ietf.org/meeting/110/materials/agenda-110-ietf-sessa-02\n
 \n
 Session materials: https://datatracker.ietf.org/meeting/110/session/ietf\n
 \n
 See in schedule: https://datatracker.ietf.org/meeting/110/agenda#row-110-2021-03-10-wed-1700-1plenary-ietf\n
END:VEVENT
BEGIN:VEVENT
UID:ietf-110-13601-edu
SUMMARY:Newcomers' Ask Me Anything (AMA)
LOCATION:Gather
STATUS:CONFIRMED
CLASS:PUBLIC
DTSTART;TZID=Europe/Prague:20210311T163000
DTEND;TZID=Europe/Prague:20210311T170000
DTSTAMP:20210310T040702Z
DESCRIPTION:Newcomers' Ask Me Anything (AMA)\n
 \n
 Session materials: https://datatracker.ietf.org/meeting/110/session/edu\n
 \n
 See in schedule: https://datatracker.ietf.org/meeting/110/agenda#row-110-2021-03-11-thu-1630-edu-newcomers-ask-me-anything-ama\n
END:VEVENT
BEGIN:VEVENT
UID:ietf-110-13390-danish
SUMMARY:danish - DANE AutheNtication for Iot Service Hardening
LOCATION:Room 8
STATUS:CONFIRMED
CLASS:PUBLIC
DTSTART;TZID=Europe/Prague:20210312T130000
DTEND;TZID=Europe/Prague:20210312T150000
DTSTAMP:20210205T124526Z
URL:https://datatracker.ietf.org/meeting/110/materials/agenda-110-danish-01
DESCRIPTION:Session I\n
 \n
 Meetecho: https://meetings.conf.meetecho.com/ietf110/?group=danish&short=&item=1\n
 \n
 Agenda https://datatracker.ietf.org/meeting/110/materials/agenda-110-danish-01\n
 \n
 Session materials: https://datatracker.ietf.org/meeting/110/session/danish\n
 \n
 See in schedule: https://datatracker.ietf.org/meeting/110/agenda#row-110-2021-03-12-fri-1300-sec-danish\n
END:VEVENT
END:VCALENDAR
