BEGIN:VCALENDAR
VERSION:2.0
METHOD:PUBLISH
PRODID:-//IETF//datatracker.ietf.org ical agenda//EN
BEGIN:VTIMEZONE
TZID:Europe/Prague
X-LIC-LOCATION:Europe/Prague
BEGIN:DAYLIGHT
TZOFFSETFROM:+0100
TZOFFSETTO:+0200
TZNAME:CEST
DTSTART:19810329T020000
RRULE:FREQ=YEARLY;BYMONTH=3;BYDAY=-1SU
END:DAYLIGHT
BEGIN:STANDARD
TZOFFSETFROM:+0200
TZOFFSETTO:+0100
TZNAME:CET
DTSTART:19961027T030000
RRULE:FREQ=YEARLY;BYMONTH=10;BYDAY=-1SU
END:STANDARD
BEGIN:STANDARD
TZOFFSETFROM:+005744
TZOFFSETTO:+005744
TZNAME:PMT
DTSTART:18500101T000000
RDATE:18500101T000000
END:STANDARD
BEGIN:STANDARD
TZOFFSETFROM:+005744
TZOFFSETTO:+0100
TZNAME:CET
DTSTART:18911001T000000
RDATE:18911001T000000
END:STANDARD
BEGIN:DAYLIGHT
TZOFFSETFROM:+0100
TZOFFSETTO:+0200
TZNAME:CEST
DTSTART:19160430T230000
RDATE:19160430T230000
RDATE:19170416T020000
RDATE:19180415T020000
RDATE:19400401T020000
RDATE:19430329T020000
RDATE:19440403T020000
RDATE:19450408T020000
RDATE:19460506T020000
RDATE:19470420T020000
RDATE:19480418T020000
RDATE:19490409T020000
RDATE:19790401T020000
RDATE:19800406T020000
END:DAYLIGHT
BEGIN:STANDARD
TZOFFSETFROM:+0200
TZOFFSETTO:+0100
TZNAME:CET
DTSTART:19161001T010000
RDATE:19161001T010000
RDATE:19170917T030000
RDATE:19180916T030000
RDATE:19421102T030000
RDATE:19431004T030000
RDATE:19440917T030000
RDATE:19451118T030000
RDATE:19461006T030000
RDATE:19471005T030000
RDATE:19481003T030000
RDATE:19491002T030000
RDATE:19790930T030000
RDATE:19800928T030000
RDATE:19810927T030000
RDATE:19820926T030000
RDATE:19830925T030000
RDATE:19840930T030000
RDATE:19850929T030000
RDATE:19860928T030000
RDATE:19870927T030000
RDATE:19880925T030000
RDATE:19890924T030000
RDATE:19900930T030000
RDATE:19910929T030000
RDATE:19920927T030000
RDATE:19930926T030000
RDATE:19940925T030000
RDATE:19950924T030000
END:STANDARD
BEGIN:STANDARD
TZOFFSETFROM:+0100
TZOFFSETTO:+0100
TZNAME:CET
DTSTART:19790101T000000
RDATE:19790101T000000
END:STANDARD
END:VTIMEZONE
BEGIN:VEVENT
UID:ietf-110-13466-dmm
SUMMARY:dmm - Distributed Mobility Management
LOCATION:Room 4
STATUS:CONFIRMED
CLASS:PUBLIC
DTSTART;TZID=Europe/Prague:20210308T170000
DTEND;TZID=Europe/Prague:20210308T190000
DTSTAMP:20210205T124253Z
URL:https://datatracker.ietf.org/meeting/110/materials/agenda-110-dmm-01
DESCRIPTION:Session III\n
 \n
 Meetecho: https://meetings.conf.meetecho.com/ietf110/?group=dmm&short=&item=1\n
 \n
 Agenda https://datatracker.ietf.org/meeting/110/materials/agenda-110-dmm-01\n
 \n
 Session materials: https://datatracker.ietf.org/meeting/110/session/dmm\n
 \n
 See in schedule: https://datatracker.ietf.org/meeting/110/agenda#row-110-2021-03-08-mon-1700-int-dmm\n
END:VEVENT
BEGIN:VEVENT
UID:ietf-110-13459-6man
SUMMARY:6man - IPv6 Maintenance
LOCATION:Room 3
STATUS:CONFIRMED
CLASS:PUBLIC
DTSTART;TZID=Europe/Prague:20210309T130000
DTEND;TZID=Europe/Prague:20210309T150000
DTSTAMP:20210205T124303Z
URL:https://datatracker.ietf.org/meeting/110/materials/agenda-110-6man-05
DESCRIPTION:Session I\n
 \n
 Meetecho: https://meetings.conf.meetecho.com/ietf110/?group=6man&short=&item=1\n
 \n
 Agenda https://datatracker.ietf.org/meeting/110/materials/agenda-110-6man-05\n
 \n
 Session materials: https://datatracker.ietf.org/meeting/110/session/6man\n
 \n
 See in schedule: https://datatracker.ietf.org/meeting/110/agenda#row-110-2021-03-09-tue-1300-int-6man\n
END:VEVENT
BEGIN:VEVENT
UID:ietf-110-13458-dprive
SUMMARY:dprive - DNS PRIVate Exchange
LOCATION:Room 4
STATUS:CONFIRMED
CLASS:PUBLIC
DTSTART;TZID=Europe/Prague:20210309T130000
DTEND;TZID=Europe/Prague:20210309T150000
DTSTAMP:20210205T124303Z
URL:https://datatracker.ietf.org/meeting/110/materials/agenda-110-dprive-03
DESCRIPTION:Session I\n
 \n
 Meetecho: https://meetings.conf.meetecho.com/ietf110/?group=dprive&short=&item=1\n
 \n
 Agenda https://datatracker.ietf.org/meeting/110/materials/agenda-110-dprive-03\n
 \n
 Session materials: https://datatracker.ietf.org/meeting/110/session/dprive\n
 \n
 See in schedule: https://datatracker.ietf.org/meeting/110/agenda#row-110-2021-03-09-tue-1300-int-dprive\n
END:VEVENT
BEGIN:VEVENT
UID:ietf-110-13450-add
SUMMARY:add - Adaptive DNS Discovery
LOCATION:Room 4
STATUS:CONFIRMED
CLASS:PUBLIC
DTSTART;TZID=Europe/Prague:20210309T153000
DTEND;TZID=Europe/Prague:20210309T163000
DTSTAMP:20210205T124312Z
URL:https://datatracker.ietf.org/meeting/110/materials/agenda-110-add-01
DESCRIPTION:Session II\n
 \n
 Meetecho: https://meetings.conf.meetecho.com/ietf110/?group=add&short=&item=1\n
 \n
 Agenda https://datatracker.ietf.org/meeting/110/materials/agenda-110-add-01\n
 \n
 Session materials: https://datatracker.ietf.org/meeting/110/session/add\n
 \n
 See in schedule: https://datatracker.ietf.org/meeting/110/agenda#row-110-2021-03-09-tue-1530-int-add\n
END:VEVENT
BEGIN:VEVENT
UID:ietf-110-13443-drip
SUMMARY:drip - Drone Remote ID Protocol
LOCATION:Room 3
STATUS:CONFIRMED
CLASS:PUBLIC
DTSTART;TZID=Europe/Prague:20210309T170000
DTEND;TZID=Europe/Prague:20210309T190000
DTSTAMP:20210205T124319Z
URL:https://datatracker.ietf.org/meeting/110/materials/agenda-110-drip-02
DESCRIPTION:Session III\n
 \n
 Meetecho: https://meetings.conf.meetecho.com/ietf110/?group=drip&short=&item=1\n
 \n
 Agenda https://datatracker.ietf.org/meeting/110/materials/agenda-110-drip-02\n
 \n
 Session materials: https://datatracker.ietf.org/meeting/110/session/drip\n
 \n
 See in schedule: https://datatracker.ietf.org/meeting/110/agenda#row-110-2021-03-09-tue-1700-int-drip\n
END:VEVENT
BEGIN:VEVENT
UID:ietf-110-13442-ntp
SUMMARY:ntp - Network Time Protocol
LOCATION:Room 4
STATUS:CONFIRMED
CLASS:PUBLIC
DTSTART;TZID=Europe/Prague:20210309T170000
DTEND;TZID=Europe/Prague:20210309T190000
DTSTAMP:20210205T124319Z
URL:https://datatracker.ietf.org/meeting/110/materials/agenda-110-ntp-02
DESCRIPTION:Session III\n
 \n
 Meetecho: https://meetings.conf.meetecho.com/ietf110/?group=ntp&short=&item=1\n
 \n
 Agenda https://datatracker.ietf.org/meeting/110/materials/agenda-110-ntp-02\n
 \n
 Session materials: https://datatracker.ietf.org/meeting/110/session/ntp\n
 \n
 See in schedule: https://datatracker.ietf.org/meeting/110/agenda#row-110-2021-03-09-tue-1700-int-ntp\n
END:VEVENT
BEGIN:VEVENT
UID:ietf-110-13410-lpwan
SUMMARY:lpwan - IPv6 over Low Power Wide-Area Networks
LOCATION:Room 4
STATUS:CONFIRMED
CLASS:PUBLIC
DTSTART;TZID=Europe/Prague:20210310T153000
DTEND;TZID=Europe/Prague:20210310T163000
DTSTAMP:20210205T135511Z
URL:https://datatracker.ietf.org/meeting/110/materials/agenda-110-lpwan-02
DESCRIPTION:Session II\n
 \n
 Meetecho: https://meetings.conf.meetecho.com/ietf110/?group=lpwan&short=&item=1\n
 \n
 Agenda https://datatracker.ietf.org/meeting/110/materials/agenda-110-lpwan-02\n
 \n
 Session materials: https://datatracker.ietf.org/meeting/110/session/lpwan\n
 \n
 See in schedule: https://datatracker.ietf.org/meeting/110/agenda#row-110-2021-03-10-wed-1530-int-lpwan\n
END:VEVENT
BEGIN:VEVENT
UID:ietf-110-13419-6lo
SUMMARY:6lo - IPv6 over Networks of Resource-constrained Nodes
LOCATION:Room 3
STATUS:CONFIRMED
CLASS:PUBLIC
DTSTART;TZID=Europe/Prague:20210311T130000
DTEND;TZID=Europe/Prague:20210311T150000
DTSTAMP:20210205T124636Z
URL:https://datatracker.ietf.org/meeting/110/materials/agenda-110-6lo-00
DESCRIPTION:Session I\n
 \n
 Meetecho: https://meetings.conf.meetecho.com/ietf110/?group=6lo&short=&item=1\n
 \n
 Agenda https://datatracker.ietf.org/meeting/110/materials/agenda-110-6lo-00\n
 \n
 Session materials: https://datatracker.ietf.org/meeting/110/session/6lo\n
 \n
 See in schedule: https://datatracker.ietf.org/meeting/110/agenda#row-110-2021-03-11-thu-1300-int-6lo\n
END:VEVENT
BEGIN:VEVENT
UID:ietf-110-13418-add
SUMMARY:add - Adaptive DNS Discovery
LOCATION:Room 4
STATUS:CONFIRMED
CLASS:PUBLIC
DTSTART;TZID=Europe/Prague:20210311T130000
DTEND;TZID=Europe/Prague:20210311T150000
DTSTAMP:20210205T124636Z
URL:https://datatracker.ietf.org/meeting/110/materials/agenda-110-add-01
DESCRIPTION:Session I\n
 \n
 Meetecho: https://meetings.conf.meetecho.com/ietf110/?group=add&short=&item=2\n
 \n
 Agenda https://datatracker.ietf.org/meeting/110/materials/agenda-110-add-01\n
 \n
 Session materials: https://datatracker.ietf.org/meeting/110/session/add\n
 \n
 See in schedule: https://datatracker.ietf.org/meeting/110/agenda#row-110-2021-03-11-thu-1300-int-add\n
END:VEVENT
BEGIN:VEVENT
UID:ietf-110-13404-6man
SUMMARY:6man - IPv6 Maintenance
LOCATION:Room 2
STATUS:CONFIRMED
CLASS:PUBLIC
DTSTART;TZID=Europe/Prague:20210311T170000
DTEND;TZID=Europe/Prague:20210311T190000
DTSTAMP:20210205T124552Z
URL:https://datatracker.ietf.org/meeting/110/materials/agenda-110-6man-05
DESCRIPTION:Session III\n
 \n
 Meetecho: https://meetings.conf.meetecho.com/ietf110/?group=6man&short=&item=2\n
 \n
 Agenda https://datatracker.ietf.org/meeting/110/materials/agenda-110-6man-05\n
 \n
 Session materials: https://datatracker.ietf.org/meeting/110/session/6man\n
 \n
 See in schedule: https://datatracker.ietf.org/meeting/110/agenda#row-110-2021-03-11-thu-1700-int-6man\n
END:VEVENT
BEGIN:VEVENT
UID:ietf-110-13395-dnssd
SUMMARY:dnssd - Extensions for Scalable DNS Service Discovery (Joint with HOMENET)
LOCATION:Room 3
STATUS:CONFIRMED
CLASS:PUBLIC
DTSTART;TZID=Europe/Prague:20210312T130000
DTEND;TZID=Europe/Prague:20210312T150000
DTSTAMP:20210205T124526Z
URL:https://datatracker.ietf.org/meeting/110/materials/agenda-110-dnssd-00
DESCRIPTION:Session I\n
 Note: Joint with HOMENET\n
 \n
 Meetecho: https://meetings.conf.meetecho.com/ietf110/?group=dnssd&short=&item=1\n
 \n
 Agenda https://datatracker.ietf.org/meeting/110/materials/agenda-110-dnssd-00\n
 \n
 Session materials: https://datatracker.ietf.org/meeting/110/session/dnssd\n
 \n
 See in schedule: https://datatracker.ietf.org/meeting/110/agenda#row-110-2021-03-12-fri-1300-int-dnssd\n
END:VEVENT
BEGIN:VEVENT
UID:ietf-110-13395-homenet
SUMMARY:homenet - Home Networking (Joint with DNSSD)
LOCATION:Room 3
STATUS:CONFIRMED
CLASS:PUBLIC
DTSTART;TZID=Europe/Prague:20210312T130000
DTEND;TZID=Europe/Prague:20210312T150000
DTSTAMP:20210205T124526Z
URL:https://datatracker.ietf.org/meeting/110/materials/agenda-110-homenet-00
DESCRIPTION:Session I\n
 Note: Joint with DNSSD\n
 \n
 Meetecho: https://meetings.conf.meetecho.com/ietf110/?group=homenet&short=&item=1\n
 \n
 Agenda https://datatracker.ietf.org/meeting/110/materials/agenda-110-homenet-00\n
 \n
 Session materials: https://datatracker.ietf.org/meeting/110/session/homenet\n
 \n
 See in schedule: https://datatracker.ietf.org/meeting/110/agenda#row-110-2021-03-12-fri-1300-int-homenet\n
END:VEVENT
BEGIN:VEVENT
UID:ietf-110-13386-intarea
SUMMARY:intarea - Internet Area Working Group
LOCATION:Room 4
STATUS:CONFIRMED
CLASS:PUBLIC
DTSTART;TZID=Europe/Prague:20210312T153000
DTEND;TZID=Europe/Prague:20210312T163000
DTSTAMP:20210205T124534Z
URL:https://datatracker.ietf.org/meeting/110/materials/agenda-110-intarea-03
DESCRIPTION:Session II\n
 \n
 Meetecho: https://meetings.conf.meetecho.com/ietf110/?group=intarea&short=&item=1\n
 \n
 Agenda https://datatracker.ietf.org/meeting/110/materials/agenda-110-intarea-03\n
 \n
 Session materials: https://datatracker.ietf.org/meeting/110/session/intarea\n
 \n
 See in schedule: https://datatracker.ietf.org/meeting/110/agenda#row-110-2021-03-12-fri-1530-int-intarea\n
END:VEVENT
END:VCALENDAR
