BEGIN:VCALENDAR
VERSION:2.0
METHOD:PUBLISH
PRODID:-//IETF//datatracker.ietf.org ical agenda//EN
BEGIN:VTIMEZONE
TZID:Europe/Prague
X-LIC-LOCATION:Europe/Prague
BEGIN:DAYLIGHT
TZOFFSETFROM:+0100
TZOFFSETTO:+0200
TZNAME:CEST
DTSTART:19810329T020000
RRULE:FREQ=YEARLY;BYMONTH=3;BYDAY=-1SU
END:DAYLIGHT
BEGIN:STANDARD
TZOFFSETFROM:+0200
TZOFFSETTO:+0100
TZNAME:CET
DTSTART:19961027T030000
RRULE:FREQ=YEARLY;BYMONTH=10;BYDAY=-1SU
END:STANDARD
BEGIN:STANDARD
TZOFFSETFROM:+005744
TZOFFSETTO:+005744
TZNAME:PMT
DTSTART:18500101T000000
RDATE:18500101T000000
END:STANDARD
BEGIN:STANDARD
TZOFFSETFROM:+005744
TZOFFSETTO:+0100
TZNAME:CET
DTSTART:18911001T000000
RDATE:18911001T000000
END:STANDARD
BEGIN:DAYLIGHT
TZOFFSETFROM:+0100
TZOFFSETTO:+0200
TZNAME:CEST
DTSTART:19160430T230000
RDATE:19160430T230000
RDATE:19170416T020000
RDATE:19180415T020000
RDATE:19400401T020000
RDATE:19430329T020000
RDATE:19440403T020000
RDATE:19450408T020000
RDATE:19460506T020000
RDATE:19470420T020000
RDATE:19480418T020000
RDATE:19490409T020000
RDATE:19790401T020000
RDATE:19800406T020000
END:DAYLIGHT
BEGIN:STANDARD
TZOFFSETFROM:+0200
TZOFFSETTO:+0100
TZNAME:CET
DTSTART:19161001T010000
RDATE:19161001T010000
RDATE:19170917T030000
RDATE:19180916T030000
RDATE:19421102T030000
RDATE:19431004T030000
RDATE:19440917T030000
RDATE:19451118T030000
RDATE:19461006T030000
RDATE:19471005T030000
RDATE:19481003T030000
RDATE:19491002T030000
RDATE:19790930T030000
RDATE:19800928T030000
RDATE:19810927T030000
RDATE:19820926T030000
RDATE:19830925T030000
RDATE:19840930T030000
RDATE:19850929T030000
RDATE:19860928T030000
RDATE:19870927T030000
RDATE:19880925T030000
RDATE:19890924T030000
RDATE:19900930T030000
RDATE:19910929T030000
RDATE:19920927T030000
RDATE:19930926T030000
RDATE:19940925T030000
RDATE:19950924T030000
END:STANDARD
BEGIN:STANDARD
TZOFFSETFROM:+0100
TZOFFSETTO:+0100
TZNAME:CET
DTSTART:19790101T000000
RDATE:19790101T000000
END:STANDARD
END:VTIMEZONE
BEGIN:VEVENT
UID:ietf-110-13484-irtfopen
SUMMARY:irtfopen - IRTF Open Meeting
LOCATION:Room 2
STATUS:CONFIRMED
CLASS:PUBLIC
DTSTART;TZID=Europe/Prague:20210308T130000
DTEND;TZID=Europe/Prague:20210308T150000
DTSTAMP:20210205T124238Z
URL:https://datatracker.ietf.org/meeting/110/materials/agenda-110-irtfopen-00
DESCRIPTION:Session I\n
 \n
 Meetecho: https://meetings.conf.meetecho.com/ietf110/?group=irtfopen&short=&item=1\n
 \n
 Agenda https://datatracker.ietf.org/meeting/110/materials/agenda-110-irtfopen-00\n
 \n
 Session materials: https://datatracker.ietf.org/meeting/110/session/irtfopen\n
 \n
 See in schedule: https://datatracker.ietf.org/meeting/110/agenda#row-110-2021-03-08-mon-1300-irtf-irtfopen\n
END:VEVENT
BEGIN:VEVENT
UID:ietf-110-13476-maprg
SUMMARY:maprg - Measurement and Analysis for Protocols
LOCATION:Room 2
STATUS:CONFIRMED
CLASS:PUBLIC
DTSTART;TZID=Europe/Prague:20210308T153000
DTEND;TZID=Europe/Prague:20210308T163000
DTSTAMP:20210205T124246Z
URL:https://datatracker.ietf.org/meeting/110/materials/agenda-110-maprg-06
DESCRIPTION:Session II\n
 \n
 Meetecho: https://meetings.conf.meetecho.com/ietf110/?group=maprg&short=&item=1\n
 \n
 Agenda https://datatracker.ietf.org/meeting/110/materials/agenda-110-maprg-06\n
 \n
 Session materials: https://datatracker.ietf.org/meeting/110/session/maprg\n
 \n
 See in schedule: https://datatracker.ietf.org/meeting/110/agenda#row-110-2021-03-08-mon-1530-irtf-maprg\n
END:VEVENT
BEGIN:VEVENT
UID:ietf-110-13465-nmrg
SUMMARY:nmrg - Network Management
LOCATION:Room 5
STATUS:CONFIRMED
CLASS:PUBLIC
DTSTART;TZID=Europe/Prague:20210308T170000
DTEND;TZID=Europe/Prague:20210308T190000
DTSTAMP:20210205T124253Z
URL:https://datatracker.ietf.org/meeting/110/materials/agenda-110-nmrg-03
DESCRIPTION:Session III\n
 \n
 Meetecho: https://meetings.conf.meetecho.com/ietf110/?group=nmrg&short=&item=1\n
 \n
 Agenda https://datatracker.ietf.org/meeting/110/materials/agenda-110-nmrg-03\n
 \n
 Session materials: https://datatracker.ietf.org/meeting/110/session/nmrg\n
 \n
 See in schedule: https://datatracker.ietf.org/meeting/110/agenda#row-110-2021-03-08-mon-1700-irtf-nmrg\n
END:VEVENT
BEGIN:VEVENT
UID:ietf-110-13457-iccrg
SUMMARY:iccrg - Internet Congestion Control
LOCATION:Room 5
STATUS:CONFIRMED
CLASS:PUBLIC
DTSTART;TZID=Europe/Prague:20210309T130000
DTEND;TZID=Europe/Prague:20210309T150000
DTSTAMP:20210205T124303Z
URL:https://datatracker.ietf.org/meeting/110/materials/agenda-110-iccrg-03
DESCRIPTION:Session I\n
 \n
 Meetecho: https://meetings.conf.meetecho.com/ietf110/?group=iccrg&short=&item=1\n
 \n
 Agenda https://datatracker.ietf.org/meeting/110/materials/agenda-110-iccrg-03\n
 \n
 Session materials: https://datatracker.ietf.org/meeting/110/session/iccrg\n
 \n
 See in schedule: https://datatracker.ietf.org/meeting/110/agenda#row-110-2021-03-09-tue-1300-irtf-iccrg\n
END:VEVENT
BEGIN:VEVENT
UID:ietf-110-13435-icnrg
SUMMARY:icnrg - Information-Centric Networking
LOCATION:Room 3
STATUS:CONFIRMED
CLASS:PUBLIC
DTSTART;TZID=Europe/Prague:20210310T130000
DTEND;TZID=Europe/Prague:20210310T150000
DTSTAMP:20210205T124357Z
URL:https://datatracker.ietf.org/meeting/110/materials/agenda-110-icnrg-02
DESCRIPTION:Session I\n
 \n
 Meetecho: https://meetings.conf.meetecho.com/ietf110/?group=icnrg&short=&item=1\n
 \n
 Agenda https://datatracker.ietf.org/meeting/110/materials/agenda-110-icnrg-02\n
 \n
 Session materials: https://datatracker.ietf.org/meeting/110/session/icnrg\n
 \n
 See in schedule: https://datatracker.ietf.org/meeting/110/agenda#row-110-2021-03-10-wed-1300-irtf-icnrg\n
END:VEVENT
BEGIN:VEVENT
UID:ietf-110-13409-qirg
SUMMARY:qirg - Quantum Internet Research Group
LOCATION:Room 5
STATUS:CONFIRMED
CLASS:PUBLIC
DTSTART;TZID=Europe/Prague:20210310T153000
DTEND;TZID=Europe/Prague:20210310T163000
DTSTAMP:20210205T135511Z
URL:https://datatracker.ietf.org/meeting/110/materials/agenda-110-qirg-02
DESCRIPTION:Session II\n
 \n
 Meetecho: https://meetings.conf.meetecho.com/ietf110/?group=qirg&short=&item=1\n
 \n
 Agenda https://datatracker.ietf.org/meeting/110/materials/agenda-110-qirg-02\n
 \n
 Session materials: https://datatracker.ietf.org/meeting/110/session/qirg\n
 \n
 See in schedule: https://datatracker.ietf.org/meeting/110/agenda#row-110-2021-03-10-wed-1530-irtf-qirg\n
END:VEVENT
BEGIN:VEVENT
UID:ietf-110-13582-nwcrg
SUMMARY:nwcrg - Coding for efficient NetWork Communications Research Group
LOCATION:Room 2
STATUS:CONFIRMED
CLASS:PUBLIC
DTSTART;TZID=Europe/Prague:20210311T153000
DTEND;TZID=Europe/Prague:20210311T163000
DTSTAMP:20210205T124628Z
URL:https://datatracker.ietf.org/meeting/110/materials/agenda-110-nwcrg-03
DESCRIPTION:Session II\n
 \n
 Meetecho: https://meetings.conf.meetecho.com/ietf110/?group=nwcrg&short=&item=1\n
 \n
 Agenda https://datatracker.ietf.org/meeting/110/materials/agenda-110-nwcrg-03\n
 \n
 Session materials: https://datatracker.ietf.org/meeting/110/session/nwcrg\n
 \n
 See in schedule: https://datatracker.ietf.org/meeting/110/agenda#row-110-2021-03-11-thu-1530-irtf-nwcrg\n
END:VEVENT
BEGIN:VEVENT
UID:ietf-110-13581-panrg
SUMMARY:panrg - Path Aware Networking RG
LOCATION:Room 3
STATUS:CONFIRMED
CLASS:PUBLIC
DTSTART;TZID=Europe/Prague:20210311T153000
DTEND;TZID=Europe/Prague:20210311T163000
DTSTAMP:20210205T124628Z
URL:https://datatracker.ietf.org/meeting/110/materials/agenda-110-panrg-03
DESCRIPTION:Session II\n
 \n
 Meetecho: https://meetings.conf.meetecho.com/ietf110/?group=panrg&short=&item=1\n
 \n
 Agenda https://datatracker.ietf.org/meeting/110/materials/agenda-110-panrg-03\n
 \n
 Session materials: https://datatracker.ietf.org/meeting/110/session/panrg\n
 \n
 See in schedule: https://datatracker.ietf.org/meeting/110/agenda#row-110-2021-03-11-thu-1530-irtf-panrg\n
END:VEVENT
BEGIN:VEVENT
UID:ietf-110-13403-hrpc
SUMMARY:hrpc - Human Rights Protocol Considerations
LOCATION:Room 3
STATUS:CONFIRMED
CLASS:PUBLIC
DTSTART;TZID=Europe/Prague:20210311T170000
DTEND;TZID=Europe/Prague:20210311T190000
DTSTAMP:20210205T124552Z
URL:https://datatracker.ietf.org/meeting/110/materials/agenda-110-hrpc-03
DESCRIPTION:Session III\n
 \n
 Meetecho: https://meetings.conf.meetecho.com/ietf110/?group=hrpc&short=&item=1\n
 \n
 Agenda https://datatracker.ietf.org/meeting/110/materials/agenda-110-hrpc-03\n
 \n
 Session materials: https://datatracker.ietf.org/meeting/110/session/hrpc\n
 \n
 See in schedule: https://datatracker.ietf.org/meeting/110/agenda#row-110-2021-03-11-thu-1700-irtf-hrpc\n
END:VEVENT
BEGIN:VEVENT
UID:ietf-110-13402-t2trg
SUMMARY:t2trg - Thing-to-Thing
LOCATION:Room 4
STATUS:CONFIRMED
CLASS:PUBLIC
DTSTART;TZID=Europe/Prague:20210311T170000
DTEND;TZID=Europe/Prague:20210311T190000
DTSTAMP:20210205T124552Z
URL:https://datatracker.ietf.org/meeting/110/materials/agenda-110-t2trg-01
DESCRIPTION:Session III\n
 \n
 Meetecho: https://meetings.conf.meetecho.com/ietf110/?group=t2trg&short=&item=1\n
 \n
 Agenda https://datatracker.ietf.org/meeting/110/materials/agenda-110-t2trg-01\n
 \n
 Session materials: https://datatracker.ietf.org/meeting/110/session/t2trg\n
 \n
 See in schedule: https://datatracker.ietf.org/meeting/110/agenda#row-110-2021-03-11-thu-1700-irtf-t2trg\n
END:VEVENT
BEGIN:VEVENT
UID:ietf-110-13394-cfrg
SUMMARY:cfrg - Crypto Forum
LOCATION:Room 4
STATUS:CONFIRMED
CLASS:PUBLIC
DTSTART;TZID=Europe/Prague:20210312T130000
DTEND;TZID=Europe/Prague:20210312T150000
DTSTAMP:20210205T124526Z
URL:https://datatracker.ietf.org/meeting/110/materials/agenda-110-cfrg-03
DESCRIPTION:Session I\n
 \n
 Meetecho: https://meetings.conf.meetecho.com/ietf110/?group=cfrg&short=&item=1\n
 \n
 Agenda https://datatracker.ietf.org/meeting/110/materials/agenda-110-cfrg-03\n
 \n
 Session materials: https://datatracker.ietf.org/meeting/110/session/cfrg\n
 \n
 See in schedule: https://datatracker.ietf.org/meeting/110/agenda#row-110-2021-03-12-fri-1300-irtf-cfrg\n
END:VEVENT
BEGIN:VEVENT
UID:ietf-110-13385-gaia
SUMMARY:gaia - Global Access to the Internet for All
LOCATION:Room 5
STATUS:CONFIRMED
CLASS:PUBLIC
DTSTART;TZID=Europe/Prague:20210312T153000
DTEND;TZID=Europe/Prague:20210312T163000
DTSTAMP:20210205T124534Z
URL:https://datatracker.ietf.org/meeting/110/materials/agenda-110-gaia-02
DESCRIPTION:Session II\n
 \n
 Meetecho: https://meetings.conf.meetecho.com/ietf110/?group=gaia&short=&item=1\n
 \n
 Agenda https://datatracker.ietf.org/meeting/110/materials/agenda-110-gaia-02\n
 \n
 Session materials: https://datatracker.ietf.org/meeting/110/session/gaia\n
 \n
 See in schedule: https://datatracker.ietf.org/meeting/110/agenda#row-110-2021-03-12-fri-1530-irtf-gaia\n
END:VEVENT
BEGIN:VEVENT
UID:ietf-110-13384-pearg
SUMMARY:pearg - Privacy Enhancements and Assessments Research Group
LOCATION:Room 6
STATUS:CONFIRMED
CLASS:PUBLIC
DTSTART;TZID=Europe/Prague:20210312T153000
DTEND;TZID=Europe/Prague:20210312T163000
DTSTAMP:20210205T124534Z
URL:https://datatracker.ietf.org/meeting/110/materials/agenda-110-pearg-06
DESCRIPTION:Session II\n
 \n
 Meetecho: https://meetings.conf.meetecho.com/ietf110/?group=pearg&short=&item=1\n
 \n
 Agenda https://datatracker.ietf.org/meeting/110/materials/agenda-110-pearg-06\n
 \n
 Session materials: https://datatracker.ietf.org/meeting/110/session/pearg\n
 \n
 See in schedule: https://datatracker.ietf.org/meeting/110/agenda#row-110-2021-03-12-fri-1530-irtf-pearg\n
END:VEVENT
BEGIN:VEVENT
UID:ietf-110-13380-coinrg
SUMMARY:coinrg - Computing in the Network Research Group
LOCATION:Room 2
STATUS:CONFIRMED
CLASS:PUBLIC
DTSTART;TZID=Europe/Prague:20210312T170000
DTEND;TZID=Europe/Prague:20210312T190000
DTSTAMP:20210205T124543Z
URL:https://datatracker.ietf.org/meeting/110/materials/agenda-110-coinrg-03
DESCRIPTION:Session III\n
 \n
 Meetecho: https://meetings.conf.meetecho.com/ietf110/?group=coinrg&short=&item=1\n
 \n
 Agenda https://datatracker.ietf.org/meeting/110/materials/agenda-110-coinrg-03\n
 \n
 Session materials: https://datatracker.ietf.org/meeting/110/session/coinrg\n
 \n
 See in schedule: https://datatracker.ietf.org/meeting/110/agenda#row-110-2021-03-12-fri-1700-irtf-coinrg\n
END:VEVENT
END:VCALENDAR
