BEGIN:VCALENDAR
VERSION:2.0
METHOD:PUBLISH
PRODID:-//IETF//datatracker.ietf.org ical agenda//EN
BEGIN:VTIMEZONE
TZID:Europe/Prague
X-LIC-LOCATION:Europe/Prague
BEGIN:DAYLIGHT
TZOFFSETFROM:+0100
TZOFFSETTO:+0200
TZNAME:CEST
DTSTART:19810329T020000
RRULE:FREQ=YEARLY;BYMONTH=3;BYDAY=-1SU
END:DAYLIGHT
BEGIN:STANDARD
TZOFFSETFROM:+0200
TZOFFSETTO:+0100
TZNAME:CET
DTSTART:19961027T030000
RRULE:FREQ=YEARLY;BYMONTH=10;BYDAY=-1SU
END:STANDARD
BEGIN:STANDARD
TZOFFSETFROM:+005744
TZOFFSETTO:+005744
TZNAME:PMT
DTSTART:18500101T000000
RDATE:18500101T000000
END:STANDARD
BEGIN:STANDARD
TZOFFSETFROM:+005744
TZOFFSETTO:+0100
TZNAME:CET
DTSTART:18911001T000000
RDATE:18911001T000000
END:STANDARD
BEGIN:DAYLIGHT
TZOFFSETFROM:+0100
TZOFFSETTO:+0200
TZNAME:CEST
DTSTART:19160430T230000
RDATE:19160430T230000
RDATE:19170416T020000
RDATE:19180415T020000
RDATE:19400401T020000
RDATE:19430329T020000
RDATE:19440403T020000
RDATE:19450408T020000
RDATE:19460506T020000
RDATE:19470420T020000
RDATE:19480418T020000
RDATE:19490409T020000
RDATE:19790401T020000
RDATE:19800406T020000
END:DAYLIGHT
BEGIN:STANDARD
TZOFFSETFROM:+0200
TZOFFSETTO:+0100
TZNAME:CET
DTSTART:19161001T010000
RDATE:19161001T010000
RDATE:19170917T030000
RDATE:19180916T030000
RDATE:19421102T030000
RDATE:19431004T030000
RDATE:19440917T030000
RDATE:19451118T030000
RDATE:19461006T030000
RDATE:19471005T030000
RDATE:19481003T030000
RDATE:19491002T030000
RDATE:19790930T030000
RDATE:19800928T030000
RDATE:19810927T030000
RDATE:19820926T030000
RDATE:19830925T030000
RDATE:19840930T030000
RDATE:19850929T030000
RDATE:19860928T030000
RDATE:19870927T030000
RDATE:19880925T030000
RDATE:19890924T030000
RDATE:19900930T030000
RDATE:19910929T030000
RDATE:19920927T030000
RDATE:19930926T030000
RDATE:19940925T030000
RDATE:19950924T030000
END:STANDARD
BEGIN:STANDARD
TZOFFSETFROM:+0100
TZOFFSETTO:+0100
TZNAME:CET
DTSTART:19790101T000000
RDATE:19790101T000000
END:STANDARD
END:VTIMEZONE
BEGIN:VEVENT
UID:ietf-110-13483-grow
SUMMARY:grow - Global Routing Operations
LOCATION:Room 3
STATUS:CONFIRMED
CLASS:PUBLIC
DTSTART;TZID=Europe/Prague:20210308T130000
DTEND;TZID=Europe/Prague:20210308T150000
DTSTAMP:20210205T124238Z
URL:https://datatracker.ietf.org/meeting/110/materials/agenda-110-grow-02
DESCRIPTION:Session I\n
 \n
 Meetecho: https://meetings.conf.meetecho.com/ietf110/?group=grow&short=&item=1\n
 \n
 Agenda https://datatracker.ietf.org/meeting/110/materials/agenda-110-grow-02\n
 \n
 Session materials: https://datatracker.ietf.org/meeting/110/session/grow\n
 \n
 See in schedule: https://datatracker.ietf.org/meeting/110/agenda#row-110-2021-03-08-mon-1300-ops-grow\n
END:VEVENT
BEGIN:VEVENT
UID:ietf-110-13482-netconf
SUMMARY:netconf - Network Configuration
LOCATION:Room 4
STATUS:CONFIRMED
CLASS:PUBLIC
DTSTART;TZID=Europe/Prague:20210308T130000
DTEND;TZID=Europe/Prague:20210308T150000
DTSTAMP:20210205T124238Z
URL:https://datatracker.ietf.org/meeting/110/materials/agenda-110-netconf-02
DESCRIPTION:Session I\n
 \n
 Meetecho: https://meetings.conf.meetecho.com/ietf110/?group=netconf&short=&item=1\n
 \n
 Agenda https://datatracker.ietf.org/meeting/110/materials/agenda-110-netconf-02\n
 \n
 Session materials: https://datatracker.ietf.org/meeting/110/session/netconf\n
 \n
 See in schedule: https://datatracker.ietf.org/meeting/110/agenda#row-110-2021-03-08-mon-1300-ops-netconf\n
END:VEVENT
BEGIN:VEVENT
UID:ietf-110-13449-iotops
SUMMARY:iotops - IOT Operations
LOCATION:Room 5
STATUS:CONFIRMED
CLASS:PUBLIC
DTSTART;TZID=Europe/Prague:20210309T153000
DTEND;TZID=Europe/Prague:20210309T163000
DTSTAMP:20210205T124312Z
URL:https://datatracker.ietf.org/meeting/110/materials/agenda-110-iotops-01
DESCRIPTION:Session II\n
 \n
 Meetecho: https://meetings.conf.meetecho.com/ietf110/?group=iotops&short=&item=1\n
 \n
 Agenda https://datatracker.ietf.org/meeting/110/materials/agenda-110-iotops-01\n
 \n
 Session materials: https://datatracker.ietf.org/meeting/110/session/iotops\n
 \n
 See in schedule: https://datatracker.ietf.org/meeting/110/agenda#row-110-2021-03-09-tue-1530-ops-iotops\n
END:VEVENT
BEGIN:VEVENT
UID:ietf-110-13441-v6ops
SUMMARY:v6ops - IPv6 Operations
LOCATION:Room 5
STATUS:CONFIRMED
CLASS:PUBLIC
DTSTART;TZID=Europe/Prague:20210309T170000
DTEND;TZID=Europe/Prague:20210309T190000
DTSTAMP:20210205T124319Z
URL:https://datatracker.ietf.org/meeting/110/materials/agenda-110-v6ops-04
DESCRIPTION:Session III\n
 \n
 Meetecho: https://meetings.conf.meetecho.com/ietf110/?group=v6ops&short=&item=1\n
 \n
 Agenda https://datatracker.ietf.org/meeting/110/materials/agenda-110-v6ops-04\n
 \n
 Session materials: https://datatracker.ietf.org/meeting/110/session/v6ops\n
 \n
 See in schedule: https://datatracker.ietf.org/meeting/110/agenda#row-110-2021-03-09-tue-1700-ops-v6ops\n
END:VEVENT
BEGIN:VEVENT
UID:ietf-110-13434-sidrops
SUMMARY:sidrops - SIDR Operations
LOCATION:Room 4
STATUS:CONFIRMED
CLASS:PUBLIC
DTSTART;TZID=Europe/Prague:20210310T130000
DTEND;TZID=Europe/Prague:20210310T150000
DTSTAMP:20210205T124357Z
URL:https://datatracker.ietf.org/meeting/110/materials/agenda-110-sidrops-01
DESCRIPTION:Session I\n
 \n
 Meetecho: https://meetings.conf.meetecho.com/ietf110/?group=sidrops&short=&item=1\n
 \n
 Agenda https://datatracker.ietf.org/meeting/110/materials/agenda-110-sidrops-01\n
 \n
 Session materials: https://datatracker.ietf.org/meeting/110/session/sidrops\n
 \n
 See in schedule: https://datatracker.ietf.org/meeting/110/agenda#row-110-2021-03-10-wed-1300-ops-sidrops\n
END:VEVENT
BEGIN:VEVENT
UID:ietf-110-13408-anima
SUMMARY:anima - Autonomic Networking Integrated Model and Approach
LOCATION:Room 6
STATUS:CONFIRMED
CLASS:PUBLIC
DTSTART;TZID=Europe/Prague:20210310T153000
DTEND;TZID=Europe/Prague:20210310T163000
DTSTAMP:20210205T135511Z
URL:https://datatracker.ietf.org/meeting/110/materials/agenda-110-anima-00
DESCRIPTION:Session II\n
 \n
 Meetecho: https://meetings.conf.meetecho.com/ietf110/?group=anima&short=&item=1\n
 \n
 Agenda https://datatracker.ietf.org/meeting/110/materials/agenda-110-anima-00\n
 \n
 Session materials: https://datatracker.ietf.org/meeting/110/session/anima\n
 \n
 See in schedule: https://datatracker.ietf.org/meeting/110/agenda#row-110-2021-03-10-wed-1530-ops-anima\n
END:VEVENT
BEGIN:VEVENT
UID:ietf-110-13417-mboned
SUMMARY:mboned - MBONE Deployment
LOCATION:Room 5
STATUS:CONFIRMED
CLASS:PUBLIC
DTSTART;TZID=Europe/Prague:20210311T130000
DTEND;TZID=Europe/Prague:20210311T150000
DTSTAMP:20210205T124636Z
URL:https://datatracker.ietf.org/meeting/110/materials/agenda-110-mboned-02
DESCRIPTION:Session I\n
 \n
 Meetecho: https://meetings.conf.meetecho.com/ietf110/?group=mboned&short=&item=1\n
 \n
 Agenda https://datatracker.ietf.org/meeting/110/materials/agenda-110-mboned-02\n
 \n
 Session materials: https://datatracker.ietf.org/meeting/110/session/mboned\n
 \n
 See in schedule: https://datatracker.ietf.org/meeting/110/agenda#row-110-2021-03-11-thu-1300-ops-mboned\n
END:VEVENT
BEGIN:VEVENT
UID:ietf-110-13580-dnsop
SUMMARY:dnsop - Domain Name System Operations
LOCATION:Room 4
STATUS:CONFIRMED
CLASS:PUBLIC
DTSTART;TZID=Europe/Prague:20210311T153000
DTEND;TZID=Europe/Prague:20210311T163000
DTSTAMP:20210205T124628Z
URL:https://datatracker.ietf.org/meeting/110/materials/agenda-110-dnsop-03
DESCRIPTION:Session II\n
 \n
 Meetecho: https://meetings.conf.meetecho.com/ietf110/?group=dnsop&short=&item=1\n
 \n
 Agenda https://datatracker.ietf.org/meeting/110/materials/agenda-110-dnsop-03\n
 \n
 Session materials: https://datatracker.ietf.org/meeting/110/session/dnsop\n
 \n
 See in schedule: https://datatracker.ietf.org/meeting/110/agenda#row-110-2021-03-11-thu-1530-ops-dnsop\n
END:VEVENT
BEGIN:VEVENT
UID:ietf-110-13401-bmwg
SUMMARY:bmwg - Benchmarking Methodology
LOCATION:Room 5
STATUS:CONFIRMED
CLASS:PUBLIC
DTSTART;TZID=Europe/Prague:20210311T170000
DTEND;TZID=Europe/Prague:20210311T190000
DTSTAMP:20210205T124552Z
URL:https://datatracker.ietf.org/meeting/110/materials/agenda-110-bmwg-01
DESCRIPTION:Session III\n
 \n
 Meetecho: https://meetings.conf.meetecho.com/ietf110/?group=bmwg&short=&item=1\n
 \n
 Agenda https://datatracker.ietf.org/meeting/110/materials/agenda-110-bmwg-01\n
 \n
 Session materials: https://datatracker.ietf.org/meeting/110/session/bmwg\n
 \n
 See in schedule: https://datatracker.ietf.org/meeting/110/agenda#row-110-2021-03-11-thu-1700-ops-bmwg\n
END:VEVENT
BEGIN:VEVENT
UID:ietf-110-13400-dnsop
SUMMARY:dnsop - Domain Name System Operations
LOCATION:Room 6
STATUS:CONFIRMED
CLASS:PUBLIC
DTSTART;TZID=Europe/Prague:20210311T170000
DTEND;TZID=Europe/Prague:20210311T190000
DTSTAMP:20210205T124552Z
URL:https://datatracker.ietf.org/meeting/110/materials/agenda-110-dnsop-03
DESCRIPTION:Session III\n
 \n
 Meetecho: https://meetings.conf.meetecho.com/ietf110/?group=dnsop&short=&item=2\n
 \n
 Agenda https://datatracker.ietf.org/meeting/110/materials/agenda-110-dnsop-03\n
 \n
 Session materials: https://datatracker.ietf.org/meeting/110/session/dnsop\n
 \n
 See in schedule: https://datatracker.ietf.org/meeting/110/agenda#row-110-2021-03-11-thu-1700-ops-dnsop\n
END:VEVENT
BEGIN:VEVENT
UID:ietf-110-13393-opsawg
SUMMARY:opsawg - Operations and Management Area Working Group
LOCATION:Room 5
STATUS:CONFIRMED
CLASS:PUBLIC
DTSTART;TZID=Europe/Prague:20210312T130000
DTEND;TZID=Europe/Prague:20210312T150000
DTSTAMP:20210205T124526Z
URL:https://datatracker.ietf.org/meeting/110/materials/agenda-110-opsawg-01
DESCRIPTION:Session I\n
 \n
 Meetecho: https://meetings.conf.meetecho.com/ietf110/?group=opsawg&short=&item=1\n
 \n
 Agenda https://datatracker.ietf.org/meeting/110/materials/agenda-110-opsawg-01\n
 \n
 Session materials: https://datatracker.ietf.org/meeting/110/session/opsawg\n
 \n
 See in schedule: https://datatracker.ietf.org/meeting/110/agenda#row-110-2021-03-12-fri-1300-ops-opsawg\n
END:VEVENT
BEGIN:VEVENT
UID:ietf-110-13617-ops
SUMMARY:OPS AD Office Hours
LOCATION:Ops Office Hours
STATUS:CONFIRMED
CLASS:PUBLIC
DTSTART;TZID=Europe/Prague:20210312T150000
DTEND;TZID=Europe/Prague:20210312T153000
DTSTAMP:20210225T070450Z
DESCRIPTION:OPS AD Office Hours\n
 \n
 Session materials: https://datatracker.ietf.org/meeting/110/session/ops\n
 \n
 See in schedule: https://datatracker.ietf.org/meeting/110/agenda#row-110-2021-03-12-fri-1500-ops-ops-ad-office-hours\n
END:VEVENT
BEGIN:VEVENT
UID:ietf-110-13379-mops
SUMMARY:mops - Media OPerationS
LOCATION:Room 3
STATUS:CONFIRMED
CLASS:PUBLIC
DTSTART;TZID=Europe/Prague:20210312T170000
DTEND;TZID=Europe/Prague:20210312T190000
DTSTAMP:20210205T124543Z
URL:https://datatracker.ietf.org/meeting/110/materials/agenda-110-mops-02
DESCRIPTION:Session III\n
 \n
 Meetecho: https://meetings.conf.meetecho.com/ietf110/?group=mops&short=&item=1\n
 \n
 Agenda https://datatracker.ietf.org/meeting/110/materials/agenda-110-mops-02\n
 \n
 Session materials: https://datatracker.ietf.org/meeting/110/session/mops\n
 \n
 See in schedule: https://datatracker.ietf.org/meeting/110/agenda#row-110-2021-03-12-fri-1700-ops-mops\n
END:VEVENT
BEGIN:VEVENT
UID:ietf-110-13378-netmod
SUMMARY:netmod - Network Modeling
LOCATION:Room 4
STATUS:CONFIRMED
CLASS:PUBLIC
DTSTART;TZID=Europe/Prague:20210312T170000
DTEND;TZID=Europe/Prague:20210312T190000
DTSTAMP:20210205T124543Z
URL:https://datatracker.ietf.org/meeting/110/materials/agenda-110-netmod-02
DESCRIPTION:Session III\n
 \n
 Meetecho: https://meetings.conf.meetecho.com/ietf110/?group=netmod&short=&item=1\n
 \n
 Agenda https://datatracker.ietf.org/meeting/110/materials/agenda-110-netmod-02\n
 \n
 Session materials: https://datatracker.ietf.org/meeting/110/session/netmod\n
 \n
 See in schedule: https://datatracker.ietf.org/meeting/110/agenda#row-110-2021-03-12-fri-1700-ops-netmod\n
END:VEVENT
END:VCALENDAR
