BEGIN:VCALENDAR
VERSION:2.0
METHOD:PUBLISH
PRODID:-//IETF//datatracker.ietf.org ical agenda//EN
BEGIN:VTIMEZONE
TZID:Europe/Prague
X-LIC-LOCATION:Europe/Prague
BEGIN:DAYLIGHT
TZOFFSETFROM:+0100
TZOFFSETTO:+0200
TZNAME:CEST
DTSTART:19810329T020000
RRULE:FREQ=YEARLY;BYMONTH=3;BYDAY=-1SU
END:DAYLIGHT
BEGIN:STANDARD
TZOFFSETFROM:+0200
TZOFFSETTO:+0100
TZNAME:CET
DTSTART:19961027T030000
RRULE:FREQ=YEARLY;BYMONTH=10;BYDAY=-1SU
END:STANDARD
BEGIN:STANDARD
TZOFFSETFROM:+005744
TZOFFSETTO:+005744
TZNAME:PMT
DTSTART:18500101T000000
RDATE:18500101T000000
END:STANDARD
BEGIN:STANDARD
TZOFFSETFROM:+005744
TZOFFSETTO:+0100
TZNAME:CET
DTSTART:18911001T000000
RDATE:18911001T000000
END:STANDARD
BEGIN:DAYLIGHT
TZOFFSETFROM:+0100
TZOFFSETTO:+0200
TZNAME:CEST
DTSTART:19160430T230000
RDATE:19160430T230000
RDATE:19170416T020000
RDATE:19180415T020000
RDATE:19400401T020000
RDATE:19430329T020000
RDATE:19440403T020000
RDATE:19450408T020000
RDATE:19460506T020000
RDATE:19470420T020000
RDATE:19480418T020000
RDATE:19490409T020000
RDATE:19790401T020000
RDATE:19800406T020000
END:DAYLIGHT
BEGIN:STANDARD
TZOFFSETFROM:+0200
TZOFFSETTO:+0100
TZNAME:CET
DTSTART:19161001T010000
RDATE:19161001T010000
RDATE:19170917T030000
RDATE:19180916T030000
RDATE:19421102T030000
RDATE:19431004T030000
RDATE:19440917T030000
RDATE:19451118T030000
RDATE:19461006T030000
RDATE:19471005T030000
RDATE:19481003T030000
RDATE:19491002T030000
RDATE:19790930T030000
RDATE:19800928T030000
RDATE:19810927T030000
RDATE:19820926T030000
RDATE:19830925T030000
RDATE:19840930T030000
RDATE:19850929T030000
RDATE:19860928T030000
RDATE:19870927T030000
RDATE:19880925T030000
RDATE:19890924T030000
RDATE:19900930T030000
RDATE:19910929T030000
RDATE:19920927T030000
RDATE:19930926T030000
RDATE:19940925T030000
RDATE:19950924T030000
END:STANDARD
BEGIN:STANDARD
TZOFFSETFROM:+0100
TZOFFSETTO:+0100
TZNAME:CET
DTSTART:19790101T000000
RDATE:19790101T000000
END:STANDARD
END:VTIMEZONE
BEGIN:VEVENT
UID:ietf-110-13481-mpls
SUMMARY:mpls - Multiprotocol Label Switching
LOCATION:Room 5
STATUS:CONFIRMED
CLASS:PUBLIC
DTSTART;TZID=Europe/Prague:20210308T130000
DTEND;TZID=Europe/Prague:20210308T150000
DTSTAMP:20210205T124238Z
URL:https://datatracker.ietf.org/meeting/110/materials/agenda-110-mpls-02
DESCRIPTION:Session I\n
 \n
 Meetecho: https://meetings.conf.meetecho.com/ietf110/?group=mpls&short=&item=1\n
 \n
 Agenda https://datatracker.ietf.org/meeting/110/materials/agenda-110-mpls-02\n
 \n
 Session materials: https://datatracker.ietf.org/meeting/110/session/mpls\n
 \n
 See in schedule: https://datatracker.ietf.org/meeting/110/agenda#row-110-2021-03-08-mon-1300-rtg-mpls\n
END:VEVENT
BEGIN:VEVENT
UID:ietf-110-13480-raw
SUMMARY:raw - Reliable and Available Wireless
LOCATION:Room 6
STATUS:CONFIRMED
CLASS:PUBLIC
DTSTART;TZID=Europe/Prague:20210308T130000
DTEND;TZID=Europe/Prague:20210308T150000
DTSTAMP:20210205T124238Z
URL:https://datatracker.ietf.org/meeting/110/materials/agenda-110-raw-08
DESCRIPTION:Session I\n
 \n
 Meetecho: https://meetings.conf.meetecho.com/ietf110/?group=raw&short=&item=1\n
 \n
 Agenda https://datatracker.ietf.org/meeting/110/materials/agenda-110-raw-08\n
 \n
 Session materials: https://datatracker.ietf.org/meeting/110/session/raw\n
 \n
 See in schedule: https://datatracker.ietf.org/meeting/110/agenda#row-110-2021-03-08-mon-1300-rtg-raw\n
END:VEVENT
BEGIN:VEVENT
UID:ietf-110-13479-spring
SUMMARY:spring - Source Packet Routing in Networking
LOCATION:Room 7
STATUS:CONFIRMED
CLASS:PUBLIC
DTSTART;TZID=Europe/Prague:20210308T130000
DTEND;TZID=Europe/Prague:20210308T150000
DTSTAMP:20210205T124238Z
URL:https://datatracker.ietf.org/meeting/110/materials/agenda-110-spring-02
DESCRIPTION:Session I\n
 \n
 Meetecho: https://meetings.conf.meetecho.com/ietf110/?group=spring&short=&item=1\n
 \n
 Agenda https://datatracker.ietf.org/meeting/110/materials/agenda-110-spring-02\n
 \n
 Session materials: https://datatracker.ietf.org/meeting/110/session/spring\n
 \n
 See in schedule: https://datatracker.ietf.org/meeting/110/agenda#row-110-2021-03-08-mon-1300-rtg-spring\n
END:VEVENT
BEGIN:VEVENT
UID:ietf-110-13475-detnet
SUMMARY:detnet - Deterministic Networking
LOCATION:Room 3
STATUS:CONFIRMED
CLASS:PUBLIC
DTSTART;TZID=Europe/Prague:20210308T153000
DTEND;TZID=Europe/Prague:20210308T163000
DTSTAMP:20210205T124246Z
URL:https://datatracker.ietf.org/meeting/110/materials/agenda-110-detnet-03
DESCRIPTION:Session II\n
 \n
 Meetecho: https://meetings.conf.meetecho.com/ietf110/?group=detnet&short=&item=1\n
 \n
 Agenda https://datatracker.ietf.org/meeting/110/materials/agenda-110-detnet-03\n
 \n
 Session materials: https://datatracker.ietf.org/meeting/110/session/detnet\n
 \n
 See in schedule: https://datatracker.ietf.org/meeting/110/agenda#row-110-2021-03-08-mon-1530-rtg-detnet\n
END:VEVENT
BEGIN:VEVENT
UID:ietf-110-13474-nvo3
SUMMARY:nvo3 - Network Virtualization Overlays
LOCATION:Room 4
STATUS:CONFIRMED
CLASS:PUBLIC
DTSTART;TZID=Europe/Prague:20210308T153000
DTEND;TZID=Europe/Prague:20210308T163000
DTSTAMP:20210205T124246Z
URL:https://datatracker.ietf.org/meeting/110/materials/agenda-110-nvo3-00
DESCRIPTION:Session II\n
 \n
 Meetecho: https://meetings.conf.meetecho.com/ietf110/?group=nvo3&short=&item=1\n
 \n
 Agenda https://datatracker.ietf.org/meeting/110/materials/agenda-110-nvo3-00\n
 \n
 Session materials: https://datatracker.ietf.org/meeting/110/session/nvo3\n
 \n
 See in schedule: https://datatracker.ietf.org/meeting/110/agenda#row-110-2021-03-08-mon-1530-rtg-nvo3\n
END:VEVENT
BEGIN:VEVENT
UID:ietf-110-13473-rift
SUMMARY:rift - Routing In Fat Trees
LOCATION:Room 5
STATUS:CONFIRMED
CLASS:PUBLIC
DTSTART;TZID=Europe/Prague:20210308T153000
DTEND;TZID=Europe/Prague:20210308T163000
DTSTAMP:20210205T124246Z
URL:https://datatracker.ietf.org/meeting/110/materials/agenda-110-rift-00
DESCRIPTION:Session II\n
 \n
 Meetecho: https://meetings.conf.meetecho.com/ietf110/?group=rift&short=&item=1\n
 \n
 Agenda https://datatracker.ietf.org/meeting/110/materials/agenda-110-rift-00\n
 \n
 Session materials: https://datatracker.ietf.org/meeting/110/session/rift\n
 \n
 See in schedule: https://datatracker.ietf.org/meeting/110/agenda#row-110-2021-03-08-mon-1530-rtg-rift\n
END:VEVENT
BEGIN:VEVENT
UID:ietf-110-13464-lsr
SUMMARY:lsr - Link State Routing
LOCATION:Room 6
STATUS:CONFIRMED
CLASS:PUBLIC
DTSTART;TZID=Europe/Prague:20210308T170000
DTEND;TZID=Europe/Prague:20210308T190000
DTSTAMP:20210205T124253Z
URL:https://datatracker.ietf.org/meeting/110/materials/agenda-110-lsr-04
DESCRIPTION:Session III\n
 \n
 Meetecho: https://meetings.conf.meetecho.com/ietf110/?group=lsr&short=&item=1\n
 \n
 Agenda https://datatracker.ietf.org/meeting/110/materials/agenda-110-lsr-04\n
 \n
 Session materials: https://datatracker.ietf.org/meeting/110/session/lsr\n
 \n
 See in schedule: https://datatracker.ietf.org/meeting/110/agenda#row-110-2021-03-08-mon-1700-rtg-lsr\n
END:VEVENT
BEGIN:VEVENT
UID:ietf-110-13456-bier
SUMMARY:bier - Bit Indexed Explicit Replication
LOCATION:Room 6
STATUS:CONFIRMED
CLASS:PUBLIC
DTSTART;TZID=Europe/Prague:20210309T130000
DTEND;TZID=Europe/Prague:20210309T150000
DTSTAMP:20210205T124303Z
URL:https://datatracker.ietf.org/meeting/110/materials/agenda-110-bier-01
DESCRIPTION:Session I\n
 \n
 Meetecho: https://meetings.conf.meetecho.com/ietf110/?group=bier&short=&item=1\n
 \n
 Agenda https://datatracker.ietf.org/meeting/110/materials/agenda-110-bier-01\n
 \n
 Session materials: https://datatracker.ietf.org/meeting/110/session/bier\n
 \n
 See in schedule: https://datatracker.ietf.org/meeting/110/agenda#row-110-2021-03-09-tue-1300-rtg-bier\n
END:VEVENT
BEGIN:VEVENT
UID:ietf-110-13455-idr
SUMMARY:idr - Inter-Domain Routing
LOCATION:Room 7
STATUS:CONFIRMED
CLASS:PUBLIC
DTSTART;TZID=Europe/Prague:20210309T130000
DTEND;TZID=Europe/Prague:20210309T150000
DTSTAMP:20210205T124303Z
URL:https://datatracker.ietf.org/meeting/110/materials/agenda-110-idr-09
DESCRIPTION:Session I\n
 \n
 Meetecho: https://meetings.conf.meetecho.com/ietf110/?group=idr&short=&item=1\n
 \n
 Agenda https://datatracker.ietf.org/meeting/110/materials/agenda-110-idr-09\n
 \n
 Session materials: https://datatracker.ietf.org/meeting/110/session/idr\n
 \n
 See in schedule: https://datatracker.ietf.org/meeting/110/agenda#row-110-2021-03-09-tue-1300-rtg-idr\n
END:VEVENT
BEGIN:VEVENT
UID:ietf-110-13448-babel
SUMMARY:babel - Babel routing protocol
LOCATION:Room 6
STATUS:CONFIRMED
CLASS:PUBLIC
DTSTART;TZID=Europe/Prague:20210309T153000
DTEND;TZID=Europe/Prague:20210309T163000
DTSTAMP:20210205T124312Z
URL:https://datatracker.ietf.org/meeting/110/materials/agenda-110-babel-02
DESCRIPTION:Session II\n
 \n
 Meetecho: https://meetings.conf.meetecho.com/ietf110/?group=babel&short=&item=1\n
 \n
 Agenda https://datatracker.ietf.org/meeting/110/materials/agenda-110-babel-02\n
 \n
 Session materials: https://datatracker.ietf.org/meeting/110/session/babel\n
 \n
 See in schedule: https://datatracker.ietf.org/meeting/110/agenda#row-110-2021-03-09-tue-1530-rtg-babel\n
END:VEVENT
BEGIN:VEVENT
UID:ietf-110-13447-detnet
SUMMARY:detnet - Deterministic Networking
LOCATION:Room 7
STATUS:CONFIRMED
CLASS:PUBLIC
DTSTART;TZID=Europe/Prague:20210309T153000
DTEND;TZID=Europe/Prague:20210309T163000
DTSTAMP:20210205T124312Z
URL:https://datatracker.ietf.org/meeting/110/materials/agenda-110-detnet-03
DESCRIPTION:Session II\n
 \n
 Meetecho: https://meetings.conf.meetecho.com/ietf110/?group=detnet&short=&item=2\n
 \n
 Agenda https://datatracker.ietf.org/meeting/110/materials/agenda-110-detnet-03\n
 \n
 Session materials: https://datatracker.ietf.org/meeting/110/session/detnet\n
 \n
 See in schedule: https://datatracker.ietf.org/meeting/110/agenda#row-110-2021-03-09-tue-1530-rtg-detnet\n
END:VEVENT
BEGIN:VEVENT
UID:ietf-110-13446-lsvr
SUMMARY:lsvr - Link State Vector Routing
LOCATION:Room 8
STATUS:CONFIRMED
CLASS:PUBLIC
DTSTART;TZID=Europe/Prague:20210309T153000
DTEND;TZID=Europe/Prague:20210309T163000
DTSTAMP:20210205T124312Z
URL:https://datatracker.ietf.org/meeting/110/materials/agenda-110-lsvr-01
DESCRIPTION:Session II\n
 \n
 Meetecho: https://meetings.conf.meetecho.com/ietf110/?group=lsvr&short=&item=1\n
 \n
 Agenda https://datatracker.ietf.org/meeting/110/materials/agenda-110-lsvr-01\n
 \n
 Session materials: https://datatracker.ietf.org/meeting/110/session/lsvr\n
 \n
 See in schedule: https://datatracker.ietf.org/meeting/110/agenda#row-110-2021-03-09-tue-1530-rtg-lsvr\n
END:VEVENT
BEGIN:VEVENT
UID:ietf-110-13440-pim
SUMMARY:pim - Protocols for IP Multicast
LOCATION:Room 6
STATUS:CONFIRMED
CLASS:PUBLIC
DTSTART;TZID=Europe/Prague:20210309T170000
DTEND;TZID=Europe/Prague:20210309T190000
DTSTAMP:20210205T124319Z
URL:https://datatracker.ietf.org/meeting/110/materials/agenda-110-pim-02
DESCRIPTION:Session III\n
 \n
 Meetecho: https://meetings.conf.meetecho.com/ietf110/?group=pim&short=&item=1\n
 \n
 Agenda https://datatracker.ietf.org/meeting/110/materials/agenda-110-pim-02\n
 \n
 Session materials: https://datatracker.ietf.org/meeting/110/session/pim\n
 \n
 See in schedule: https://datatracker.ietf.org/meeting/110/agenda#row-110-2021-03-09-tue-1700-rtg-pim\n
END:VEVENT
BEGIN:VEVENT
UID:ietf-110-13439-teas
SUMMARY:teas - Traffic Engineering Architecture and Signaling
LOCATION:Room 7
STATUS:CONFIRMED
CLASS:PUBLIC
DTSTART;TZID=Europe/Prague:20210309T170000
DTEND;TZID=Europe/Prague:20210309T190000
DTSTAMP:20210205T124319Z
URL:https://datatracker.ietf.org/meeting/110/materials/agenda-110-teas-02
DESCRIPTION:Session III\n
 \n
 Meetecho: https://meetings.conf.meetecho.com/ietf110/?group=teas&short=&item=1\n
 \n
 Agenda https://datatracker.ietf.org/meeting/110/materials/agenda-110-teas-02\n
 \n
 Session materials: https://datatracker.ietf.org/meeting/110/session/teas\n
 \n
 See in schedule: https://datatracker.ietf.org/meeting/110/agenda#row-110-2021-03-09-tue-1700-rtg-teas\n
END:VEVENT
BEGIN:VEVENT
UID:ietf-110-13433-bess
SUMMARY:bess - BGP Enabled ServiceS
LOCATION:Room 5
STATUS:CONFIRMED
CLASS:PUBLIC
DTSTART;TZID=Europe/Prague:20210310T130000
DTEND;TZID=Europe/Prague:20210310T150000
DTSTAMP:20210205T124357Z
URL:https://datatracker.ietf.org/meeting/110/materials/agenda-110-bess-04
DESCRIPTION:Session I\n
 \n
 Meetecho: https://meetings.conf.meetecho.com/ietf110/?group=bess&short=&item=1\n
 \n
 Agenda https://datatracker.ietf.org/meeting/110/materials/agenda-110-bess-04\n
 \n
 Session materials: https://datatracker.ietf.org/meeting/110/session/bess\n
 \n
 See in schedule: https://datatracker.ietf.org/meeting/110/agenda#row-110-2021-03-10-wed-1300-rtg-bess\n
END:VEVENT
BEGIN:VEVENT
UID:ietf-110-13432-pce
SUMMARY:pce - Path Computation Element
LOCATION:Room 6
STATUS:CONFIRMED
CLASS:PUBLIC
DTSTART;TZID=Europe/Prague:20210310T130000
DTEND;TZID=Europe/Prague:20210310T150000
DTSTAMP:20210205T124357Z
URL:https://datatracker.ietf.org/meeting/110/materials/agenda-110-pce-03
DESCRIPTION:Session I\n
 \n
 Meetecho: https://meetings.conf.meetecho.com/ietf110/?group=pce&short=&item=1\n
 \n
 Agenda https://datatracker.ietf.org/meeting/110/materials/agenda-110-pce-03\n
 \n
 Session materials: https://datatracker.ietf.org/meeting/110/session/pce\n
 \n
 See in schedule: https://datatracker.ietf.org/meeting/110/agenda#row-110-2021-03-10-wed-1300-rtg-pce\n
END:VEVENT
BEGIN:VEVENT
UID:ietf-110-13407-idr
SUMMARY:idr - Inter-Domain Routing
LOCATION:Room 7
STATUS:CONFIRMED
CLASS:PUBLIC
DTSTART;TZID=Europe/Prague:20210310T153000
DTEND;TZID=Europe/Prague:20210310T163000
DTSTAMP:20210205T135511Z
URL:https://datatracker.ietf.org/meeting/110/materials/agenda-110-idr-09
DESCRIPTION:Session II\n
 \n
 Meetecho: https://meetings.conf.meetecho.com/ietf110/?group=idr&short=&item=2\n
 \n
 Agenda https://datatracker.ietf.org/meeting/110/materials/agenda-110-idr-09\n
 \n
 Session materials: https://datatracker.ietf.org/meeting/110/session/idr\n
 \n
 See in schedule: https://datatracker.ietf.org/meeting/110/agenda#row-110-2021-03-10-wed-1530-rtg-idr\n
END:VEVENT
BEGIN:VEVENT
UID:ietf-110-13416-ccamp
SUMMARY:ccamp - Common Control and Measurement Plane
LOCATION:Room 6
STATUS:CONFIRMED
CLASS:PUBLIC
DTSTART;TZID=Europe/Prague:20210311T130000
DTEND;TZID=Europe/Prague:20210311T150000
DTSTAMP:20210205T124636Z
URL:https://datatracker.ietf.org/meeting/110/materials/agenda-110-ccamp-01
DESCRIPTION:Session I\n
 \n
 Meetecho: https://meetings.conf.meetecho.com/ietf110/?group=ccamp&short=&item=1\n
 \n
 Agenda https://datatracker.ietf.org/meeting/110/materials/agenda-110-ccamp-01\n
 \n
 Session materials: https://datatracker.ietf.org/meeting/110/session/ccamp\n
 \n
 See in schedule: https://datatracker.ietf.org/meeting/110/agenda#row-110-2021-03-11-thu-1300-rtg-ccamp\n
END:VEVENT
BEGIN:VEVENT
UID:ietf-110-13415-spring
SUMMARY:spring - Source Packet Routing in Networking
LOCATION:Room 7
STATUS:CONFIRMED
CLASS:PUBLIC
DTSTART;TZID=Europe/Prague:20210311T130000
DTEND;TZID=Europe/Prague:20210311T150000
DTSTAMP:20210205T124636Z
URL:https://datatracker.ietf.org/meeting/110/materials/agenda-110-spring-02
DESCRIPTION:Session I\n
 \n
 Meetecho: https://meetings.conf.meetecho.com/ietf110/?group=spring&short=&item=2\n
 \n
 Agenda https://datatracker.ietf.org/meeting/110/materials/agenda-110-spring-02\n
 \n
 Session materials: https://datatracker.ietf.org/meeting/110/session/spring\n
 \n
 See in schedule: https://datatracker.ietf.org/meeting/110/agenda#row-110-2021-03-11-thu-1300-rtg-spring\n
END:VEVENT
BEGIN:VEVENT
UID:ietf-110-13579-bfd
SUMMARY:bfd - Bidirectional Forwarding Detection
LOCATION:Room 5
STATUS:CONFIRMED
CLASS:PUBLIC
DTSTART;TZID=Europe/Prague:20210311T153000
DTEND;TZID=Europe/Prague:20210311T163000
DTSTAMP:20210205T124628Z
URL:https://datatracker.ietf.org/meeting/110/materials/agenda-110-bfd-00
DESCRIPTION:Session II\n
 \n
 Meetecho: https://meetings.conf.meetecho.com/ietf110/?group=bfd&short=&item=1\n
 \n
 Agenda https://datatracker.ietf.org/meeting/110/materials/agenda-110-bfd-00\n
 \n
 Session materials: https://datatracker.ietf.org/meeting/110/session/bfd\n
 \n
 See in schedule: https://datatracker.ietf.org/meeting/110/agenda#row-110-2021-03-11-thu-1530-rtg-bfd\n
END:VEVENT
BEGIN:VEVENT
UID:ietf-110-13578-roll
SUMMARY:roll - Routing Over Low power and Lossy networks
LOCATION:Room 6
STATUS:CONFIRMED
CLASS:PUBLIC
DTSTART;TZID=Europe/Prague:20210311T153000
DTEND;TZID=Europe/Prague:20210311T163000
DTSTAMP:20210205T124628Z
URL:https://datatracker.ietf.org/meeting/110/materials/agenda-110-roll-01
DESCRIPTION:Session II\n
 \n
 Meetecho: https://meetings.conf.meetecho.com/ietf110/?group=roll&short=&item=1\n
 \n
 Agenda https://datatracker.ietf.org/meeting/110/materials/agenda-110-roll-01\n
 \n
 Session materials: https://datatracker.ietf.org/meeting/110/session/roll\n
 \n
 See in schedule: https://datatracker.ietf.org/meeting/110/agenda#row-110-2021-03-11-thu-1530-rtg-roll\n
END:VEVENT
BEGIN:VEVENT
UID:ietf-110-13399-rtgarea
SUMMARY:rtgarea - Routing Area Open Meeting (Joint with RTGWG)
LOCATION:Room 7
STATUS:CONFIRMED
CLASS:PUBLIC
DTSTART;TZID=Europe/Prague:20210311T170000
DTEND;TZID=Europe/Prague:20210311T190000
DTSTAMP:20210205T124552Z
URL:https://datatracker.ietf.org/meeting/110/materials/agenda-110-rtgarea-00
DESCRIPTION:Session III\n
 Note: Joint with RTGWG\n
 \n
 Meetecho: https://meetings.conf.meetecho.com/ietf110/?group=rtgarea&short=&item=1\n
 \n
 Agenda https://datatracker.ietf.org/meeting/110/materials/agenda-110-rtgarea-00\n
 \n
 Session materials: https://datatracker.ietf.org/meeting/110/session/rtgarea\n
 \n
 See in schedule: https://datatracker.ietf.org/meeting/110/agenda#row-110-2021-03-11-thu-1700-rtg-rtgarea\n
END:VEVENT
BEGIN:VEVENT
UID:ietf-110-13399-rtgwg
SUMMARY:rtgwg - Routing Area Working Group (Joint with RTGAREA)
LOCATION:Room 7
STATUS:CONFIRMED
CLASS:PUBLIC
DTSTART;TZID=Europe/Prague:20210311T170000
DTEND;TZID=Europe/Prague:20210311T190000
DTSTAMP:20210205T124552Z
URL:https://datatracker.ietf.org/meeting/110/materials/agenda-110-rtgwg-sessa-02
DESCRIPTION:Session III\n
 Note: Joint with RTGAREA\n
 \n
 Meetecho: https://meetings.conf.meetecho.com/ietf110/?group=rtgwg&short=&item=1\n
 \n
 Agenda https://datatracker.ietf.org/meeting/110/materials/agenda-110-rtgwg-sessa-02\n
 \n
 Session materials: https://datatracker.ietf.org/meeting/110/session/rtgwg\n
 \n
 See in schedule: https://datatracker.ietf.org/meeting/110/agenda#row-110-2021-03-11-thu-1700-rtg-rtgwg\n
END:VEVENT
BEGIN:VEVENT
UID:ietf-110-13392-lisp
SUMMARY:lisp - Locator/ID Separation Protocol
LOCATION:Room 6
STATUS:CANCELLED
CLASS:PUBLIC
DTSTART;TZID=Europe/Prague:20210312T130000
DTEND;TZID=Europe/Prague:20210312T150000
DTSTAMP:20210205T124526Z
DESCRIPTION:Session I\n
 \n
 Meetecho: https://meetings.conf.meetecho.com/ietf110/?group=lisp&short=&item=1\n
 \n
 Session materials: https://datatracker.ietf.org/meeting/110/session/lisp\n
 \n
 See in schedule: https://datatracker.ietf.org/meeting/110/agenda#row-110-2021-03-12-fri-1300-rtg-lisp\n
END:VEVENT
BEGIN:VEVENT
UID:ietf-110-13391-pals
SUMMARY:pals - Pseudowire And LDP-enabled Services (Joint with MPLS, DETNET, and SPRING)
LOCATION:Room 7
STATUS:CONFIRMED
CLASS:PUBLIC
DTSTART;TZID=Europe/Prague:20210312T130000
DTEND;TZID=Europe/Prague:20210312T150000
DTSTAMP:20210205T124526Z
URL:https://datatracker.ietf.org/meeting/110/materials/agenda-110-pals-03
DESCRIPTION:Session I\n
 Note: Joint with MPLS\, DETNET\, and SPRING\n
 \n
 Meetecho: https://meetings.conf.meetecho.com/ietf110/?group=pals&short=&item=1\n
 \n
 Agenda https://datatracker.ietf.org/meeting/110/materials/agenda-110-pals-03\n
 \n
 Session materials: https://datatracker.ietf.org/meeting/110/session/pals\n
 \n
 See in schedule: https://datatracker.ietf.org/meeting/110/agenda#row-110-2021-03-12-fri-1300-rtg-pals\n
END:VEVENT
BEGIN:VEVENT
UID:ietf-110-13383-manet
SUMMARY:manet - Mobile Ad-hoc Networks
LOCATION:Room 7
STATUS:CONFIRMED
CLASS:PUBLIC
DTSTART;TZID=Europe/Prague:20210312T153000
DTEND;TZID=Europe/Prague:20210312T163000
DTSTAMP:20210205T124534Z
URL:https://datatracker.ietf.org/meeting/110/materials/agenda-110-manet-00
DESCRIPTION:Session II\n
 \n
 Meetecho: https://meetings.conf.meetecho.com/ietf110/?group=manet&short=&item=1\n
 \n
 Agenda https://datatracker.ietf.org/meeting/110/materials/agenda-110-manet-00\n
 \n
 Session materials: https://datatracker.ietf.org/meeting/110/session/manet\n
 \n
 See in schedule: https://datatracker.ietf.org/meeting/110/agenda#row-110-2021-03-12-fri-1530-rtg-manet\n
END:VEVENT
BEGIN:VEVENT
UID:ietf-110-13377-rtgwg
SUMMARY:rtgwg - Routing Area Working Group
LOCATION:Room 5
STATUS:CONFIRMED
CLASS:PUBLIC
DTSTART;TZID=Europe/Prague:20210312T170000
DTEND;TZID=Europe/Prague:20210312T190000
DTSTAMP:20210205T124543Z
URL:https://datatracker.ietf.org/meeting/110/materials/agenda-110-rtgwg-sessb-03
DESCRIPTION:Session III\n
 \n
 Meetecho: https://meetings.conf.meetecho.com/ietf110/?group=rtgwg&short=&item=2\n
 \n
 Agenda https://datatracker.ietf.org/meeting/110/materials/agenda-110-rtgwg-sessb-03\n
 \n
 Session materials: https://datatracker.ietf.org/meeting/110/session/rtgwg\n
 \n
 See in schedule: https://datatracker.ietf.org/meeting/110/agenda#row-110-2021-03-12-fri-1700-rtg-rtgwg\n
END:VEVENT
END:VCALENDAR
