BEGIN:VCALENDAR
VERSION:2.0
METHOD:PUBLISH
PRODID:-//IETF//datatracker.ietf.org ical agenda//EN
BEGIN:VTIMEZONE
TZID:Europe/Prague
X-LIC-LOCATION:Europe/Prague
BEGIN:DAYLIGHT
TZOFFSETFROM:+0100
TZOFFSETTO:+0200
TZNAME:CEST
DTSTART:19810329T020000
RRULE:FREQ=YEARLY;BYMONTH=3;BYDAY=-1SU
END:DAYLIGHT
BEGIN:STANDARD
TZOFFSETFROM:+0200
TZOFFSETTO:+0100
TZNAME:CET
DTSTART:19961027T030000
RRULE:FREQ=YEARLY;BYMONTH=10;BYDAY=-1SU
END:STANDARD
BEGIN:STANDARD
TZOFFSETFROM:+005744
TZOFFSETTO:+005744
TZNAME:PMT
DTSTART:18500101T000000
RDATE:18500101T000000
END:STANDARD
BEGIN:STANDARD
TZOFFSETFROM:+005744
TZOFFSETTO:+0100
TZNAME:CET
DTSTART:18911001T000000
RDATE:18911001T000000
END:STANDARD
BEGIN:DAYLIGHT
TZOFFSETFROM:+0100
TZOFFSETTO:+0200
TZNAME:CEST
DTSTART:19160430T230000
RDATE:19160430T230000
RDATE:19170416T020000
RDATE:19180415T020000
RDATE:19400401T020000
RDATE:19430329T020000
RDATE:19440403T020000
RDATE:19450408T020000
RDATE:19460506T020000
RDATE:19470420T020000
RDATE:19480418T020000
RDATE:19490409T020000
RDATE:19790401T020000
RDATE:19800406T020000
END:DAYLIGHT
BEGIN:STANDARD
TZOFFSETFROM:+0200
TZOFFSETTO:+0100
TZNAME:CET
DTSTART:19161001T010000
RDATE:19161001T010000
RDATE:19170917T030000
RDATE:19180916T030000
RDATE:19421102T030000
RDATE:19431004T030000
RDATE:19440917T030000
RDATE:19451118T030000
RDATE:19461006T030000
RDATE:19471005T030000
RDATE:19481003T030000
RDATE:19491002T030000
RDATE:19790930T030000
RDATE:19800928T030000
RDATE:19810927T030000
RDATE:19820926T030000
RDATE:19830925T030000
RDATE:19840930T030000
RDATE:19850929T030000
RDATE:19860928T030000
RDATE:19870927T030000
RDATE:19880925T030000
RDATE:19890924T030000
RDATE:19900930T030000
RDATE:19910929T030000
RDATE:19920927T030000
RDATE:19930926T030000
RDATE:19940925T030000
RDATE:19950924T030000
END:STANDARD
BEGIN:STANDARD
TZOFFSETFROM:+0100
TZOFFSETTO:+0100
TZNAME:CET
DTSTART:19790101T000000
RDATE:19790101T000000
END:STANDARD
END:VTIMEZONE
BEGIN:VEVENT
UID:ietf-110-13618-sec
SUMMARY:sec - Security Area
LOCATION:SEC Office Hours
STATUS:CONFIRMED
CLASS:PUBLIC
DTSTART;TZID=Europe/Prague:20210302T190000
DTEND;TZID=Europe/Prague:20210302T200000
DTSTAMP:20210225T131250Z
DESCRIPTION:SEC AD Office Hours\n
 \n
 Session materials: https://datatracker.ietf.org/meeting/110/session/sec\n
 \n
 See in schedule: https://datatracker.ietf.org/meeting/110/agenda#row-110-2021-03-02-tue-1900-iesg-sec\n
END:VEVENT
BEGIN:VEVENT
UID:ietf-110-13478-emu
SUMMARY:emu - EAP Method Update
LOCATION:Room 8
STATUS:CONFIRMED
CLASS:PUBLIC
DTSTART;TZID=Europe/Prague:20210308T130000
DTEND;TZID=Europe/Prague:20210308T150000
DTSTAMP:20210205T124238Z
URL:https://datatracker.ietf.org/meeting/110/materials/agenda-110-emu-07
DESCRIPTION:Session I\n
 \n
 Meetecho: https://meetings.conf.meetecho.com/ietf110/?group=emu&short=&item=1\n
 \n
 Agenda https://datatracker.ietf.org/meeting/110/materials/agenda-110-emu-07\n
 \n
 Session materials: https://datatracker.ietf.org/meeting/110/session/emu\n
 \n
 See in schedule: https://datatracker.ietf.org/meeting/110/agenda#row-110-2021-03-08-mon-1300-sec-emu\n
END:VEVENT
BEGIN:VEVENT
UID:ietf-110-13533-ipsecme
SUMMARY:ipsecme - IP Security Maintenance and Extensions
LOCATION:Room 9
STATUS:CONFIRMED
CLASS:PUBLIC
DTSTART;TZID=Europe/Prague:20210308T130000
DTEND;TZID=Europe/Prague:20210308T150000
DTSTAMP:20210205T124238Z
URL:https://datatracker.ietf.org/meeting/110/materials/agenda-110-ipsecme-01
DESCRIPTION:Session I\n
 \n
 Meetecho: https://meetings.conf.meetecho.com/ietf110/?group=ipsecme&short=&item=1\n
 \n
 Agenda https://datatracker.ietf.org/meeting/110/materials/agenda-110-ipsecme-01\n
 \n
 Session materials: https://datatracker.ietf.org/meeting/110/session/ipsecme\n
 \n
 See in schedule: https://datatracker.ietf.org/meeting/110/agenda#row-110-2021-03-08-mon-1300-sec-ipsecme\n
END:VEVENT
BEGIN:VEVENT
UID:ietf-110-13472-mls
SUMMARY:mls - Messaging Layer Security
LOCATION:Room 6
STATUS:CONFIRMED
CLASS:PUBLIC
DTSTART;TZID=Europe/Prague:20210308T153000
DTEND;TZID=Europe/Prague:20210308T163000
DTSTAMP:20210205T124246Z
URL:https://datatracker.ietf.org/meeting/110/materials/agenda-110-mls-04
DESCRIPTION:Session II\n
 \n
 Meetecho: https://meetings.conf.meetecho.com/ietf110/?group=mls&short=&item=1\n
 \n
 Agenda https://datatracker.ietf.org/meeting/110/materials/agenda-110-mls-04\n
 \n
 Session materials: https://datatracker.ietf.org/meeting/110/session/mls\n
 \n
 See in schedule: https://datatracker.ietf.org/meeting/110/agenda#row-110-2021-03-08-mon-1530-sec-mls\n
END:VEVENT
BEGIN:VEVENT
UID:ietf-110-13463-tls
SUMMARY:tls - Transport Layer Security
LOCATION:Room 7
STATUS:CONFIRMED
CLASS:PUBLIC
DTSTART;TZID=Europe/Prague:20210308T170000
DTEND;TZID=Europe/Prague:20210308T190000
DTSTAMP:20210205T124253Z
URL:https://datatracker.ietf.org/meeting/110/materials/agenda-110-tls-07
DESCRIPTION:Session III\n
 \n
 Meetecho: https://meetings.conf.meetecho.com/ietf110/?group=tls&short=&item=1\n
 \n
 Agenda https://datatracker.ietf.org/meeting/110/materials/agenda-110-tls-07\n
 \n
 Session materials: https://datatracker.ietf.org/meeting/110/session/tls\n
 \n
 See in schedule: https://datatracker.ietf.org/meeting/110/agenda#row-110-2021-03-08-mon-1700-sec-tls\n
END:VEVENT
BEGIN:VEVENT
UID:ietf-110-13454-lake
SUMMARY:lake - Lightweight Authenticated Key Exchange
LOCATION:Room 8
STATUS:CONFIRMED
CLASS:PUBLIC
DTSTART;TZID=Europe/Prague:20210309T130000
DTEND;TZID=Europe/Prague:20210309T150000
DTSTAMP:20210205T124303Z
URL:https://datatracker.ietf.org/meeting/110/materials/agenda-110-lake-15
DESCRIPTION:Session I\n
 \n
 Meetecho: https://meetings.conf.meetecho.com/ietf110/?group=lake&short=&item=1\n
 \n
 Agenda https://datatracker.ietf.org/meeting/110/materials/agenda-110-lake-15\n
 \n
 Session materials: https://datatracker.ietf.org/meeting/110/session/lake\n
 \n
 See in schedule: https://datatracker.ietf.org/meeting/110/agenda#row-110-2021-03-09-tue-1300-sec-lake\n
END:VEVENT
BEGIN:VEVENT
UID:ietf-110-13530-rats
SUMMARY:rats - Remote ATtestation ProcedureS
LOCATION:Room 9
STATUS:CONFIRMED
CLASS:PUBLIC
DTSTART;TZID=Europe/Prague:20210309T130000
DTEND;TZID=Europe/Prague:20210309T150000
DTSTAMP:20210205T124303Z
URL:https://datatracker.ietf.org/meeting/110/materials/agenda-110-rats-01
DESCRIPTION:Session I\n
 \n
 Meetecho: https://meetings.conf.meetecho.com/ietf110/?group=rats&short=&item=1\n
 \n
 Agenda https://datatracker.ietf.org/meeting/110/materials/agenda-110-rats-01\n
 \n
 Session materials: https://datatracker.ietf.org/meeting/110/session/rats\n
 \n
 See in schedule: https://datatracker.ietf.org/meeting/110/agenda#row-110-2021-03-09-tue-1300-sec-rats\n
END:VEVENT
BEGIN:VEVENT
UID:ietf-110-13529-acme
SUMMARY:acme - Automated Certificate Management Environment
LOCATION:Room 9
STATUS:CONFIRMED
CLASS:PUBLIC
DTSTART;TZID=Europe/Prague:20210309T153000
DTEND;TZID=Europe/Prague:20210309T163000
DTSTAMP:20210205T124312Z
URL:https://datatracker.ietf.org/meeting/110/materials/agenda-110-acme-01
DESCRIPTION:Session II\n
 \n
 Meetecho: https://meetings.conf.meetecho.com/ietf110/?group=acme&short=&item=1\n
 \n
 Agenda https://datatracker.ietf.org/meeting/110/materials/agenda-110-acme-01\n
 \n
 Session materials: https://datatracker.ietf.org/meeting/110/session/acme\n
 \n
 See in schedule: https://datatracker.ietf.org/meeting/110/agenda#row-110-2021-03-09-tue-1530-sec-acme\n
END:VEVENT
BEGIN:VEVENT
UID:ietf-110-13438-gnap
SUMMARY:gnap - Grant Negotiation and Authorization Protocol
LOCATION:Room 8
STATUS:CONFIRMED
CLASS:PUBLIC
DTSTART;TZID=Europe/Prague:20210309T170000
DTEND;TZID=Europe/Prague:20210309T190000
DTSTAMP:20210205T124319Z
URL:https://datatracker.ietf.org/meeting/110/materials/agenda-110-gnap-00
DESCRIPTION:Session III\n
 \n
 Meetecho: https://meetings.conf.meetecho.com/ietf110/?group=gnap&short=&item=1\n
 \n
 Agenda https://datatracker.ietf.org/meeting/110/materials/agenda-110-gnap-00\n
 \n
 Session materials: https://datatracker.ietf.org/meeting/110/session/gnap\n
 \n
 See in schedule: https://datatracker.ietf.org/meeting/110/agenda#row-110-2021-03-09-tue-1700-sec-gnap\n
END:VEVENT
BEGIN:VEVENT
UID:ietf-110-13431-sacm
SUMMARY:sacm - Security Automation and Continuous Monitoring
LOCATION:Room 7
STATUS:CONFIRMED
CLASS:PUBLIC
DTSTART;TZID=Europe/Prague:20210310T130000
DTEND;TZID=Europe/Prague:20210310T150000
DTSTAMP:20210205T124357Z
URL:https://datatracker.ietf.org/meeting/110/materials/agenda-110-sacm-00
DESCRIPTION:Session I\n
 \n
 Meetecho: https://meetings.conf.meetecho.com/ietf110/?group=sacm&short=&item=1\n
 \n
 Agenda https://datatracker.ietf.org/meeting/110/materials/agenda-110-sacm-00\n
 \n
 Session materials: https://datatracker.ietf.org/meeting/110/session/sacm\n
 \n
 See in schedule: https://datatracker.ietf.org/meeting/110/agenda#row-110-2021-03-10-wed-1300-sec-sacm\n
END:VEVENT
BEGIN:VEVENT
UID:ietf-110-13430-teep
SUMMARY:teep - Trusted Execution Environment Provisioning
LOCATION:Room 8
STATUS:CONFIRMED
CLASS:PUBLIC
DTSTART;TZID=Europe/Prague:20210310T130000
DTEND;TZID=Europe/Prague:20210310T150000
DTSTAMP:20210205T124357Z
URL:https://datatracker.ietf.org/meeting/110/materials/agenda-110-teep-00
DESCRIPTION:Session I\n
 \n
 Meetecho: https://meetings.conf.meetecho.com/ietf110/?group=teep&short=&item=1\n
 \n
 Agenda https://datatracker.ietf.org/meeting/110/materials/agenda-110-teep-00\n
 \n
 Session materials: https://datatracker.ietf.org/meeting/110/session/teep\n
 \n
 See in schedule: https://datatracker.ietf.org/meeting/110/agenda#row-110-2021-03-10-wed-1300-sec-teep\n
END:VEVENT
BEGIN:VEVENT
UID:ietf-110-13406-rats
SUMMARY:rats - Remote ATtestation ProcedureS
LOCATION:Room 8
STATUS:CONFIRMED
CLASS:PUBLIC
DTSTART;TZID=Europe/Prague:20210310T153000
DTEND;TZID=Europe/Prague:20210310T163000
DTSTAMP:20210205T135511Z
URL:https://datatracker.ietf.org/meeting/110/materials/agenda-110-rats-01
DESCRIPTION:Session II\n
 \n
 Meetecho: https://meetings.conf.meetecho.com/ietf110/?group=rats&short=&item=2\n
 \n
 Agenda https://datatracker.ietf.org/meeting/110/materials/agenda-110-rats-01\n
 \n
 Session materials: https://datatracker.ietf.org/meeting/110/session/rats\n
 \n
 See in schedule: https://datatracker.ietf.org/meeting/110/agenda#row-110-2021-03-10-wed-1530-sec-rats\n
END:VEVENT
BEGIN:VEVENT
UID:ietf-110-13414-saag
SUMMARY:saag - Security Area Open Meeting
LOCATION:Room 8
STATUS:CONFIRMED
CLASS:PUBLIC
DTSTART;TZID=Europe/Prague:20210311T130000
DTEND;TZID=Europe/Prague:20210311T150000
DTSTAMP:20210205T124636Z
URL:https://datatracker.ietf.org/meeting/110/materials/agenda-110-saag-02
DESCRIPTION:Session I\n
 \n
 Meetecho: https://meetings.conf.meetecho.com/ietf110/?group=saag&short=&item=1\n
 \n
 Agenda https://datatracker.ietf.org/meeting/110/materials/agenda-110-saag-02\n
 \n
 Session materials: https://datatracker.ietf.org/meeting/110/session/saag\n
 \n
 See in schedule: https://datatracker.ietf.org/meeting/110/agenda#row-110-2021-03-11-thu-1300-sec-saag\n
END:VEVENT
BEGIN:VEVENT
UID:ietf-110-13577-openpgp
SUMMARY:openpgp - Open Specification for Pretty Good Privacy
LOCATION:Room 7
STATUS:CONFIRMED
CLASS:PUBLIC
DTSTART;TZID=Europe/Prague:20210311T153000
DTEND;TZID=Europe/Prague:20210311T163000
DTSTAMP:20210205T124628Z
URL:https://datatracker.ietf.org/meeting/110/materials/agenda-110-openpgp-02
DESCRIPTION:Session II\n
 \n
 Meetecho: https://meetings.conf.meetecho.com/ietf110/?group=openpgp&short=&item=1\n
 \n
 Agenda https://datatracker.ietf.org/meeting/110/materials/agenda-110-openpgp-02\n
 \n
 Session materials: https://datatracker.ietf.org/meeting/110/session/openpgp\n
 \n
 See in schedule: https://datatracker.ietf.org/meeting/110/agenda#row-110-2021-03-11-thu-1530-sec-openpgp\n
END:VEVENT
BEGIN:VEVENT
UID:ietf-110-13576-suit
SUMMARY:suit - Software Updates for Internet of Things
LOCATION:Room 8
STATUS:CONFIRMED
CLASS:PUBLIC
DTSTART;TZID=Europe/Prague:20210311T153000
DTEND;TZID=Europe/Prague:20210311T163000
DTSTAMP:20210205T124628Z
URL:https://datatracker.ietf.org/meeting/110/materials/agenda-110-suit-00
DESCRIPTION:Session II\n
 \n
 Meetecho: https://meetings.conf.meetecho.com/ietf110/?group=suit&short=&item=1\n
 \n
 Agenda https://datatracker.ietf.org/meeting/110/materials/agenda-110-suit-00\n
 \n
 Session materials: https://datatracker.ietf.org/meeting/110/session/suit\n
 \n
 See in schedule: https://datatracker.ietf.org/meeting/110/agenda#row-110-2021-03-11-thu-1530-sec-suit\n
END:VEVENT
BEGIN:VEVENT
UID:ietf-110-13398-secdispatch
SUMMARY:secdispatch - Security Dispatch
LOCATION:Room 8
STATUS:CONFIRMED
CLASS:PUBLIC
DTSTART;TZID=Europe/Prague:20210311T170000
DTEND;TZID=Europe/Prague:20210311T190000
DTSTAMP:20210205T124552Z
URL:https://datatracker.ietf.org/meeting/110/materials/agenda-110-secdispatch-01
DESCRIPTION:Session III\n
 \n
 Meetecho: https://meetings.conf.meetecho.com/ietf110/?group=secdispatch&short=&item=1\n
 \n
 Agenda https://datatracker.ietf.org/meeting/110/materials/agenda-110-secdispatch-01\n
 \n
 Session materials: https://datatracker.ietf.org/meeting/110/session/secdispatch\n
 \n
 See in schedule: https://datatracker.ietf.org/meeting/110/agenda#row-110-2021-03-11-thu-1700-sec-secdispatch\n
END:VEVENT
BEGIN:VEVENT
UID:ietf-110-13390-danish
SUMMARY:danish - DANE AutheNtication for Iot Service Hardening
LOCATION:Room 8
STATUS:CONFIRMED
CLASS:PUBLIC
DTSTART;TZID=Europe/Prague:20210312T130000
DTEND;TZID=Europe/Prague:20210312T150000
DTSTAMP:20210205T124526Z
URL:https://datatracker.ietf.org/meeting/110/materials/agenda-110-danish-01
DESCRIPTION:Session I\n
 \n
 Meetecho: https://meetings.conf.meetecho.com/ietf110/?group=danish&short=&item=1\n
 \n
 Agenda https://datatracker.ietf.org/meeting/110/materials/agenda-110-danish-01\n
 \n
 Session materials: https://datatracker.ietf.org/meeting/110/session/danish\n
 \n
 See in schedule: https://datatracker.ietf.org/meeting/110/agenda#row-110-2021-03-12-fri-1300-sec-danish\n
END:VEVENT
BEGIN:VEVENT
UID:ietf-110-13382-cose
SUMMARY:cose - CBOR Object Signing and Encryption
LOCATION:Room 8
STATUS:CONFIRMED
CLASS:PUBLIC
DTSTART;TZID=Europe/Prague:20210312T153000
DTEND;TZID=Europe/Prague:20210312T163000
DTSTAMP:20210205T124534Z
URL:https://datatracker.ietf.org/meeting/110/materials/agenda-110-cose-00
DESCRIPTION:Session II\n
 \n
 Meetecho: https://meetings.conf.meetecho.com/ietf110/?group=cose&short=&item=1\n
 \n
 Agenda https://datatracker.ietf.org/meeting/110/materials/agenda-110-cose-00\n
 \n
 Session materials: https://datatracker.ietf.org/meeting/110/session/cose\n
 \n
 See in schedule: https://datatracker.ietf.org/meeting/110/agenda#row-110-2021-03-12-fri-1530-sec-cose\n
END:VEVENT
BEGIN:VEVENT
UID:ietf-110-13376-ace
SUMMARY:ace - Authentication and Authorization for Constrained Environments
LOCATION:Room 6
STATUS:CONFIRMED
CLASS:PUBLIC
DTSTART;TZID=Europe/Prague:20210312T170000
DTEND;TZID=Europe/Prague:20210312T190000
DTSTAMP:20210205T124543Z
URL:https://datatracker.ietf.org/meeting/110/materials/agenda-110-ace-04
DESCRIPTION:Session III\n
 \n
 Meetecho: https://meetings.conf.meetecho.com/ietf110/?group=ace&short=&item=1\n
 \n
 Agenda https://datatracker.ietf.org/meeting/110/materials/agenda-110-ace-04\n
 \n
 Session materials: https://datatracker.ietf.org/meeting/110/session/ace\n
 \n
 See in schedule: https://datatracker.ietf.org/meeting/110/agenda#row-110-2021-03-12-fri-1700-sec-ace\n
END:VEVENT
BEGIN:VEVENT
UID:ietf-110-13375-lamps
SUMMARY:lamps - Limited Additional Mechanisms for PKIX and SMIME
LOCATION:Room 7
STATUS:CONFIRMED
CLASS:PUBLIC
DTSTART;TZID=Europe/Prague:20210312T170000
DTEND;TZID=Europe/Prague:20210312T190000
DTSTAMP:20210205T124543Z
URL:https://datatracker.ietf.org/meeting/110/materials/agenda-110-lamps-00
DESCRIPTION:Session III\n
 \n
 Meetecho: https://meetings.conf.meetecho.com/ietf110/?group=lamps&short=&item=1\n
 \n
 Agenda https://datatracker.ietf.org/meeting/110/materials/agenda-110-lamps-00\n
 \n
 Session materials: https://datatracker.ietf.org/meeting/110/session/lamps\n
 \n
 See in schedule: https://datatracker.ietf.org/meeting/110/agenda#row-110-2021-03-12-fri-1700-sec-lamps\n
END:VEVENT
BEGIN:VEVENT
UID:ietf-110-13374-privacypass
SUMMARY:privacypass - Privacy Pass
LOCATION:Room 8
STATUS:CONFIRMED
CLASS:PUBLIC
DTSTART;TZID=Europe/Prague:20210312T170000
DTEND;TZID=Europe/Prague:20210312T190000
DTSTAMP:20210205T124543Z
URL:https://datatracker.ietf.org/meeting/110/materials/agenda-110-privacypass-03
DESCRIPTION:Session III\n
 \n
 Meetecho: https://meetings.conf.meetecho.com/ietf110/?group=privacypass&short=&item=1\n
 \n
 Agenda https://datatracker.ietf.org/meeting/110/materials/agenda-110-privacypass-03\n
 \n
 Session materials: https://datatracker.ietf.org/meeting/110/session/privacypass\n
 \n
 See in schedule: https://datatracker.ietf.org/meeting/110/agenda#row-110-2021-03-12-fri-1700-sec-privacypass\n
END:VEVENT
END:VCALENDAR
