BEGIN:VCALENDAR
VERSION:2.0
METHOD:PUBLISH
PRODID:-//IETF//datatracker.ietf.org ical agenda//EN
BEGIN:VTIMEZONE
TZID:Europe/Prague
X-LIC-LOCATION:Europe/Prague
BEGIN:DAYLIGHT
TZOFFSETFROM:+0100
TZOFFSETTO:+0200
TZNAME:CEST
DTSTART:19810329T020000
RRULE:FREQ=YEARLY;BYMONTH=3;BYDAY=-1SU
END:DAYLIGHT
BEGIN:STANDARD
TZOFFSETFROM:+0200
TZOFFSETTO:+0100
TZNAME:CET
DTSTART:19961027T030000
RRULE:FREQ=YEARLY;BYMONTH=10;BYDAY=-1SU
END:STANDARD
BEGIN:STANDARD
TZOFFSETFROM:+005744
TZOFFSETTO:+005744
TZNAME:PMT
DTSTART:18500101T000000
RDATE:18500101T000000
END:STANDARD
BEGIN:STANDARD
TZOFFSETFROM:+005744
TZOFFSETTO:+0100
TZNAME:CET
DTSTART:18911001T000000
RDATE:18911001T000000
END:STANDARD
BEGIN:DAYLIGHT
TZOFFSETFROM:+0100
TZOFFSETTO:+0200
TZNAME:CEST
DTSTART:19160430T230000
RDATE:19160430T230000
RDATE:19170416T020000
RDATE:19180415T020000
RDATE:19400401T020000
RDATE:19430329T020000
RDATE:19440403T020000
RDATE:19450408T020000
RDATE:19460506T020000
RDATE:19470420T020000
RDATE:19480418T020000
RDATE:19490409T020000
RDATE:19790401T020000
RDATE:19800406T020000
END:DAYLIGHT
BEGIN:STANDARD
TZOFFSETFROM:+0200
TZOFFSETTO:+0100
TZNAME:CET
DTSTART:19161001T010000
RDATE:19161001T010000
RDATE:19170917T030000
RDATE:19180916T030000
RDATE:19421102T030000
RDATE:19431004T030000
RDATE:19440917T030000
RDATE:19451118T030000
RDATE:19461006T030000
RDATE:19471005T030000
RDATE:19481003T030000
RDATE:19491002T030000
RDATE:19790930T030000
RDATE:19800928T030000
RDATE:19810927T030000
RDATE:19820926T030000
RDATE:19830925T030000
RDATE:19840930T030000
RDATE:19850929T030000
RDATE:19860928T030000
RDATE:19870927T030000
RDATE:19880925T030000
RDATE:19890924T030000
RDATE:19900930T030000
RDATE:19910929T030000
RDATE:19920927T030000
RDATE:19930926T030000
RDATE:19940925T030000
RDATE:19950924T030000
END:STANDARD
BEGIN:STANDARD
TZOFFSETFROM:+0100
TZOFFSETTO:+0100
TZNAME:CET
DTSTART:19790101T000000
RDATE:19790101T000000
END:STANDARD
END:VTIMEZONE
BEGIN:VEVENT
UID:ietf-110-13471-ippm
SUMMARY:ippm - IP Performance Measurement
LOCATION:Room 7
STATUS:CONFIRMED
CLASS:PUBLIC
DTSTART;TZID=Europe/Prague:20210308T153000
DTEND;TZID=Europe/Prague:20210308T163000
DTSTAMP:20210205T124246Z
URL:https://datatracker.ietf.org/meeting/110/materials/agenda-110-ippm-02
DESCRIPTION:Session II\n
 \n
 Meetecho: https://meetings.conf.meetecho.com/ietf110/?group=ippm&short=&item=1\n
 \n
 Agenda https://datatracker.ietf.org/meeting/110/materials/agenda-110-ippm-02\n
 \n
 Session materials: https://datatracker.ietf.org/meeting/110/session/ippm\n
 \n
 See in schedule: https://datatracker.ietf.org/meeting/110/agenda#row-110-2021-03-08-mon-1530-tsv-ippm\n
END:VEVENT
BEGIN:VEVENT
UID:ietf-110-13462-tsvwg
SUMMARY:tsvwg - Transport Area Working Group
LOCATION:Room 8
STATUS:CONFIRMED
CLASS:PUBLIC
DTSTART;TZID=Europe/Prague:20210308T170000
DTEND;TZID=Europe/Prague:20210308T190000
DTSTAMP:20210205T124253Z
URL:https://datatracker.ietf.org/meeting/110/materials/agenda-110-tsvwg-07
DESCRIPTION:Session III\n
 \n
 Meetecho: https://meetings.conf.meetecho.com/ietf110/?group=tsvwg&short=&item=1\n
 \n
 Agenda https://datatracker.ietf.org/meeting/110/materials/agenda-110-tsvwg-07\n
 \n
 Session materials: https://datatracker.ietf.org/meeting/110/session/tsvwg\n
 \n
 See in schedule: https://datatracker.ietf.org/meeting/110/agenda#row-110-2021-03-08-mon-1700-tsv-tsvwg\n
END:VEVENT
BEGIN:VEVENT
UID:ietf-110-13528-masque
SUMMARY:masque - Multiplexed Application Substrate over QUIC Encryption
LOCATION:Room 9
STATUS:CONFIRMED
CLASS:PUBLIC
DTSTART;TZID=Europe/Prague:20210309T170000
DTEND;TZID=Europe/Prague:20210309T190000
DTSTAMP:20210205T124319Z
URL:https://datatracker.ietf.org/meeting/110/materials/agenda-110-masque-02
DESCRIPTION:Session III\n
 \n
 Meetecho: https://meetings.conf.meetecho.com/ietf110/?group=masque&short=&item=1\n
 \n
 Agenda https://datatracker.ietf.org/meeting/110/materials/agenda-110-masque-02\n
 \n
 Session materials: https://datatracker.ietf.org/meeting/110/session/masque\n
 \n
 See in schedule: https://datatracker.ietf.org/meeting/110/agenda#row-110-2021-03-09-tue-1700-tsv-masque\n
END:VEVENT
BEGIN:VEVENT
UID:ietf-110-13527-quic
SUMMARY:quic - QUIC
LOCATION:Room 9
STATUS:CONFIRMED
CLASS:PUBLIC
DTSTART;TZID=Europe/Prague:20210310T130000
DTEND;TZID=Europe/Prague:20210310T150000
DTSTAMP:20210205T124357Z
URL:https://datatracker.ietf.org/meeting/110/materials/agenda-110-quic-04
DESCRIPTION:Session I\n
 \n
 Meetecho: https://meetings.conf.meetecho.com/ietf110/?group=quic&short=&item=1\n
 \n
 Agenda https://datatracker.ietf.org/meeting/110/materials/agenda-110-quic-04\n
 \n
 Session materials: https://datatracker.ietf.org/meeting/110/session/quic\n
 \n
 See in schedule: https://datatracker.ietf.org/meeting/110/agenda#row-110-2021-03-10-wed-1300-tsv-quic\n
END:VEVENT
BEGIN:VEVENT
UID:ietf-110-13524-tsvwg
SUMMARY:tsvwg - Transport Area Working Group
LOCATION:Room 9
STATUS:CONFIRMED
CLASS:PUBLIC
DTSTART;TZID=Europe/Prague:20210310T153000
DTEND;TZID=Europe/Prague:20210310T163000
DTSTAMP:20210205T135511Z
URL:https://datatracker.ietf.org/meeting/110/materials/agenda-110-tsvwg-07
DESCRIPTION:Session II\n
 \n
 Meetecho: https://meetings.conf.meetecho.com/ietf110/?group=tsvwg&short=&item=2\n
 \n
 Agenda https://datatracker.ietf.org/meeting/110/materials/agenda-110-tsvwg-07\n
 \n
 Session materials: https://datatracker.ietf.org/meeting/110/session/tsvwg\n
 \n
 See in schedule: https://datatracker.ietf.org/meeting/110/agenda#row-110-2021-03-10-wed-1530-tsv-tsvwg\n
END:VEVENT
BEGIN:VEVENT
UID:ietf-110-13525-tsvarea
SUMMARY:tsvarea - Transport Area Open Meeting
LOCATION:Room 9
STATUS:CONFIRMED
CLASS:PUBLIC
DTSTART;TZID=Europe/Prague:20210311T130000
DTEND;TZID=Europe/Prague:20210311T150000
DTSTAMP:20210205T124636Z
URL:https://datatracker.ietf.org/meeting/110/materials/agenda-110-tsvarea-00
DESCRIPTION:Session I\n
 \n
 Meetecho: https://meetings.conf.meetecho.com/ietf110/?group=tsvarea&short=&item=1\n
 \n
 Agenda https://datatracker.ietf.org/meeting/110/materials/agenda-110-tsvarea-00\n
 \n
 Session materials: https://datatracker.ietf.org/meeting/110/session/tsvarea\n
 \n
 See in schedule: https://datatracker.ietf.org/meeting/110/agenda#row-110-2021-03-11-thu-1300-tsv-tsvarea\n
END:VEVENT
BEGIN:VEVENT
UID:ietf-110-13523-dtn
SUMMARY:dtn - Delay/Disruption Tolerant Networking
LOCATION:Room 9
STATUS:CONFIRMED
CLASS:PUBLIC
DTSTART;TZID=Europe/Prague:20210311T170000
DTEND;TZID=Europe/Prague:20210311T190000
DTSTAMP:20210205T124552Z
URL:https://datatracker.ietf.org/meeting/110/materials/agenda-110-dtn-01
DESCRIPTION:Session III\n
 \n
 Meetecho: https://meetings.conf.meetecho.com/ietf110/?group=dtn&short=&item=1\n
 \n
 Agenda https://datatracker.ietf.org/meeting/110/materials/agenda-110-dtn-01\n
 \n
 Session materials: https://datatracker.ietf.org/meeting/110/session/dtn\n
 \n
 See in schedule: https://datatracker.ietf.org/meeting/110/agenda#row-110-2021-03-11-thu-1700-tsv-dtn\n
END:VEVENT
BEGIN:VEVENT
UID:ietf-110-13522-tcpm
SUMMARY:tcpm - TCP Maintenance and Minor Extensions
LOCATION:Room 9
STATUS:CONFIRMED
CLASS:PUBLIC
DTSTART;TZID=Europe/Prague:20210312T130000
DTEND;TZID=Europe/Prague:20210312T150000
DTSTAMP:20210205T124526Z
URL:https://datatracker.ietf.org/meeting/110/materials/agenda-110-tcpm-05
DESCRIPTION:Session I\n
 \n
 Meetecho: https://meetings.conf.meetecho.com/ietf110/?group=tcpm&short=&item=1\n
 \n
 Agenda https://datatracker.ietf.org/meeting/110/materials/agenda-110-tcpm-05\n
 \n
 Session materials: https://datatracker.ietf.org/meeting/110/session/tcpm\n
 \n
 See in schedule: https://datatracker.ietf.org/meeting/110/agenda#row-110-2021-03-12-fri-1300-tsv-tcpm\n
END:VEVENT
BEGIN:VEVENT
UID:ietf-110-13521-alto
SUMMARY:alto - Application-Layer Traffic Optimization
LOCATION:Room 9
STATUS:CONFIRMED
CLASS:PUBLIC
DTSTART;TZID=Europe/Prague:20210312T153000
DTEND;TZID=Europe/Prague:20210312T163000
DTSTAMP:20210205T124534Z
URL:https://datatracker.ietf.org/meeting/110/materials/agenda-110-alto-07
DESCRIPTION:Session II\n
 \n
 Meetecho: https://meetings.conf.meetecho.com/ietf110/?group=alto&short=&item=1\n
 \n
 Agenda https://datatracker.ietf.org/meeting/110/materials/agenda-110-alto-07\n
 \n
 Session materials: https://datatracker.ietf.org/meeting/110/session/alto\n
 \n
 See in schedule: https://datatracker.ietf.org/meeting/110/agenda#row-110-2021-03-12-fri-1530-tsv-alto\n
END:VEVENT
BEGIN:VEVENT
UID:ietf-110-13520-ippm
SUMMARY:ippm - IP Performance Measurement
LOCATION:Room 9
STATUS:CONFIRMED
CLASS:PUBLIC
DTSTART;TZID=Europe/Prague:20210312T170000
DTEND;TZID=Europe/Prague:20210312T190000
DTSTAMP:20210205T124543Z
URL:https://datatracker.ietf.org/meeting/110/materials/agenda-110-ippm-02
DESCRIPTION:Session III\n
 \n
 Meetecho: https://meetings.conf.meetecho.com/ietf110/?group=ippm&short=&item=2\n
 \n
 Agenda https://datatracker.ietf.org/meeting/110/materials/agenda-110-ippm-02\n
 \n
 Session materials: https://datatracker.ietf.org/meeting/110/session/ippm\n
 \n
 See in schedule: https://datatracker.ietf.org/meeting/110/agenda#row-110-2021-03-12-fri-1700-tsv-ippm\n
END:VEVENT
END:VCALENDAR
