BEGIN:VCALENDAR
VERSION:2.0
METHOD:PUBLISH
PRODID:-//IETF//datatracker.ietf.org ical agenda//EN
BEGIN:VTIMEZONE
TZID:America/Los_Angeles
X-LIC-LOCATION:America/Los_Angeles
BEGIN:DAYLIGHT
TZOFFSETFROM:-0800
TZOFFSETTO:-0700
TZNAME:PDT
DTSTART:20070311T020000
RRULE:FREQ=YEARLY;BYMONTH=3;BYDAY=2SU
END:DAYLIGHT
BEGIN:STANDARD
TZOFFSETFROM:-0700
TZOFFSETTO:-0800
TZNAME:PST
DTSTART:20071104T020000
RRULE:FREQ=YEARLY;BYMONTH=11;BYDAY=1SU
END:STANDARD
BEGIN:STANDARD
TZOFFSETFROM:-075258
TZOFFSETTO:-0800
TZNAME:PST
DTSTART:18831118T120702
RDATE:18831118T120702
END:STANDARD
BEGIN:DAYLIGHT
TZOFFSETFROM:-0800
TZOFFSETTO:-0700
TZNAME:PDT
DTSTART:19180331T020000
RDATE:19180331T020000
RDATE:19190330T020000
RDATE:19480314T020000
RDATE:19500430T020000
RDATE:19510429T020000
RDATE:19520427T020000
RDATE:19530426T020000
RDATE:19540425T020000
RDATE:19550424T020000
RDATE:19560429T020000
RDATE:19570428T020000
RDATE:19580427T020000
RDATE:19590426T020000
RDATE:19600424T020000
RDATE:19610430T020000
RDATE:19620429T020000
RDATE:19630428T020000
RDATE:19640426T020000
RDATE:19650425T020000
RDATE:19660424T020000
RDATE:19670430T020000
RDATE:19680428T020000
RDATE:19690427T020000
RDATE:19700426T020000
RDATE:19710425T020000
RDATE:19720430T020000
RDATE:19730429T020000
RDATE:19740106T020000
RDATE:19750223T020000
RDATE:19760425T020000
RDATE:19770424T020000
RDATE:19780430T020000
RDATE:19790429T020000
RDATE:19800427T020000
RDATE:19810426T020000
RDATE:19820425T020000
RDATE:19830424T020000
RDATE:19840429T020000
RDATE:19850428T020000
RDATE:19860427T020000
RDATE:19870405T020000
RDATE:19880403T020000
RDATE:19890402T020000
RDATE:19900401T020000
RDATE:19910407T020000
RDATE:19920405T020000
RDATE:19930404T020000
RDATE:19940403T020000
RDATE:19950402T020000
RDATE:19960407T020000
RDATE:19970406T020000
RDATE:19980405T020000
RDATE:19990404T020000
RDATE:20000402T020000
RDATE:20010401T020000
RDATE:20020407T020000
RDATE:20030406T020000
RDATE:20040404T020000
RDATE:20050403T020000
RDATE:20060402T020000
END:DAYLIGHT
BEGIN:STANDARD
TZOFFSETFROM:-0700
TZOFFSETTO:-0800
TZNAME:PST
DTSTART:19181027T020000
RDATE:19181027T020000
RDATE:19191026T020000
RDATE:19450930T020000
RDATE:19490101T020000
RDATE:19500924T020000
RDATE:19510930T020000
RDATE:19520928T020000
RDATE:19530927T020000
RDATE:19540926T020000
RDATE:19550925T020000
RDATE:19560930T020000
RDATE:19570929T020000
RDATE:19580928T020000
RDATE:19590927T020000
RDATE:19600925T020000
RDATE:19610924T020000
RDATE:19621028T020000
RDATE:19631027T020000
RDATE:19641025T020000
RDATE:19651031T020000
RDATE:19661030T020000
RDATE:19671029T020000
RDATE:19681027T020000
RDATE:19691026T020000
RDATE:19701025T020000
RDATE:19711031T020000
RDATE:19721029T020000
RDATE:19731028T020000
RDATE:19741027T020000
RDATE:19751026T020000
RDATE:19761031T020000
RDATE:19771030T020000
RDATE:19781029T020000
RDATE:19791028T020000
RDATE:19801026T020000
RDATE:19811025T020000
RDATE:19821031T020000
RDATE:19831030T020000
RDATE:19841028T020000
RDATE:19851027T020000
RDATE:19861026T020000
RDATE:19871025T020000
RDATE:19881030T020000
RDATE:19891029T020000
RDATE:19901028T020000
RDATE:19911027T020000
RDATE:19921025T020000
RDATE:19931031T020000
RDATE:19941030T020000
RDATE:19951029T020000
RDATE:19961027T020000
RDATE:19971026T020000
RDATE:19981025T020000
RDATE:19991031T020000
RDATE:20001029T020000
RDATE:20011028T020000
RDATE:20021027T020000
RDATE:20031026T020000
RDATE:20041031T020000
RDATE:20051030T020000
RDATE:20061029T020000
END:STANDARD
BEGIN:DAYLIGHT
TZOFFSETFROM:-0800
TZOFFSETTO:-0700
TZNAME:PWT
DTSTART:19420209T020000
RDATE:19420209T020000
END:DAYLIGHT
BEGIN:DAYLIGHT
TZOFFSETFROM:-0700
TZOFFSETTO:-0700
TZNAME:PPT
DTSTART:19450814T160000
RDATE:19450814T160000
END:DAYLIGHT
BEGIN:STANDARD
TZOFFSETFROM:-0800
TZOFFSETTO:-0800
TZNAME:PST
DTSTART:19460101T000000
RDATE:19460101T000000
RDATE:19670101T000000
END:STANDARD
END:VTIMEZONE
BEGIN:VEVENT
UID:ietf-111-13878-art
SUMMARY:ART AD Office Hours
LOCATION:Webex
STATUS:CONFIRMED
CLASS:PUBLIC
DTSTART;TZID=America/Los_Angeles:20210726T100000
DTEND;TZID=America/Los_Angeles:20210726T110000
DTSTAMP:20210721T090952Z
DESCRIPTION:ART AD Office Hours\n
 \n
 Session materials: https://datatracker.ietf.org/meeting/111/session/art\n
 \n
 See in schedule: https://datatracker.ietf.org/meeting/111/agenda#row-111-2021-07-26-mon-1000-art-art-ad-office-hours\n
END:VEVENT
BEGIN:VEVENT
UID:ietf-111-13794-dispatch
SUMMARY:dispatch - Dispatch (Joint with ARTAREA)
LOCATION:Room 1
STATUS:CONFIRMED
CLASS:PUBLIC
DTSTART;TZID=America/Los_Angeles:20210726T120000
DTEND;TZID=America/Los_Angeles:20210726T140000
DTSTAMP:20210618T120943Z
URL:https://datatracker.ietf.org/meeting/111/materials/agenda-111-dispatch-02
DESCRIPTION:Session I\n
 Note: Joint with ARTAREA\n
 \n
 Meetecho: https://meetings.conf.meetecho.com/ietf111/?group=dispatch&short=&item=1\n
 \n
 Agenda https://datatracker.ietf.org/meeting/111/materials/agenda-111-dispatch-02\n
 \n
 Session materials: https://datatracker.ietf.org/meeting/111/session/dispatch\n
 \n
 See in schedule: https://datatracker.ietf.org/meeting/111/agenda#row-111-2021-07-26-mon-1200-art-dispatch\n
END:VEVENT
BEGIN:VEVENT
UID:ietf-111-13786-wpack
SUMMARY:wpack - Web Packaging
LOCATION:Room 1
STATUS:CONFIRMED
CLASS:PUBLIC
DTSTART;TZID=America/Los_Angeles:20210726T143000
DTEND;TZID=America/Los_Angeles:20210726T153000
DTSTAMP:20210618T120955Z
URL:https://datatracker.ietf.org/meeting/111/materials/agenda-111-wpack-00
DESCRIPTION:Session II\n
 \n
 Meetecho: https://meetings.conf.meetecho.com/ietf111/?group=wpack&short=&item=1\n
 \n
 Agenda https://datatracker.ietf.org/meeting/111/materials/agenda-111-wpack-00\n
 \n
 Session materials: https://datatracker.ietf.org/meeting/111/session/wpack\n
 \n
 See in schedule: https://datatracker.ietf.org/meeting/111/agenda#row-111-2021-07-26-mon-1430-art-wpack\n
END:VEVENT
BEGIN:VEVENT
UID:ietf-111-13778-avtcore
SUMMARY:avtcore - Audio/Video Transport Core Maintenance
LOCATION:Room 1
STATUS:CONFIRMED
CLASS:PUBLIC
DTSTART;TZID=America/Los_Angeles:20210726T160000
DTEND;TZID=America/Los_Angeles:20210726T180000
DTSTAMP:20210618T121004Z
URL:https://datatracker.ietf.org/meeting/111/materials/agenda-111-avtcore-08
DESCRIPTION:Session III\n
 \n
 Meetecho: https://meetings.conf.meetecho.com/ietf111/?group=avtcore&short=&item=1\n
 \n
 Agenda https://datatracker.ietf.org/meeting/111/materials/agenda-111-avtcore-08\n
 \n
 Session materials: https://datatracker.ietf.org/meeting/111/session/avtcore\n
 \n
 See in schedule: https://datatracker.ietf.org/meeting/111/agenda#row-111-2021-07-26-mon-1600-art-avtcore\n
END:VEVENT
BEGIN:VEVENT
UID:ietf-111-13777-jsonpath
SUMMARY:jsonpath - JSON Path
LOCATION:Room 2
STATUS:CONFIRMED
CLASS:PUBLIC
DTSTART;TZID=America/Los_Angeles:20210726T160000
DTEND;TZID=America/Los_Angeles:20210726T180000
DTSTAMP:20210618T121004Z
URL:https://datatracker.ietf.org/meeting/111/materials/agenda-111-jsonpath-00
DESCRIPTION:Session III\n
 \n
 Meetecho: https://meetings.conf.meetecho.com/ietf111/?group=jsonpath&short=&item=1\n
 \n
 Agenda https://datatracker.ietf.org/meeting/111/materials/agenda-111-jsonpath-00\n
 \n
 Session materials: https://datatracker.ietf.org/meeting/111/session/jsonpath\n
 \n
 See in schedule: https://datatracker.ietf.org/meeting/111/agenda#row-111-2021-07-26-mon-1600-art-jsonpath\n
END:VEVENT
BEGIN:VEVENT
UID:ietf-111-13770-sedate
SUMMARY:sedate - Serialising Extended Data About Times and Events
LOCATION:Room 1
STATUS:CONFIRMED
CLASS:PUBLIC
DTSTART;TZID=America/Los_Angeles:20210727T120000
DTEND;TZID=America/Los_Angeles:20210727T140000
DTSTAMP:20210618T121013Z
URL:https://datatracker.ietf.org/meeting/111/materials/agenda-111-sedate-02
DESCRIPTION:Session I\n
 \n
 Meetecho: https://meetings.conf.meetecho.com/ietf111/?group=sedate&short=&item=1\n
 \n
 Agenda https://datatracker.ietf.org/meeting/111/materials/agenda-111-sedate-02\n
 \n
 Session materials: https://datatracker.ietf.org/meeting/111/session/sedate\n
 \n
 See in schedule: https://datatracker.ietf.org/meeting/111/agenda#row-111-2021-07-27-tue-1200-art-sedate\n
END:VEVENT
BEGIN:VEVENT
UID:ietf-111-13762-cdni
SUMMARY:cdni - Content Delivery Networks Interconnection
LOCATION:Room 1
STATUS:CONFIRMED
CLASS:PUBLIC
DTSTART;TZID=America/Los_Angeles:20210727T143000
DTEND;TZID=America/Los_Angeles:20210727T153000
DTSTAMP:20210618T121026Z
URL:https://datatracker.ietf.org/meeting/111/materials/agenda-111-cdni-02
DESCRIPTION:Session II\n
 \n
 Meetecho: https://meetings.conf.meetecho.com/ietf111/?group=cdni&short=&item=1\n
 \n
 Agenda https://datatracker.ietf.org/meeting/111/materials/agenda-111-cdni-02\n
 \n
 Session materials: https://datatracker.ietf.org/meeting/111/session/cdni\n
 \n
 See in schedule: https://datatracker.ietf.org/meeting/111/agenda#row-111-2021-07-27-tue-1430-art-cdni\n
END:VEVENT
BEGIN:VEVENT
UID:ietf-111-13761-emailcore
SUMMARY:emailcore - Revision of core Email specifications
LOCATION:Room 2
STATUS:CONFIRMED
CLASS:PUBLIC
DTSTART;TZID=America/Los_Angeles:20210727T143000
DTEND;TZID=America/Los_Angeles:20210727T153000
DTSTAMP:20210618T121026Z
URL:https://datatracker.ietf.org/meeting/111/materials/agenda-111-emailcore-01
DESCRIPTION:Session II\n
 \n
 Meetecho: https://meetings.conf.meetecho.com/ietf111/?group=emailcore&short=&item=1\n
 \n
 Agenda https://datatracker.ietf.org/meeting/111/materials/agenda-111-emailcore-01\n
 \n
 Session materials: https://datatracker.ietf.org/meeting/111/session/emailcore\n
 \n
 See in schedule: https://datatracker.ietf.org/meeting/111/agenda#row-111-2021-07-27-tue-1430-art-emailcore\n
END:VEVENT
BEGIN:VEVENT
UID:ietf-111-13760-httpapi
SUMMARY:httpapi - Building Blocks for HTTP APIs
LOCATION:Room 3
STATUS:CONFIRMED
CLASS:PUBLIC
DTSTART;TZID=America/Los_Angeles:20210727T143000
DTEND;TZID=America/Los_Angeles:20210727T153000
DTSTAMP:20210618T121026Z
URL:https://datatracker.ietf.org/meeting/111/materials/agenda-111-httpapi-01
DESCRIPTION:Session II\n
 \n
 Meetecho: https://meetings.conf.meetecho.com/ietf111/?group=httpapi&short=&item=1\n
 \n
 Agenda https://datatracker.ietf.org/meeting/111/materials/agenda-111-httpapi-01\n
 \n
 Session materials: https://datatracker.ietf.org/meeting/111/session/httpapi\n
 \n
 See in schedule: https://datatracker.ietf.org/meeting/111/agenda#row-111-2021-07-27-tue-1430-art-httpapi\n
END:VEVENT
BEGIN:VEVENT
UID:ietf-111-13754-jmap
SUMMARY:jmap - JSON Mail Access Protocol
LOCATION:Room 1
STATUS:CONFIRMED
CLASS:PUBLIC
DTSTART;TZID=America/Los_Angeles:20210727T160000
DTEND;TZID=America/Los_Angeles:20210727T180000
DTSTAMP:20210618T121035Z
URL:https://datatracker.ietf.org/meeting/111/materials/agenda-111-jmap-00
DESCRIPTION:Session III\n
 \n
 Meetecho: https://meetings.conf.meetecho.com/ietf111/?group=jmap&short=&item=1\n
 \n
 Agenda https://datatracker.ietf.org/meeting/111/materials/agenda-111-jmap-00\n
 \n
 Session materials: https://datatracker.ietf.org/meeting/111/session/jmap\n
 \n
 See in schedule: https://datatracker.ietf.org/meeting/111/agenda#row-111-2021-07-27-tue-1600-art-jmap\n
END:VEVENT
BEGIN:VEVENT
UID:ietf-111-13746-core
SUMMARY:core - Constrained RESTful Environments
LOCATION:Room 1
STATUS:CONFIRMED
CLASS:PUBLIC
DTSTART;TZID=America/Los_Angeles:20210728T120000
DTEND;TZID=America/Los_Angeles:20210728T140000
DTSTAMP:20210618T121047Z
URL:https://datatracker.ietf.org/meeting/111/materials/agenda-111-core-00
DESCRIPTION:Session I\n
 \n
 Meetecho: https://meetings.conf.meetecho.com/ietf111/?group=core&short=&item=1\n
 \n
 Agenda https://datatracker.ietf.org/meeting/111/materials/agenda-111-core-00\n
 \n
 Session materials: https://datatracker.ietf.org/meeting/111/session/core\n
 \n
 See in schedule: https://datatracker.ietf.org/meeting/111/agenda#row-111-2021-07-28-wed-1200-art-core\n
END:VEVENT
BEGIN:VEVENT
UID:ietf-111-13738-regext
SUMMARY:regext - Registration Protocols Extensions
LOCATION:Room 1
STATUS:CONFIRMED
CLASS:PUBLIC
DTSTART;TZID=America/Los_Angeles:20210728T143000
DTEND;TZID=America/Los_Angeles:20210728T153000
DTSTAMP:20210618T121100Z
URL:https://datatracker.ietf.org/meeting/111/materials/agenda-111-regext-01
DESCRIPTION:Session II\n
 \n
 Meetecho: https://meetings.conf.meetecho.com/ietf111/?group=regext&short=&item=1\n
 \n
 Agenda https://datatracker.ietf.org/meeting/111/materials/agenda-111-regext-01\n
 \n
 Session materials: https://datatracker.ietf.org/meeting/111/session/regext\n
 \n
 See in schedule: https://datatracker.ietf.org/meeting/111/agenda#row-111-2021-07-28-wed-1430-art-regext\n
END:VEVENT
BEGIN:VEVENT
UID:ietf-111-13737-uta
SUMMARY:uta - Using TLS in Applications
LOCATION:Room 2
STATUS:CONFIRMED
CLASS:PUBLIC
DTSTART;TZID=America/Los_Angeles:20210728T143000
DTEND;TZID=America/Los_Angeles:20210728T153000
DTSTAMP:20210618T121100Z
URL:https://datatracker.ietf.org/meeting/111/materials/agenda-111-uta-00
DESCRIPTION:Session II\n
 \n
 Meetecho: https://meetings.conf.meetecho.com/ietf111/?group=uta&short=&item=1\n
 \n
 Agenda https://datatracker.ietf.org/meeting/111/materials/agenda-111-uta-00\n
 \n
 Session materials: https://datatracker.ietf.org/meeting/111/session/uta\n
 \n
 See in schedule: https://datatracker.ietf.org/meeting/111/agenda#row-111-2021-07-28-wed-1430-art-uta\n
END:VEVENT
BEGIN:VEVENT
UID:ietf-111-13730-stir
SUMMARY:stir - Secure Telephone Identity Revisited
LOCATION:Room 1
STATUS:CONFIRMED
CLASS:PUBLIC
DTSTART;TZID=America/Los_Angeles:20210729T120000
DTEND;TZID=America/Los_Angeles:20210729T130000
DTSTAMP:20210618T121115Z
URL:https://datatracker.ietf.org/meeting/111/materials/agenda-111-stir-02
DESCRIPTION:Session I\n
 \n
 Meetecho: https://meetings.conf.meetecho.com/ietf111/?group=stir&short=&item=1\n
 \n
 Agenda https://datatracker.ietf.org/meeting/111/materials/agenda-111-stir-02\n
 \n
 Session materials: https://datatracker.ietf.org/meeting/111/session/stir\n
 \n
 See in schedule: https://datatracker.ietf.org/meeting/111/agenda#row-111-2021-07-29-thu-1200-art-stir\n
END:VEVENT
BEGIN:VEVENT
UID:ietf-111-13722-asap
SUMMARY:asap - Automatic SIP trunking And Peering
LOCATION:Room 1
STATUS:CONFIRMED
CLASS:PUBLIC
DTSTART;TZID=America/Los_Angeles:20210729T133000
DTEND;TZID=America/Los_Angeles:20210729T143000
DTSTAMP:20210618T121128Z
URL:https://datatracker.ietf.org/meeting/111/materials/agenda-111-asap-00
DESCRIPTION:Session II\n
 \n
 Meetecho: https://meetings.conf.meetecho.com/ietf111/?group=asap&short=&item=1\n
 \n
 Agenda https://datatracker.ietf.org/meeting/111/materials/agenda-111-asap-00\n
 \n
 Session materials: https://datatracker.ietf.org/meeting/111/session/asap\n
 \n
 See in schedule: https://datatracker.ietf.org/meeting/111/agenda#row-111-2021-07-29-thu-1330-art-asap\n
END:VEVENT
BEGIN:VEVENT
UID:ietf-111-13719-sins
SUMMARY:sins - SCIM Industry Next Steps
LOCATION:Room 4
STATUS:CONFIRMED
CLASS:PUBLIC
DTSTART;TZID=America/Los_Angeles:20210729T133000
DTEND;TZID=America/Los_Angeles:20210729T143000
DTSTAMP:20210618T121128Z
URL:https://datatracker.ietf.org/meeting/111/materials/agenda-111-sins-00
DESCRIPTION:Session II\n
 \n
 Meetecho: https://meetings.conf.meetecho.com/ietf111/?group=sins&short=&item=1\n
 \n
 Agenda https://datatracker.ietf.org/meeting/111/materials/agenda-111-sins-00\n
 \n
 Session materials: https://datatracker.ietf.org/meeting/111/session/sins\n
 \n
 See in schedule: https://datatracker.ietf.org/meeting/111/agenda#row-111-2021-07-29-thu-1330-art-sins\n
END:VEVENT
BEGIN:VEVENT
UID:ietf-111-13714-rtcweb
SUMMARY:rtcweb - Real-Time Communication in WEB-browsers
LOCATION:Room 1
STATUS:CONFIRMED
CLASS:PUBLIC
DTSTART;TZID=America/Los_Angeles:20210729T150000
DTEND;TZID=America/Los_Angeles:20210729T160000
DTSTAMP:20210618T121140Z
URL:https://datatracker.ietf.org/meeting/111/materials/agenda-111-rtcweb-00
DESCRIPTION:Session III\n
 \n
 Meetecho: https://meetings.conf.meetecho.com/ietf111/?group=rtcweb&short=&item=1\n
 \n
 Agenda https://datatracker.ietf.org/meeting/111/materials/agenda-111-rtcweb-00\n
 \n
 Session materials: https://datatracker.ietf.org/meeting/111/session/rtcweb\n
 \n
 See in schedule: https://datatracker.ietf.org/meeting/111/agenda#row-111-2021-07-29-thu-1500-art-rtcweb\n
END:VEVENT
BEGIN:VEVENT
UID:ietf-111-13835-calext
SUMMARY:calext - Calendaring Extensions
LOCATION:Room 1
STATUS:CONFIRMED
CLASS:PUBLIC
DTSTART;TZID=America/Los_Angeles:20210729T163000
DTEND;TZID=America/Los_Angeles:20210729T173000
DTSTAMP:20210618T121200Z
URL:https://datatracker.ietf.org/meeting/111/materials/agenda-111-calext-00
DESCRIPTION:Session IV\n
 \n
 Meetecho: https://meetings.conf.meetecho.com/ietf111/?group=calext&short=&item=1\n
 \n
 Agenda https://datatracker.ietf.org/meeting/111/materials/agenda-111-calext-00\n
 \n
 Session materials: https://datatracker.ietf.org/meeting/111/session/calext\n
 \n
 See in schedule: https://datatracker.ietf.org/meeting/111/agenda#row-111-2021-07-29-thu-1630-art-calext\n
END:VEVENT
BEGIN:VEVENT
UID:ietf-111-13834-rum
SUMMARY:rum - Relay User Machine
LOCATION:Room 2
STATUS:CONFIRMED
CLASS:PUBLIC
DTSTART;TZID=America/Los_Angeles:20210729T163000
DTEND;TZID=America/Los_Angeles:20210729T173000
DTSTAMP:20210618T121200Z
URL:https://datatracker.ietf.org/meeting/111/materials/agenda-111-rum-02
DESCRIPTION:Session IV\n
 \n
 Meetecho: https://meetings.conf.meetecho.com/ietf111/?group=rum&short=&item=1\n
 \n
 Agenda https://datatracker.ietf.org/meeting/111/materials/agenda-111-rum-02\n
 \n
 Session materials: https://datatracker.ietf.org/meeting/111/session/rum\n
 \n
 See in schedule: https://datatracker.ietf.org/meeting/111/agenda#row-111-2021-07-29-thu-1630-art-rum\n
END:VEVENT
BEGIN:VEVENT
UID:ietf-111-13879-art
SUMMARY:ART AD Office Hours
LOCATION:Webex
STATUS:CONFIRMED
CLASS:PUBLIC
DTSTART;TZID=America/Los_Angeles:20210730T100000
DTEND;TZID=America/Los_Angeles:20210730T110000
DTSTAMP:20210721T090943Z
DESCRIPTION:ART AD Office Hours\n
 \n
 Session materials: https://datatracker.ietf.org/meeting/111/session/art\n
 \n
 See in schedule: https://datatracker.ietf.org/meeting/111/agenda#row-111-2021-07-30-fri-1000-art-art-ad-office-hours\n
END:VEVENT
BEGIN:VEVENT
UID:ietf-111-13706-webtrans
SUMMARY:webtrans - WebTransport
LOCATION:Room 1
STATUS:CONFIRMED
CLASS:PUBLIC
DTSTART;TZID=America/Los_Angeles:20210730T120000
DTEND;TZID=America/Los_Angeles:20210730T140000
DTSTAMP:20210618T121214Z
URL:https://datatracker.ietf.org/meeting/111/materials/agenda-111-webtrans-02
DESCRIPTION:Session I\n
 \n
 Meetecho: https://meetings.conf.meetecho.com/ietf111/?group=webtrans&short=&item=1\n
 \n
 Agenda https://datatracker.ietf.org/meeting/111/materials/agenda-111-webtrans-02\n
 \n
 Session materials: https://datatracker.ietf.org/meeting/111/session/webtrans\n
 \n
 See in schedule: https://datatracker.ietf.org/meeting/111/agenda#row-111-2021-07-30-fri-1200-art-webtrans\n
END:VEVENT
BEGIN:VEVENT
UID:ietf-111-13700-wish
SUMMARY:wish - WebRTC Ingest Signaling over HTTPS
LOCATION:Room 7
STATUS:CONFIRMED
CLASS:PUBLIC
DTSTART;TZID=America/Los_Angeles:20210730T120000
DTEND;TZID=America/Los_Angeles:20210730T140000
DTSTAMP:20210618T121214Z
URL:https://datatracker.ietf.org/meeting/111/materials/agenda-111-wish-00
DESCRIPTION:Session I\n
 \n
 Meetecho: https://meetings.conf.meetecho.com/ietf111/?group=wish&short=&item=1\n
 \n
 Agenda https://datatracker.ietf.org/meeting/111/materials/agenda-111-wish-00\n
 \n
 Session materials: https://datatracker.ietf.org/meeting/111/session/wish\n
 \n
 See in schedule: https://datatracker.ietf.org/meeting/111/agenda#row-111-2021-07-30-fri-1200-art-wish\n
END:VEVENT
BEGIN:VEVENT
UID:ietf-111-13698-cbor
SUMMARY:cbor - Concise Binary Object Representation Maintenance and Extensions
LOCATION:Room 1
STATUS:CONFIRMED
CLASS:PUBLIC
DTSTART;TZID=America/Los_Angeles:20210730T143000
DTEND;TZID=America/Los_Angeles:20210730T153000
DTSTAMP:20210618T121224Z
URL:https://datatracker.ietf.org/meeting/111/materials/agenda-111-cbor-03
DESCRIPTION:Session II\n
 \n
 Meetecho: https://meetings.conf.meetecho.com/ietf111/?group=cbor&short=&item=1\n
 \n
 Agenda https://datatracker.ietf.org/meeting/111/materials/agenda-111-cbor-03\n
 \n
 Session materials: https://datatracker.ietf.org/meeting/111/session/cbor\n
 \n
 See in schedule: https://datatracker.ietf.org/meeting/111/agenda#row-111-2021-07-30-fri-1430-art-cbor\n
END:VEVENT
END:VCALENDAR
