BEGIN:VCALENDAR
VERSION:2.0
METHOD:PUBLISH
PRODID:-//IETF//datatracker.ietf.org ical agenda//EN
BEGIN:VTIMEZONE
TZID:America/Los_Angeles
X-LIC-LOCATION:America/Los_Angeles
BEGIN:DAYLIGHT
TZOFFSETFROM:-0800
TZOFFSETTO:-0700
TZNAME:PDT
DTSTART:20070311T020000
RRULE:FREQ=YEARLY;BYMONTH=3;BYDAY=2SU
END:DAYLIGHT
BEGIN:STANDARD
TZOFFSETFROM:-0700
TZOFFSETTO:-0800
TZNAME:PST
DTSTART:20071104T020000
RRULE:FREQ=YEARLY;BYMONTH=11;BYDAY=1SU
END:STANDARD
BEGIN:STANDARD
TZOFFSETFROM:-075258
TZOFFSETTO:-0800
TZNAME:PST
DTSTART:18831118T120702
RDATE:18831118T120702
END:STANDARD
BEGIN:DAYLIGHT
TZOFFSETFROM:-0800
TZOFFSETTO:-0700
TZNAME:PDT
DTSTART:19180331T020000
RDATE:19180331T020000
RDATE:19190330T020000
RDATE:19480314T020000
RDATE:19500430T020000
RDATE:19510429T020000
RDATE:19520427T020000
RDATE:19530426T020000
RDATE:19540425T020000
RDATE:19550424T020000
RDATE:19560429T020000
RDATE:19570428T020000
RDATE:19580427T020000
RDATE:19590426T020000
RDATE:19600424T020000
RDATE:19610430T020000
RDATE:19620429T020000
RDATE:19630428T020000
RDATE:19640426T020000
RDATE:19650425T020000
RDATE:19660424T020000
RDATE:19670430T020000
RDATE:19680428T020000
RDATE:19690427T020000
RDATE:19700426T020000
RDATE:19710425T020000
RDATE:19720430T020000
RDATE:19730429T020000
RDATE:19740106T020000
RDATE:19750223T020000
RDATE:19760425T020000
RDATE:19770424T020000
RDATE:19780430T020000
RDATE:19790429T020000
RDATE:19800427T020000
RDATE:19810426T020000
RDATE:19820425T020000
RDATE:19830424T020000
RDATE:19840429T020000
RDATE:19850428T020000
RDATE:19860427T020000
RDATE:19870405T020000
RDATE:19880403T020000
RDATE:19890402T020000
RDATE:19900401T020000
RDATE:19910407T020000
RDATE:19920405T020000
RDATE:19930404T020000
RDATE:19940403T020000
RDATE:19950402T020000
RDATE:19960407T020000
RDATE:19970406T020000
RDATE:19980405T020000
RDATE:19990404T020000
RDATE:20000402T020000
RDATE:20010401T020000
RDATE:20020407T020000
RDATE:20030406T020000
RDATE:20040404T020000
RDATE:20050403T020000
RDATE:20060402T020000
END:DAYLIGHT
BEGIN:STANDARD
TZOFFSETFROM:-0700
TZOFFSETTO:-0800
TZNAME:PST
DTSTART:19181027T020000
RDATE:19181027T020000
RDATE:19191026T020000
RDATE:19450930T020000
RDATE:19490101T020000
RDATE:19500924T020000
RDATE:19510930T020000
RDATE:19520928T020000
RDATE:19530927T020000
RDATE:19540926T020000
RDATE:19550925T020000
RDATE:19560930T020000
RDATE:19570929T020000
RDATE:19580928T020000
RDATE:19590927T020000
RDATE:19600925T020000
RDATE:19610924T020000
RDATE:19621028T020000
RDATE:19631027T020000
RDATE:19641025T020000
RDATE:19651031T020000
RDATE:19661030T020000
RDATE:19671029T020000
RDATE:19681027T020000
RDATE:19691026T020000
RDATE:19701025T020000
RDATE:19711031T020000
RDATE:19721029T020000
RDATE:19731028T020000
RDATE:19741027T020000
RDATE:19751026T020000
RDATE:19761031T020000
RDATE:19771030T020000
RDATE:19781029T020000
RDATE:19791028T020000
RDATE:19801026T020000
RDATE:19811025T020000
RDATE:19821031T020000
RDATE:19831030T020000
RDATE:19841028T020000
RDATE:19851027T020000
RDATE:19861026T020000
RDATE:19871025T020000
RDATE:19881030T020000
RDATE:19891029T020000
RDATE:19901028T020000
RDATE:19911027T020000
RDATE:19921025T020000
RDATE:19931031T020000
RDATE:19941030T020000
RDATE:19951029T020000
RDATE:19961027T020000
RDATE:19971026T020000
RDATE:19981025T020000
RDATE:19991031T020000
RDATE:20001029T020000
RDATE:20011028T020000
RDATE:20021027T020000
RDATE:20031026T020000
RDATE:20041031T020000
RDATE:20051030T020000
RDATE:20061029T020000
END:STANDARD
BEGIN:DAYLIGHT
TZOFFSETFROM:-0800
TZOFFSETTO:-0700
TZNAME:PWT
DTSTART:19420209T020000
RDATE:19420209T020000
END:DAYLIGHT
BEGIN:DAYLIGHT
TZOFFSETFROM:-0700
TZOFFSETTO:-0700
TZNAME:PPT
DTSTART:19450814T160000
RDATE:19450814T160000
END:DAYLIGHT
BEGIN:STANDARD
TZOFFSETFROM:-0800
TZOFFSETTO:-0800
TZNAME:PST
DTSTART:19460101T000000
RDATE:19460101T000000
RDATE:19670101T000000
END:STANDARD
END:VTIMEZONE
BEGIN:VEVENT
UID:ietf-111-13793-anrw
SUMMARY:anrw - ACM/IRTF Applied Networking Research Workshop (New Internet Protocols & Practical Congestion Control)
LOCATION:Room 2
STATUS:CONFIRMED
CLASS:PUBLIC
DTSTART;TZID=America/Los_Angeles:20210726T120000
DTEND;TZID=America/Los_Angeles:20210726T140000
DTSTAMP:20210618T120943Z
URL:https://datatracker.ietf.org/meeting/111/materials/agenda-111-anrw-sessb-01
DESCRIPTION:Session I\n
 Note: New Internet Protocols & Practical Congestion Control\n
 \n
 Meetecho: https://meetings.conf.meetecho.com/ietf111/?group=anrw&short=&item=1\n
 \n
 Agenda https://datatracker.ietf.org/meeting/111/materials/agenda-111-anrw-sessb-01\n
 \n
 Session materials: https://datatracker.ietf.org/meeting/111/session/anrw\n
 \n
 See in schedule: https://datatracker.ietf.org/meeting/111/agenda#row-111-2021-07-26-mon-1200-irtf-anrw\n
END:VEVENT
BEGIN:VEVENT
UID:ietf-111-13792-pearg
SUMMARY:pearg - Privacy Enhancements and Assessments Research Group
LOCATION:Room 3
STATUS:CONFIRMED
CLASS:PUBLIC
DTSTART;TZID=America/Los_Angeles:20210726T120000
DTEND;TZID=America/Los_Angeles:20210726T140000
DTSTAMP:20210618T120943Z
URL:https://datatracker.ietf.org/meeting/111/materials/agenda-111-pearg-00
DESCRIPTION:Session I\n
 \n
 Meetecho: https://meetings.conf.meetecho.com/ietf111/?group=pearg&short=&item=1\n
 \n
 Agenda https://datatracker.ietf.org/meeting/111/materials/agenda-111-pearg-00\n
 \n
 Session materials: https://datatracker.ietf.org/meeting/111/session/pearg\n
 \n
 See in schedule: https://datatracker.ietf.org/meeting/111/agenda#row-111-2021-07-26-mon-1200-irtf-pearg\n
END:VEVENT
BEGIN:VEVENT
UID:ietf-111-13785-irtfopen
SUMMARY:irtfopen - IRTF Open Meeting
LOCATION:Room 2
STATUS:CONFIRMED
CLASS:PUBLIC
DTSTART;TZID=America/Los_Angeles:20210726T143000
DTEND;TZID=America/Los_Angeles:20210726T153000
DTSTAMP:20210618T120955Z
URL:https://datatracker.ietf.org/meeting/111/materials/agenda-111-irtfopen-00
DESCRIPTION:Session II\n
 \n
 Meetecho: https://meetings.conf.meetecho.com/ietf111/?group=irtfopen&short=&item=1\n
 \n
 Agenda https://datatracker.ietf.org/meeting/111/materials/agenda-111-irtfopen-00\n
 \n
 Session materials: https://datatracker.ietf.org/meeting/111/session/irtfopen\n
 \n
 See in schedule: https://datatracker.ietf.org/meeting/111/agenda#row-111-2021-07-26-mon-1430-irtf-irtfopen\n
END:VEVENT
BEGIN:VEVENT
UID:ietf-111-13776-coinrg
SUMMARY:coinrg - Computing in the Network Research Group
LOCATION:Room 3
STATUS:CONFIRMED
CLASS:PUBLIC
DTSTART;TZID=America/Los_Angeles:20210726T160000
DTEND;TZID=America/Los_Angeles:20210726T180000
DTSTAMP:20210618T121004Z
URL:https://datatracker.ietf.org/meeting/111/materials/agenda-111-coinrg-03
DESCRIPTION:Session III\n
 \n
 Meetecho: https://meetings.conf.meetecho.com/ietf111/?group=coinrg&short=&item=1\n
 \n
 Agenda https://datatracker.ietf.org/meeting/111/materials/agenda-111-coinrg-03\n
 \n
 Session materials: https://datatracker.ietf.org/meeting/111/session/coinrg\n
 \n
 See in schedule: https://datatracker.ietf.org/meeting/111/agenda#row-111-2021-07-26-mon-1600-irtf-coinrg\n
END:VEVENT
BEGIN:VEVENT
UID:ietf-111-13768-anrw
SUMMARY:anrw - ACM/IRTF Applied Networking Research Workshop (Interconnection and Routing & Monitoring Internet Traffic)
LOCATION:Room 3
STATUS:CONFIRMED
CLASS:PUBLIC
DTSTART;TZID=America/Los_Angeles:20210727T120000
DTEND;TZID=America/Los_Angeles:20210727T140000
DTSTAMP:20210618T121013Z
URL:https://datatracker.ietf.org/meeting/111/materials/agenda-111-anrw-sessa-00
DESCRIPTION:Session I\n
 Note: Interconnection and Routing & Monitoring Internet Traffic\n
 \n
 Meetecho: https://meetings.conf.meetecho.com/ietf111/?group=anrw&short=&item=2\n
 \n
 Agenda https://datatracker.ietf.org/meeting/111/materials/agenda-111-anrw-sessa-00\n
 \n
 Session materials: https://datatracker.ietf.org/meeting/111/session/anrw\n
 \n
 See in schedule: https://datatracker.ietf.org/meeting/111/agenda#row-111-2021-07-27-tue-1200-irtf-anrw\n
END:VEVENT
BEGIN:VEVENT
UID:ietf-111-13752-hrpc
SUMMARY:hrpc - Human Rights Protocol Considerations
LOCATION:Room 3
STATUS:CONFIRMED
CLASS:PUBLIC
DTSTART;TZID=America/Los_Angeles:20210727T160000
DTEND;TZID=America/Los_Angeles:20210727T180000
DTSTAMP:20210618T121035Z
URL:https://datatracker.ietf.org/meeting/111/materials/agenda-111-hrpc-01
DESCRIPTION:Session III\n
 \n
 Meetecho: https://meetings.conf.meetecho.com/ietf111/?group=hrpc&short=&item=1\n
 \n
 Agenda https://datatracker.ietf.org/meeting/111/materials/agenda-111-hrpc-01\n
 \n
 Session materials: https://datatracker.ietf.org/meeting/111/session/hrpc\n
 \n
 See in schedule: https://datatracker.ietf.org/meeting/111/agenda#row-111-2021-07-27-tue-1600-irtf-hrpc\n
END:VEVENT
BEGIN:VEVENT
UID:ietf-111-13751-nmrg
SUMMARY:nmrg - Network Management
LOCATION:Room 4
STATUS:CONFIRMED
CLASS:PUBLIC
DTSTART;TZID=America/Los_Angeles:20210727T160000
DTEND;TZID=America/Los_Angeles:20210727T180000
DTSTAMP:20210618T121035Z
URL:https://datatracker.ietf.org/meeting/111/materials/agenda-111-nmrg-01
DESCRIPTION:Session III\n
 \n
 Meetecho: https://meetings.conf.meetecho.com/ietf111/?group=nmrg&short=&item=1\n
 \n
 Agenda https://datatracker.ietf.org/meeting/111/materials/agenda-111-nmrg-01\n
 \n
 Session materials: https://datatracker.ietf.org/meeting/111/session/nmrg\n
 \n
 See in schedule: https://datatracker.ietf.org/meeting/111/agenda#row-111-2021-07-27-tue-1600-irtf-nmrg\n
END:VEVENT
BEGIN:VEVENT
UID:ietf-111-13743-anrw
SUMMARY:anrw - ACM/IRTF Applied Networking Research Workshop (Privacy & Applications)
LOCATION:Room 4
STATUS:CONFIRMED
CLASS:PUBLIC
DTSTART;TZID=America/Los_Angeles:20210728T120000
DTEND;TZID=America/Los_Angeles:20210728T140000
DTSTAMP:20210618T121047Z
URL:https://datatracker.ietf.org/meeting/111/materials/agenda-111-anrw-sessd-00
DESCRIPTION:Session I\n
 Note: Privacy & Applications\n
 \n
 Meetecho: https://meetings.conf.meetecho.com/ietf111/?group=anrw&short=&item=3\n
 \n
 Agenda https://datatracker.ietf.org/meeting/111/materials/agenda-111-anrw-sessd-00\n
 \n
 Session materials: https://datatracker.ietf.org/meeting/111/session/anrw\n
 \n
 See in schedule: https://datatracker.ietf.org/meeting/111/agenda#row-111-2021-07-28-wed-1200-irtf-anrw\n
END:VEVENT
BEGIN:VEVENT
UID:ietf-111-13718-qirg
SUMMARY:qirg - Quantum Internet Research Group
LOCATION:Room 5
STATUS:CONFIRMED
CLASS:PUBLIC
DTSTART;TZID=America/Los_Angeles:20210729T133000
DTEND;TZID=America/Los_Angeles:20210729T143000
DTSTAMP:20210618T121128Z
URL:https://datatracker.ietf.org/meeting/111/materials/agenda-111-qirg-03
DESCRIPTION:Session II\n
 \n
 Meetecho: https://meetings.conf.meetecho.com/ietf111/?group=qirg&short=&item=1\n
 \n
 Agenda https://datatracker.ietf.org/meeting/111/materials/agenda-111-qirg-03\n
 \n
 Session materials: https://datatracker.ietf.org/meeting/111/session/qirg\n
 \n
 See in schedule: https://datatracker.ietf.org/meeting/111/agenda#row-111-2021-07-29-thu-1330-irtf-qirg\n
END:VEVENT
BEGIN:VEVENT
UID:ietf-111-13713-nwcrg
SUMMARY:nwcrg - Coding for efficient NetWork Communications Research Group
LOCATION:Room 2
STATUS:CONFIRMED
CLASS:PUBLIC
DTSTART;TZID=America/Los_Angeles:20210729T150000
DTEND;TZID=America/Los_Angeles:20210729T160000
DTSTAMP:20210618T121140Z
URL:https://datatracker.ietf.org/meeting/111/materials/agenda-111-nwcrg-02
DESCRIPTION:Session III\n
 \n
 Meetecho: https://meetings.conf.meetecho.com/ietf111/?group=nwcrg&short=&item=1\n
 \n
 Agenda https://datatracker.ietf.org/meeting/111/materials/agenda-111-nwcrg-02\n
 \n
 Session materials: https://datatracker.ietf.org/meeting/111/session/nwcrg\n
 \n
 See in schedule: https://datatracker.ietf.org/meeting/111/agenda#row-111-2021-07-29-thu-1500-irtf-nwcrg\n
END:VEVENT
BEGIN:VEVENT
UID:ietf-111-13832-panrg
SUMMARY:panrg - Path Aware Networking RG
LOCATION:Room 4
STATUS:CONFIRMED
CLASS:PUBLIC
DTSTART;TZID=America/Los_Angeles:20210729T163000
DTEND;TZID=America/Los_Angeles:20210729T173000
DTSTAMP:20210618T121200Z
URL:https://datatracker.ietf.org/meeting/111/materials/agenda-111-panrg-04
DESCRIPTION:Session IV\n
 \n
 Meetecho: https://meetings.conf.meetecho.com/ietf111/?group=panrg&short=&item=1\n
 \n
 Agenda https://datatracker.ietf.org/meeting/111/materials/agenda-111-panrg-04\n
 \n
 Session materials: https://datatracker.ietf.org/meeting/111/session/panrg\n
 \n
 See in schedule: https://datatracker.ietf.org/meeting/111/agenda#row-111-2021-07-29-thu-1630-irtf-panrg\n
END:VEVENT
BEGIN:VEVENT
UID:ietf-111-13704-gaia
SUMMARY:gaia - Global Access to the Internet for All
LOCATION:Room 3
STATUS:CONFIRMED
CLASS:PUBLIC
DTSTART;TZID=America/Los_Angeles:20210730T120000
DTEND;TZID=America/Los_Angeles:20210730T140000
DTSTAMP:20210618T121214Z
URL:https://datatracker.ietf.org/meeting/111/materials/agenda-111-gaia-03
DESCRIPTION:Session I\n
 \n
 Meetecho: https://meetings.conf.meetecho.com/ietf111/?group=gaia&short=&item=1\n
 \n
 Agenda https://datatracker.ietf.org/meeting/111/materials/agenda-111-gaia-03\n
 \n
 Session materials: https://datatracker.ietf.org/meeting/111/session/gaia\n
 \n
 See in schedule: https://datatracker.ietf.org/meeting/111/agenda#row-111-2021-07-30-fri-1200-irtf-gaia\n
END:VEVENT
BEGIN:VEVENT
UID:ietf-111-13697-maprg
SUMMARY:maprg - Measurement and Analysis for Protocols
LOCATION:Room 2
STATUS:CONFIRMED
CLASS:PUBLIC
DTSTART;TZID=America/Los_Angeles:20210730T143000
DTEND;TZID=America/Los_Angeles:20210730T153000
DTSTAMP:20210618T121224Z
URL:https://datatracker.ietf.org/meeting/111/materials/agenda-111-maprg-03
DESCRIPTION:Session II\n
 \n
 Meetecho: https://meetings.conf.meetecho.com/ietf111/?group=maprg&short=&item=1\n
 \n
 Agenda https://datatracker.ietf.org/meeting/111/materials/agenda-111-maprg-03\n
 \n
 Session materials: https://datatracker.ietf.org/meeting/111/session/maprg\n
 \n
 See in schedule: https://datatracker.ietf.org/meeting/111/agenda#row-111-2021-07-30-fri-1430-irtf-maprg\n
END:VEVENT
BEGIN:VEVENT
UID:ietf-111-13689-cfrg
SUMMARY:cfrg - Crypto Forum
LOCATION:Room 2
STATUS:CONFIRMED
CLASS:PUBLIC
DTSTART;TZID=America/Los_Angeles:20210730T160000
DTEND;TZID=America/Los_Angeles:20210730T180000
DTSTAMP:20210618T121234Z
URL:https://datatracker.ietf.org/meeting/111/materials/agenda-111-cfrg-04
DESCRIPTION:Session III\n
 \n
 Meetecho: https://meetings.conf.meetecho.com/ietf111/?group=cfrg&short=&item=1\n
 \n
 Agenda https://datatracker.ietf.org/meeting/111/materials/agenda-111-cfrg-04\n
 \n
 Session materials: https://datatracker.ietf.org/meeting/111/session/cfrg\n
 \n
 See in schedule: https://datatracker.ietf.org/meeting/111/agenda#row-111-2021-07-30-fri-1600-irtf-cfrg\n
END:VEVENT
BEGIN:VEVENT
UID:ietf-111-13688-dinrg
SUMMARY:dinrg - Decentralized Internet Infrastructure
LOCATION:Room 3
STATUS:CANCELLED
CLASS:PUBLIC
DTSTART;TZID=America/Los_Angeles:20210730T160000
DTEND;TZID=America/Los_Angeles:20210730T180000
DTSTAMP:20210618T121234Z
DESCRIPTION:Session III\n
 \n
 Meetecho: https://meetings.conf.meetecho.com/ietf111/?group=dinrg&short=&item=1\n
 \n
 Session materials: https://datatracker.ietf.org/meeting/111/session/dinrg\n
 \n
 See in schedule: https://datatracker.ietf.org/meeting/111/agenda#row-111-2021-07-30-fri-1600-irtf-dinrg\n
END:VEVENT
END:VCALENDAR
