BEGIN:VCALENDAR
VERSION:2.0
METHOD:PUBLISH
PRODID:-//IETF//datatracker.ietf.org ical agenda//EN
BEGIN:VTIMEZONE
TZID:America/Los_Angeles
X-LIC-LOCATION:America/Los_Angeles
BEGIN:DAYLIGHT
TZOFFSETFROM:-0800
TZOFFSETTO:-0700
TZNAME:PDT
DTSTART:20070311T020000
RRULE:FREQ=YEARLY;BYMONTH=3;BYDAY=2SU
END:DAYLIGHT
BEGIN:STANDARD
TZOFFSETFROM:-0700
TZOFFSETTO:-0800
TZNAME:PST
DTSTART:20071104T020000
RRULE:FREQ=YEARLY;BYMONTH=11;BYDAY=1SU
END:STANDARD
BEGIN:STANDARD
TZOFFSETFROM:-075258
TZOFFSETTO:-0800
TZNAME:PST
DTSTART:18831118T120702
RDATE:18831118T120702
END:STANDARD
BEGIN:DAYLIGHT
TZOFFSETFROM:-0800
TZOFFSETTO:-0700
TZNAME:PDT
DTSTART:19180331T020000
RDATE:19180331T020000
RDATE:19190330T020000
RDATE:19480314T020000
RDATE:19500430T020000
RDATE:19510429T020000
RDATE:19520427T020000
RDATE:19530426T020000
RDATE:19540425T020000
RDATE:19550424T020000
RDATE:19560429T020000
RDATE:19570428T020000
RDATE:19580427T020000
RDATE:19590426T020000
RDATE:19600424T020000
RDATE:19610430T020000
RDATE:19620429T020000
RDATE:19630428T020000
RDATE:19640426T020000
RDATE:19650425T020000
RDATE:19660424T020000
RDATE:19670430T020000
RDATE:19680428T020000
RDATE:19690427T020000
RDATE:19700426T020000
RDATE:19710425T020000
RDATE:19720430T020000
RDATE:19730429T020000
RDATE:19740106T020000
RDATE:19750223T020000
RDATE:19760425T020000
RDATE:19770424T020000
RDATE:19780430T020000
RDATE:19790429T020000
RDATE:19800427T020000
RDATE:19810426T020000
RDATE:19820425T020000
RDATE:19830424T020000
RDATE:19840429T020000
RDATE:19850428T020000
RDATE:19860427T020000
RDATE:19870405T020000
RDATE:19880403T020000
RDATE:19890402T020000
RDATE:19900401T020000
RDATE:19910407T020000
RDATE:19920405T020000
RDATE:19930404T020000
RDATE:19940403T020000
RDATE:19950402T020000
RDATE:19960407T020000
RDATE:19970406T020000
RDATE:19980405T020000
RDATE:19990404T020000
RDATE:20000402T020000
RDATE:20010401T020000
RDATE:20020407T020000
RDATE:20030406T020000
RDATE:20040404T020000
RDATE:20050403T020000
RDATE:20060402T020000
END:DAYLIGHT
BEGIN:STANDARD
TZOFFSETFROM:-0700
TZOFFSETTO:-0800
TZNAME:PST
DTSTART:19181027T020000
RDATE:19181027T020000
RDATE:19191026T020000
RDATE:19450930T020000
RDATE:19490101T020000
RDATE:19500924T020000
RDATE:19510930T020000
RDATE:19520928T020000
RDATE:19530927T020000
RDATE:19540926T020000
RDATE:19550925T020000
RDATE:19560930T020000
RDATE:19570929T020000
RDATE:19580928T020000
RDATE:19590927T020000
RDATE:19600925T020000
RDATE:19610924T020000
RDATE:19621028T020000
RDATE:19631027T020000
RDATE:19641025T020000
RDATE:19651031T020000
RDATE:19661030T020000
RDATE:19671029T020000
RDATE:19681027T020000
RDATE:19691026T020000
RDATE:19701025T020000
RDATE:19711031T020000
RDATE:19721029T020000
RDATE:19731028T020000
RDATE:19741027T020000
RDATE:19751026T020000
RDATE:19761031T020000
RDATE:19771030T020000
RDATE:19781029T020000
RDATE:19791028T020000
RDATE:19801026T020000
RDATE:19811025T020000
RDATE:19821031T020000
RDATE:19831030T020000
RDATE:19841028T020000
RDATE:19851027T020000
RDATE:19861026T020000
RDATE:19871025T020000
RDATE:19881030T020000
RDATE:19891029T020000
RDATE:19901028T020000
RDATE:19911027T020000
RDATE:19921025T020000
RDATE:19931031T020000
RDATE:19941030T020000
RDATE:19951029T020000
RDATE:19961027T020000
RDATE:19971026T020000
RDATE:19981025T020000
RDATE:19991031T020000
RDATE:20001029T020000
RDATE:20011028T020000
RDATE:20021027T020000
RDATE:20031026T020000
RDATE:20041031T020000
RDATE:20051030T020000
RDATE:20061029T020000
END:STANDARD
BEGIN:DAYLIGHT
TZOFFSETFROM:-0800
TZOFFSETTO:-0700
TZNAME:PWT
DTSTART:19420209T020000
RDATE:19420209T020000
END:DAYLIGHT
BEGIN:DAYLIGHT
TZOFFSETFROM:-0700
TZOFFSETTO:-0700
TZNAME:PPT
DTSTART:19450814T160000
RDATE:19450814T160000
END:DAYLIGHT
BEGIN:STANDARD
TZOFFSETFROM:-0800
TZOFFSETTO:-0800
TZNAME:PST
DTSTART:19460101T000000
RDATE:19460101T000000
RDATE:19670101T000000
END:STANDARD
END:VTIMEZONE
BEGIN:VEVENT
UID:ietf-111-13791-bmwg
SUMMARY:bmwg - Benchmarking Methodology
LOCATION:Room 4
STATUS:CONFIRMED
CLASS:PUBLIC
DTSTART;TZID=America/Los_Angeles:20210726T120000
DTEND;TZID=America/Los_Angeles:20210726T140000
DTSTAMP:20210618T120943Z
URL:https://datatracker.ietf.org/meeting/111/materials/agenda-111-bmwg-02
DESCRIPTION:Session I\n
 \n
 Meetecho: https://meetings.conf.meetecho.com/ietf111/?group=bmwg&short=&item=1\n
 \n
 Agenda https://datatracker.ietf.org/meeting/111/materials/agenda-111-bmwg-02\n
 \n
 Session materials: https://datatracker.ietf.org/meeting/111/session/bmwg\n
 \n
 See in schedule: https://datatracker.ietf.org/meeting/111/agenda#row-111-2021-07-26-mon-1200-ops-bmwg\n
END:VEVENT
BEGIN:VEVENT
UID:ietf-111-13784-anima
SUMMARY:anima - Autonomic Networking Integrated Model and Approach
LOCATION:Room 3
STATUS:CONFIRMED
CLASS:PUBLIC
DTSTART;TZID=America/Los_Angeles:20210726T143000
DTEND;TZID=America/Los_Angeles:20210726T153000
DTSTAMP:20210618T120955Z
URL:https://datatracker.ietf.org/meeting/111/materials/agenda-111-anima-02
DESCRIPTION:Session II\n
 \n
 Meetecho: https://meetings.conf.meetecho.com/ietf111/?group=anima&short=&item=1\n
 \n
 Agenda https://datatracker.ietf.org/meeting/111/materials/agenda-111-anima-02\n
 \n
 Session materials: https://datatracker.ietf.org/meeting/111/session/anima\n
 \n
 See in schedule: https://datatracker.ietf.org/meeting/111/agenda#row-111-2021-07-26-mon-1430-ops-anima\n
END:VEVENT
BEGIN:VEVENT
UID:ietf-111-13775-dnsop
SUMMARY:dnsop - Domain Name System Operations
LOCATION:Room 4
STATUS:CONFIRMED
CLASS:PUBLIC
DTSTART;TZID=America/Los_Angeles:20210726T160000
DTEND;TZID=America/Los_Angeles:20210726T180000
DTSTAMP:20210618T121004Z
URL:https://datatracker.ietf.org/meeting/111/materials/agenda-111-dnsop-08
DESCRIPTION:Session III\n
 \n
 Meetecho: https://meetings.conf.meetecho.com/ietf111/?group=dnsop&short=&item=1\n
 \n
 Agenda https://datatracker.ietf.org/meeting/111/materials/agenda-111-dnsop-08\n
 \n
 Session materials: https://datatracker.ietf.org/meeting/111/session/dnsop\n
 \n
 See in schedule: https://datatracker.ietf.org/meeting/111/agenda#row-111-2021-07-26-mon-1600-ops-dnsop\n
END:VEVENT
BEGIN:VEVENT
UID:ietf-111-13774-iotops
SUMMARY:iotops - IOT Operations
LOCATION:Room 5
STATUS:CONFIRMED
CLASS:PUBLIC
DTSTART;TZID=America/Los_Angeles:20210726T160000
DTEND;TZID=America/Los_Angeles:20210726T180000
DTSTAMP:20210618T121004Z
URL:https://datatracker.ietf.org/meeting/111/materials/agenda-111-iotops-04
DESCRIPTION:Session III\n
 \n
 Meetecho: https://meetings.conf.meetecho.com/ietf111/?group=iotops&short=&item=1\n
 \n
 Agenda https://datatracker.ietf.org/meeting/111/materials/agenda-111-iotops-04\n
 \n
 Session materials: https://datatracker.ietf.org/meeting/111/session/iotops\n
 \n
 See in schedule: https://datatracker.ietf.org/meeting/111/agenda#row-111-2021-07-26-mon-1600-ops-iotops\n
END:VEVENT
BEGIN:VEVENT
UID:ietf-111-13767-mops
SUMMARY:mops - Media OPerationS
LOCATION:Room 4
STATUS:CONFIRMED
CLASS:PUBLIC
DTSTART;TZID=America/Los_Angeles:20210727T120000
DTEND;TZID=America/Los_Angeles:20210727T140000
DTSTAMP:20210618T121013Z
URL:https://datatracker.ietf.org/meeting/111/materials/agenda-111-mops-01
DESCRIPTION:Session I\n
 \n
 Meetecho: https://meetings.conf.meetecho.com/ietf111/?group=mops&short=&item=1\n
 \n
 Agenda https://datatracker.ietf.org/meeting/111/materials/agenda-111-mops-01\n
 \n
 Session materials: https://datatracker.ietf.org/meeting/111/session/mops\n
 \n
 See in schedule: https://datatracker.ietf.org/meeting/111/agenda#row-111-2021-07-27-tue-1200-ops-mops\n
END:VEVENT
BEGIN:VEVENT
UID:ietf-111-13758-grow
SUMMARY:grow - Global Routing Operations
LOCATION:Room 5
STATUS:CONFIRMED
CLASS:PUBLIC
DTSTART;TZID=America/Los_Angeles:20210727T143000
DTEND;TZID=America/Los_Angeles:20210727T153000
DTSTAMP:20210618T121026Z
URL:https://datatracker.ietf.org/meeting/111/materials/agenda-111-grow-01
DESCRIPTION:Session II\n
 \n
 Meetecho: https://meetings.conf.meetecho.com/ietf111/?group=grow&short=&item=1\n
 \n
 Agenda https://datatracker.ietf.org/meeting/111/materials/agenda-111-grow-01\n
 \n
 Session materials: https://datatracker.ietf.org/meeting/111/session/grow\n
 \n
 See in schedule: https://datatracker.ietf.org/meeting/111/agenda#row-111-2021-07-27-tue-1430-ops-grow\n
END:VEVENT
BEGIN:VEVENT
UID:ietf-111-13757-netmod
SUMMARY:netmod - Network Modeling
LOCATION:Room 6
STATUS:CONFIRMED
CLASS:PUBLIC
DTSTART;TZID=America/Los_Angeles:20210727T143000
DTEND;TZID=America/Los_Angeles:20210727T153000
DTSTAMP:20210618T121026Z
URL:https://datatracker.ietf.org/meeting/111/materials/agenda-111-netmod-01
DESCRIPTION:Session II\n
 \n
 Meetecho: https://meetings.conf.meetecho.com/ietf111/?group=netmod&short=&item=1\n
 \n
 Agenda https://datatracker.ietf.org/meeting/111/materials/agenda-111-netmod-01\n
 \n
 Session materials: https://datatracker.ietf.org/meeting/111/session/netmod\n
 \n
 See in schedule: https://datatracker.ietf.org/meeting/111/agenda#row-111-2021-07-27-tue-1430-ops-netmod\n
END:VEVENT
BEGIN:VEVENT
UID:ietf-111-13742-sidrops
SUMMARY:sidrops - SIDR Operations
LOCATION:Room 5
STATUS:CONFIRMED
CLASS:PUBLIC
DTSTART;TZID=America/Los_Angeles:20210728T120000
DTEND;TZID=America/Los_Angeles:20210728T140000
DTSTAMP:20210618T121047Z
URL:https://datatracker.ietf.org/meeting/111/materials/agenda-111-sidrops-01
DESCRIPTION:Session I\n
 \n
 Meetecho: https://meetings.conf.meetecho.com/ietf111/?group=sidrops&short=&item=1\n
 \n
 Agenda https://datatracker.ietf.org/meeting/111/materials/agenda-111-sidrops-01\n
 \n
 Session materials: https://datatracker.ietf.org/meeting/111/session/sidrops\n
 \n
 See in schedule: https://datatracker.ietf.org/meeting/111/agenda#row-111-2021-07-28-wed-1200-ops-sidrops\n
END:VEVENT
BEGIN:VEVENT
UID:ietf-111-13733-netconf
SUMMARY:netconf - Network Configuration
LOCATION:Room 6
STATUS:CONFIRMED
CLASS:PUBLIC
DTSTART;TZID=America/Los_Angeles:20210728T143000
DTEND;TZID=America/Los_Angeles:20210728T153000
DTSTAMP:20210618T121100Z
URL:https://datatracker.ietf.org/meeting/111/materials/agenda-111-netconf-01
DESCRIPTION:Session II\n
 \n
 Meetecho: https://meetings.conf.meetecho.com/ietf111/?group=netconf&short=&item=1\n
 \n
 Agenda https://datatracker.ietf.org/meeting/111/materials/agenda-111-netconf-01\n
 \n
 Session materials: https://datatracker.ietf.org/meeting/111/session/netconf\n
 \n
 See in schedule: https://datatracker.ietf.org/meeting/111/agenda#row-111-2021-07-28-wed-1430-ops-netconf\n
END:VEVENT
BEGIN:VEVENT
UID:ietf-111-13728-anima
SUMMARY:anima - Autonomic Networking Integrated Model and Approach
LOCATION:Room 3
STATUS:CONFIRMED
CLASS:PUBLIC
DTSTART;TZID=America/Los_Angeles:20210729T120000
DTEND;TZID=America/Los_Angeles:20210729T130000
DTSTAMP:20210618T121115Z
URL:https://datatracker.ietf.org/meeting/111/materials/agenda-111-anima-02
DESCRIPTION:Session I\n
 \n
 Meetecho: https://meetings.conf.meetecho.com/ietf111/?group=anima&short=&item=2\n
 \n
 Agenda https://datatracker.ietf.org/meeting/111/materials/agenda-111-anima-02\n
 \n
 Session materials: https://datatracker.ietf.org/meeting/111/session/anima\n
 \n
 See in schedule: https://datatracker.ietf.org/meeting/111/agenda#row-111-2021-07-29-thu-1200-ops-anima\n
END:VEVENT
BEGIN:VEVENT
UID:ietf-111-13727-v6ops
SUMMARY:v6ops - IPv6 Operations
LOCATION:Room 4
STATUS:CONFIRMED
CLASS:PUBLIC
DTSTART;TZID=America/Los_Angeles:20210729T120000
DTEND;TZID=America/Los_Angeles:20210729T130000
DTSTAMP:20210618T121115Z
URL:https://datatracker.ietf.org/meeting/111/materials/agenda-111-v6ops-03
DESCRIPTION:Session I\n
 \n
 Meetecho: https://meetings.conf.meetecho.com/ietf111/?group=v6ops&short=&item=1\n
 \n
 Agenda https://datatracker.ietf.org/meeting/111/materials/agenda-111-v6ops-03\n
 \n
 Session materials: https://datatracker.ietf.org/meeting/111/session/v6ops\n
 \n
 See in schedule: https://datatracker.ietf.org/meeting/111/agenda#row-111-2021-07-29-thu-1200-ops-v6ops\n
END:VEVENT
BEGIN:VEVENT
UID:ietf-111-13831-dnsop
SUMMARY:dnsop - Domain Name System Operations
LOCATION:Room 5
STATUS:CONFIRMED
CLASS:PUBLIC
DTSTART;TZID=America/Los_Angeles:20210729T163000
DTEND;TZID=America/Los_Angeles:20210729T173000
DTSTAMP:20210618T121200Z
URL:https://datatracker.ietf.org/meeting/111/materials/agenda-111-dnsop-08
DESCRIPTION:Session IV\n
 \n
 Meetecho: https://meetings.conf.meetecho.com/ietf111/?group=dnsop&short=&item=2\n
 \n
 Agenda https://datatracker.ietf.org/meeting/111/materials/agenda-111-dnsop-08\n
 \n
 Session materials: https://datatracker.ietf.org/meeting/111/session/dnsop\n
 \n
 See in schedule: https://datatracker.ietf.org/meeting/111/agenda#row-111-2021-07-29-thu-1630-ops-dnsop\n
END:VEVENT
BEGIN:VEVENT
UID:ietf-111-13703-mboned
SUMMARY:mboned - MBONE Deployment
LOCATION:Room 4
STATUS:CONFIRMED
CLASS:PUBLIC
DTSTART;TZID=America/Los_Angeles:20210730T120000
DTEND;TZID=America/Los_Angeles:20210730T140000
DTSTAMP:20210618T121214Z
URL:https://datatracker.ietf.org/meeting/111/materials/agenda-111-mboned-01
DESCRIPTION:Session I\n
 \n
 Meetecho: https://meetings.conf.meetecho.com/ietf111/?group=mboned&short=&item=1\n
 \n
 Agenda https://datatracker.ietf.org/meeting/111/materials/agenda-111-mboned-01\n
 \n
 Session materials: https://datatracker.ietf.org/meeting/111/session/mboned\n
 \n
 See in schedule: https://datatracker.ietf.org/meeting/111/agenda#row-111-2021-07-30-fri-1200-ops-mboned\n
END:VEVENT
BEGIN:VEVENT
UID:ietf-111-13696-opsec
SUMMARY:opsec - Operational Security Capabilities for IP Network Infrastructure
LOCATION:Room 3
STATUS:CONFIRMED
CLASS:PUBLIC
DTSTART;TZID=America/Los_Angeles:20210730T143000
DTEND;TZID=America/Los_Angeles:20210730T153000
DTSTAMP:20210618T121224Z
URL:https://datatracker.ietf.org/meeting/111/materials/agenda-111-opsec-00
DESCRIPTION:Session II\n
 \n
 Meetecho: https://meetings.conf.meetecho.com/ietf111/?group=opsec&short=&item=1\n
 \n
 Agenda https://datatracker.ietf.org/meeting/111/materials/agenda-111-opsec-00\n
 \n
 Session materials: https://datatracker.ietf.org/meeting/111/session/opsec\n
 \n
 See in schedule: https://datatracker.ietf.org/meeting/111/agenda#row-111-2021-07-30-fri-1430-ops-opsec\n
END:VEVENT
BEGIN:VEVENT
UID:ietf-111-13687-opsawg
SUMMARY:opsawg - Operations and Management Area Working Group (Joint OpsAWG / OpsAREA)
LOCATION:Room 4
STATUS:CONFIRMED
CLASS:PUBLIC
DTSTART;TZID=America/Los_Angeles:20210730T160000
DTEND;TZID=America/Los_Angeles:20210730T180000
DTSTAMP:20210618T121234Z
URL:https://datatracker.ietf.org/meeting/111/materials/agenda-111-opsawg-00
DESCRIPTION:Session III\n
 Note: Joint OpsAWG / OpsAREA\n
 \n
 Meetecho: https://meetings.conf.meetecho.com/ietf111/?group=opsawg&short=&item=1\n
 \n
 Agenda https://datatracker.ietf.org/meeting/111/materials/agenda-111-opsawg-00\n
 \n
 Session materials: https://datatracker.ietf.org/meeting/111/session/opsawg\n
 \n
 See in schedule: https://datatracker.ietf.org/meeting/111/agenda#row-111-2021-07-30-fri-1600-ops-opsawg\n
END:VEVENT
END:VCALENDAR
