BEGIN:VCALENDAR
VERSION:2.0
METHOD:PUBLISH
PRODID:-//IETF//datatracker.ietf.org ical agenda//EN
BEGIN:VTIMEZONE
TZID:America/Los_Angeles
X-LIC-LOCATION:America/Los_Angeles
BEGIN:DAYLIGHT
TZOFFSETFROM:-0800
TZOFFSETTO:-0700
TZNAME:PDT
DTSTART:20070311T020000
RRULE:FREQ=YEARLY;BYMONTH=3;BYDAY=2SU
END:DAYLIGHT
BEGIN:STANDARD
TZOFFSETFROM:-0700
TZOFFSETTO:-0800
TZNAME:PST
DTSTART:20071104T020000
RRULE:FREQ=YEARLY;BYMONTH=11;BYDAY=1SU
END:STANDARD
BEGIN:STANDARD
TZOFFSETFROM:-075258
TZOFFSETTO:-0800
TZNAME:PST
DTSTART:18831118T120702
RDATE:18831118T120702
END:STANDARD
BEGIN:DAYLIGHT
TZOFFSETFROM:-0800
TZOFFSETTO:-0700
TZNAME:PDT
DTSTART:19180331T020000
RDATE:19180331T020000
RDATE:19190330T020000
RDATE:19480314T020000
RDATE:19500430T020000
RDATE:19510429T020000
RDATE:19520427T020000
RDATE:19530426T020000
RDATE:19540425T020000
RDATE:19550424T020000
RDATE:19560429T020000
RDATE:19570428T020000
RDATE:19580427T020000
RDATE:19590426T020000
RDATE:19600424T020000
RDATE:19610430T020000
RDATE:19620429T020000
RDATE:19630428T020000
RDATE:19640426T020000
RDATE:19650425T020000
RDATE:19660424T020000
RDATE:19670430T020000
RDATE:19680428T020000
RDATE:19690427T020000
RDATE:19700426T020000
RDATE:19710425T020000
RDATE:19720430T020000
RDATE:19730429T020000
RDATE:19740106T020000
RDATE:19750223T020000
RDATE:19760425T020000
RDATE:19770424T020000
RDATE:19780430T020000
RDATE:19790429T020000
RDATE:19800427T020000
RDATE:19810426T020000
RDATE:19820425T020000
RDATE:19830424T020000
RDATE:19840429T020000
RDATE:19850428T020000
RDATE:19860427T020000
RDATE:19870405T020000
RDATE:19880403T020000
RDATE:19890402T020000
RDATE:19900401T020000
RDATE:19910407T020000
RDATE:19920405T020000
RDATE:19930404T020000
RDATE:19940403T020000
RDATE:19950402T020000
RDATE:19960407T020000
RDATE:19970406T020000
RDATE:19980405T020000
RDATE:19990404T020000
RDATE:20000402T020000
RDATE:20010401T020000
RDATE:20020407T020000
RDATE:20030406T020000
RDATE:20040404T020000
RDATE:20050403T020000
RDATE:20060402T020000
END:DAYLIGHT
BEGIN:STANDARD
TZOFFSETFROM:-0700
TZOFFSETTO:-0800
TZNAME:PST
DTSTART:19181027T020000
RDATE:19181027T020000
RDATE:19191026T020000
RDATE:19450930T020000
RDATE:19490101T020000
RDATE:19500924T020000
RDATE:19510930T020000
RDATE:19520928T020000
RDATE:19530927T020000
RDATE:19540926T020000
RDATE:19550925T020000
RDATE:19560930T020000
RDATE:19570929T020000
RDATE:19580928T020000
RDATE:19590927T020000
RDATE:19600925T020000
RDATE:19610924T020000
RDATE:19621028T020000
RDATE:19631027T020000
RDATE:19641025T020000
RDATE:19651031T020000
RDATE:19661030T020000
RDATE:19671029T020000
RDATE:19681027T020000
RDATE:19691026T020000
RDATE:19701025T020000
RDATE:19711031T020000
RDATE:19721029T020000
RDATE:19731028T020000
RDATE:19741027T020000
RDATE:19751026T020000
RDATE:19761031T020000
RDATE:19771030T020000
RDATE:19781029T020000
RDATE:19791028T020000
RDATE:19801026T020000
RDATE:19811025T020000
RDATE:19821031T020000
RDATE:19831030T020000
RDATE:19841028T020000
RDATE:19851027T020000
RDATE:19861026T020000
RDATE:19871025T020000
RDATE:19881030T020000
RDATE:19891029T020000
RDATE:19901028T020000
RDATE:19911027T020000
RDATE:19921025T020000
RDATE:19931031T020000
RDATE:19941030T020000
RDATE:19951029T020000
RDATE:19961027T020000
RDATE:19971026T020000
RDATE:19981025T020000
RDATE:19991031T020000
RDATE:20001029T020000
RDATE:20011028T020000
RDATE:20021027T020000
RDATE:20031026T020000
RDATE:20041031T020000
RDATE:20051030T020000
RDATE:20061029T020000
END:STANDARD
BEGIN:DAYLIGHT
TZOFFSETFROM:-0800
TZOFFSETTO:-0700
TZNAME:PWT
DTSTART:19420209T020000
RDATE:19420209T020000
END:DAYLIGHT
BEGIN:DAYLIGHT
TZOFFSETFROM:-0700
TZOFFSETTO:-0700
TZNAME:PPT
DTSTART:19450814T160000
RDATE:19450814T160000
END:DAYLIGHT
BEGIN:STANDARD
TZOFFSETFROM:-0800
TZOFFSETTO:-0800
TZNAME:PST
DTSTART:19460101T000000
RDATE:19460101T000000
RDATE:19670101T000000
END:STANDARD
END:VTIMEZONE
BEGIN:VEVENT
UID:ietf-111-13880-rtg
SUMMARY:RTG AD Office Hours
LOCATION:Webex
STATUS:CONFIRMED
CLASS:PUBLIC
DTSTART;TZID=America/Los_Angeles:20210726T100000
DTEND;TZID=America/Los_Angeles:20210726T110000
DTSTAMP:20210721T093754Z
DESCRIPTION:RTG AD Office Hours\n
 \n
 Session materials: https://datatracker.ietf.org/meeting/111/session/rtg\n
 \n
 See in schedule: https://datatracker.ietf.org/meeting/111/agenda#row-111-2021-07-26-mon-1000-rtg-rtg-ad-office-hours\n
END:VEVENT
BEGIN:VEVENT
UID:ietf-111-13790-ccamp
SUMMARY:ccamp - Common Control and Measurement Plane
LOCATION:Room 5
STATUS:CONFIRMED
CLASS:PUBLIC
DTSTART;TZID=America/Los_Angeles:20210726T120000
DTEND;TZID=America/Los_Angeles:20210726T140000
DTSTAMP:20210618T120943Z
URL:https://datatracker.ietf.org/meeting/111/materials/agenda-111-ccamp-00
DESCRIPTION:Session I\n
 \n
 Meetecho: https://meetings.conf.meetecho.com/ietf111/?group=ccamp&short=&item=1\n
 \n
 Agenda https://datatracker.ietf.org/meeting/111/materials/agenda-111-ccamp-00\n
 \n
 Session materials: https://datatracker.ietf.org/meeting/111/session/ccamp\n
 \n
 See in schedule: https://datatracker.ietf.org/meeting/111/agenda#row-111-2021-07-26-mon-1200-rtg-ccamp\n
END:VEVENT
BEGIN:VEVENT
UID:ietf-111-13789-spring
SUMMARY:spring - Source Packet Routing in Networking
LOCATION:Room 6
STATUS:CONFIRMED
CLASS:PUBLIC
DTSTART;TZID=America/Los_Angeles:20210726T120000
DTEND;TZID=America/Los_Angeles:20210726T140000
DTSTAMP:20210618T120943Z
URL:https://datatracker.ietf.org/meeting/111/materials/agenda-111-spring-00
DESCRIPTION:Session I\n
 \n
 Meetecho: https://meetings.conf.meetecho.com/ietf111/?group=spring&short=&item=1\n
 \n
 Agenda https://datatracker.ietf.org/meeting/111/materials/agenda-111-spring-00\n
 \n
 Session materials: https://datatracker.ietf.org/meeting/111/session/spring\n
 \n
 See in schedule: https://datatracker.ietf.org/meeting/111/agenda#row-111-2021-07-26-mon-1200-rtg-spring\n
END:VEVENT
BEGIN:VEVENT
UID:ietf-111-13783-babel
SUMMARY:babel - Babel routing protocol
LOCATION:Room 4
STATUS:CONFIRMED
CLASS:PUBLIC
DTSTART;TZID=America/Los_Angeles:20210726T143000
DTEND;TZID=America/Los_Angeles:20210726T153000
DTSTAMP:20210618T120955Z
URL:https://datatracker.ietf.org/meeting/111/materials/agenda-111-babel-02
DESCRIPTION:Session II\n
 \n
 Meetecho: https://meetings.conf.meetecho.com/ietf111/?group=babel&short=&item=1\n
 \n
 Agenda https://datatracker.ietf.org/meeting/111/materials/agenda-111-babel-02\n
 \n
 Session materials: https://datatracker.ietf.org/meeting/111/session/babel\n
 \n
 See in schedule: https://datatracker.ietf.org/meeting/111/agenda#row-111-2021-07-26-mon-1430-rtg-babel\n
END:VEVENT
BEGIN:VEVENT
UID:ietf-111-13782-pce
SUMMARY:pce - Path Computation Element
LOCATION:Room 5
STATUS:CONFIRMED
CLASS:PUBLIC
DTSTART;TZID=America/Los_Angeles:20210726T143000
DTEND;TZID=America/Los_Angeles:20210726T153000
DTSTAMP:20210618T120955Z
URL:https://datatracker.ietf.org/meeting/111/materials/agenda-111-pce-03
DESCRIPTION:Session II\n
 \n
 Meetecho: https://meetings.conf.meetecho.com/ietf111/?group=pce&short=&item=1\n
 \n
 Agenda https://datatracker.ietf.org/meeting/111/materials/agenda-111-pce-03\n
 \n
 Session materials: https://datatracker.ietf.org/meeting/111/session/pce\n
 \n
 See in schedule: https://datatracker.ietf.org/meeting/111/agenda#row-111-2021-07-26-mon-1430-rtg-pce\n
END:VEVENT
BEGIN:VEVENT
UID:ietf-111-13773-bess
SUMMARY:bess - BGP Enabled ServiceS
LOCATION:Room 6
STATUS:RESCHEDULED TO TUESDAY 12:00-14:00
CLASS:PUBLIC
DTSTART;TZID=America/Los_Angeles:20210726T160000
DTEND;TZID=America/Los_Angeles:20210726T180000
DTSTAMP:20210618T121004Z
URL:https://datatracker.ietf.org/meeting/111/materials/agenda-111-bess-01
DESCRIPTION:Session III\n
 \n
 Meetecho: https://meetings.conf.meetecho.com/ietf111/?group=bess&short=&item=1\n
 \n
 Agenda https://datatracker.ietf.org/meeting/111/materials/agenda-111-bess-01\n
 \n
 Session materials: https://datatracker.ietf.org/meeting/111/session/bess\n
 \n
 See in schedule: https://datatracker.ietf.org/meeting/111/agenda#row-111-2021-07-26-mon-1600-rtg-bess\n
END:VEVENT
BEGIN:VEVENT
UID:ietf-111-13773-bier
SUMMARY:bier - Bit Indexed Explicit Replication
LOCATION:Room 6
STATUS:CONFIRMED
CLASS:PUBLIC
DTSTART;TZID=America/Los_Angeles:20210726T160000
DTEND;TZID=America/Los_Angeles:20210726T180000
DTSTAMP:20210618T121004Z
URL:https://datatracker.ietf.org/meeting/111/materials/agenda-111-bier-00
DESCRIPTION:Session III\n
 \n
 Meetecho: https://meetings.conf.meetecho.com/ietf111/?group=bier&short=&item=1\n
 \n
 Agenda https://datatracker.ietf.org/meeting/111/materials/agenda-111-bier-00\n
 \n
 Session materials: https://datatracker.ietf.org/meeting/111/session/bier\n
 \n
 See in schedule: https://datatracker.ietf.org/meeting/111/agenda#row-111-2021-07-26-mon-1600-rtg-bier\n
END:VEVENT
BEGIN:VEVENT
UID:ietf-111-13772-teas
SUMMARY:teas - Traffic Engineering Architecture and Signaling
LOCATION:Room 7
STATUS:CONFIRMED
CLASS:PUBLIC
DTSTART;TZID=America/Los_Angeles:20210726T160000
DTEND;TZID=America/Los_Angeles:20210726T180000
DTSTAMP:20210618T121004Z
URL:https://datatracker.ietf.org/meeting/111/materials/agenda-111-teas-01
DESCRIPTION:Session III\n
 \n
 Meetecho: https://meetings.conf.meetecho.com/ietf111/?group=teas&short=&item=1\n
 \n
 Agenda https://datatracker.ietf.org/meeting/111/materials/agenda-111-teas-01\n
 \n
 Session materials: https://datatracker.ietf.org/meeting/111/session/teas\n
 \n
 See in schedule: https://datatracker.ietf.org/meeting/111/agenda#row-111-2021-07-26-mon-1600-rtg-teas\n
END:VEVENT
BEGIN:VEVENT
UID:ietf-111-13766-bess
SUMMARY:bess - BGP Enabled ServiceS
LOCATION:Room 5
STATUS:CONFIRMED
CLASS:PUBLIC
DTSTART;TZID=America/Los_Angeles:20210727T120000
DTEND;TZID=America/Los_Angeles:20210727T140000
DTSTAMP:20210618T121013Z
URL:https://datatracker.ietf.org/meeting/111/materials/agenda-111-bess-01
DESCRIPTION:Session I\n
 \n
 Meetecho: https://meetings.conf.meetecho.com/ietf111/?group=bess&short=&item=2\n
 \n
 Agenda https://datatracker.ietf.org/meeting/111/materials/agenda-111-bess-01\n
 \n
 Session materials: https://datatracker.ietf.org/meeting/111/session/bess\n
 \n
 See in schedule: https://datatracker.ietf.org/meeting/111/agenda#row-111-2021-07-27-tue-1200-rtg-bess\n
END:VEVENT
BEGIN:VEVENT
UID:ietf-111-13766-bier
SUMMARY:bier - Bit Indexed Explicit Replication
LOCATION:Room 5
STATUS:RESCHEDULED TO MONDAY 16:00-18:00
CLASS:PUBLIC
DTSTART;TZID=America/Los_Angeles:20210727T120000
DTEND;TZID=America/Los_Angeles:20210727T140000
DTSTAMP:20210618T121013Z
URL:https://datatracker.ietf.org/meeting/111/materials/agenda-111-bier-00
DESCRIPTION:Session I\n
 \n
 Meetecho: https://meetings.conf.meetecho.com/ietf111/?group=bier&short=&item=2\n
 \n
 Agenda https://datatracker.ietf.org/meeting/111/materials/agenda-111-bier-00\n
 \n
 Session materials: https://datatracker.ietf.org/meeting/111/session/bier\n
 \n
 See in schedule: https://datatracker.ietf.org/meeting/111/agenda#row-111-2021-07-27-tue-1200-rtg-bier\n
END:VEVENT
BEGIN:VEVENT
UID:ietf-111-13765-raw
SUMMARY:raw - Reliable and Available Wireless
LOCATION:Room 6
STATUS:CONFIRMED
CLASS:PUBLIC
DTSTART;TZID=America/Los_Angeles:20210727T120000
DTEND;TZID=America/Los_Angeles:20210727T140000
DTSTAMP:20210618T121013Z
URL:https://datatracker.ietf.org/meeting/111/materials/agenda-111-raw-03
DESCRIPTION:Session I\n
 \n
 Meetecho: https://meetings.conf.meetecho.com/ietf111/?group=raw&short=&item=1\n
 \n
 Agenda https://datatracker.ietf.org/meeting/111/materials/agenda-111-raw-03\n
 \n
 Session materials: https://datatracker.ietf.org/meeting/111/session/raw\n
 \n
 See in schedule: https://datatracker.ietf.org/meeting/111/agenda#row-111-2021-07-27-tue-1200-rtg-raw\n
END:VEVENT
BEGIN:VEVENT
UID:ietf-111-13750-idr
SUMMARY:idr - Inter-Domain Routing
LOCATION:Room 5
STATUS:CONFIRMED
CLASS:PUBLIC
DTSTART;TZID=America/Los_Angeles:20210727T160000
DTEND;TZID=America/Los_Angeles:20210727T180000
DTSTAMP:20210618T121035Z
URL:https://datatracker.ietf.org/meeting/111/materials/agenda-111-idr-03
DESCRIPTION:Session III\n
 \n
 Meetecho: https://meetings.conf.meetecho.com/ietf111/?group=idr&short=&item=1\n
 \n
 Agenda https://datatracker.ietf.org/meeting/111/materials/agenda-111-idr-03\n
 \n
 Session materials: https://datatracker.ietf.org/meeting/111/session/idr\n
 \n
 See in schedule: https://datatracker.ietf.org/meeting/111/agenda#row-111-2021-07-27-tue-1600-rtg-idr\n
END:VEVENT
BEGIN:VEVENT
UID:ietf-111-13749-pals
SUMMARY:pals - Pseudowire And LDP-enabled Services (Joint PALS/MPLS/DetNet)
LOCATION:Room 6
STATUS:CONFIRMED
CLASS:PUBLIC
DTSTART;TZID=America/Los_Angeles:20210727T160000
DTEND;TZID=America/Los_Angeles:20210727T180000
DTSTAMP:20210618T121035Z
URL:https://datatracker.ietf.org/meeting/111/materials/agenda-111-pals-03
DESCRIPTION:Session III\n
 Note: Joint PALS/MPLS/DetNet\n
 \n
 Meetecho: https://meetings.conf.meetecho.com/ietf111/?group=pals&short=&item=1\n
 \n
 Agenda https://datatracker.ietf.org/meeting/111/materials/agenda-111-pals-03\n
 \n
 Session materials: https://datatracker.ietf.org/meeting/111/session/pals\n
 \n
 See in schedule: https://datatracker.ietf.org/meeting/111/agenda#row-111-2021-07-27-tue-1600-rtg-pals\n
END:VEVENT
BEGIN:VEVENT
UID:ietf-111-13741-rtgwg
SUMMARY:rtgwg - Routing Area Working Group
LOCATION:Room 6
STATUS:CONFIRMED
CLASS:PUBLIC
DTSTART;TZID=America/Los_Angeles:20210728T120000
DTEND;TZID=America/Los_Angeles:20210728T140000
DTSTAMP:20210618T121047Z
URL:https://datatracker.ietf.org/meeting/111/materials/agenda-111-rtgwg-sessb-09
DESCRIPTION:Session I\n
 \n
 Meetecho: https://meetings.conf.meetecho.com/ietf111/?group=rtgwg&short=&item=1\n
 \n
 Agenda https://datatracker.ietf.org/meeting/111/materials/agenda-111-rtgwg-sessb-09\n
 \n
 Session materials: https://datatracker.ietf.org/meeting/111/session/rtgwg\n
 \n
 See in schedule: https://datatracker.ietf.org/meeting/111/agenda#row-111-2021-07-28-wed-1200-rtg-rtgwg\n
END:VEVENT
BEGIN:VEVENT
UID:ietf-111-13732-mpls
SUMMARY:mpls - Multiprotocol Label Switching
LOCATION:Room 7
STATUS:CONFIRMED
CLASS:PUBLIC
DTSTART;TZID=America/Los_Angeles:20210728T143000
DTEND;TZID=America/Los_Angeles:20210728T153000
DTSTAMP:20210618T121100Z
URL:https://datatracker.ietf.org/meeting/111/materials/agenda-111-mpls-02
DESCRIPTION:Session II\n
 \n
 Meetecho: https://meetings.conf.meetecho.com/ietf111/?group=mpls&short=&item=1\n
 \n
 Agenda https://datatracker.ietf.org/meeting/111/materials/agenda-111-mpls-02\n
 \n
 Session materials: https://datatracker.ietf.org/meeting/111/session/mpls\n
 \n
 See in schedule: https://datatracker.ietf.org/meeting/111/agenda#row-111-2021-07-28-wed-1430-rtg-mpls\n
END:VEVENT
BEGIN:VEVENT
UID:ietf-111-13731-rift
SUMMARY:rift - Routing In Fat Trees
LOCATION:Room 8
STATUS:CONFIRMED
CLASS:PUBLIC
DTSTART;TZID=America/Los_Angeles:20210728T143000
DTEND;TZID=America/Los_Angeles:20210728T153000
DTSTAMP:20210618T121100Z
URL:https://datatracker.ietf.org/meeting/111/materials/agenda-111-rift-01
DESCRIPTION:Session II\n
 \n
 Meetecho: https://meetings.conf.meetecho.com/ietf111/?group=rift&short=&item=1\n
 \n
 Agenda https://datatracker.ietf.org/meeting/111/materials/agenda-111-rift-01\n
 \n
 Session materials: https://datatracker.ietf.org/meeting/111/session/rift\n
 \n
 See in schedule: https://datatracker.ietf.org/meeting/111/agenda#row-111-2021-07-28-wed-1430-rtg-rift\n
END:VEVENT
BEGIN:VEVENT
UID:ietf-111-13726-lisp
SUMMARY:lisp - Locator/ID Separation Protocol
LOCATION:Room 5
STATUS:CONFIRMED
CLASS:PUBLIC
DTSTART;TZID=America/Los_Angeles:20210729T120000
DTEND;TZID=America/Los_Angeles:20210729T130000
DTSTAMP:20210618T121115Z
URL:https://datatracker.ietf.org/meeting/111/materials/agenda-111-lisp-01
DESCRIPTION:Session I\n
 \n
 Meetecho: https://meetings.conf.meetecho.com/ietf111/?group=lisp&short=&item=1\n
 \n
 Agenda https://datatracker.ietf.org/meeting/111/materials/agenda-111-lisp-01\n
 \n
 Session materials: https://datatracker.ietf.org/meeting/111/session/lisp\n
 \n
 See in schedule: https://datatracker.ietf.org/meeting/111/agenda#row-111-2021-07-29-thu-1200-rtg-lisp\n
END:VEVENT
BEGIN:VEVENT
UID:ietf-111-13725-pce
SUMMARY:pce - Path Computation Element
LOCATION:Room 6
STATUS:CONFIRMED
CLASS:PUBLIC
DTSTART;TZID=America/Los_Angeles:20210729T120000
DTEND;TZID=America/Los_Angeles:20210729T130000
DTSTAMP:20210618T121115Z
URL:https://datatracker.ietf.org/meeting/111/materials/agenda-111-pce-03
DESCRIPTION:Session I\n
 \n
 Meetecho: https://meetings.conf.meetecho.com/ietf111/?group=pce&short=&item=2\n
 \n
 Agenda https://datatracker.ietf.org/meeting/111/materials/agenda-111-pce-03\n
 \n
 Session materials: https://datatracker.ietf.org/meeting/111/session/pce\n
 \n
 See in schedule: https://datatracker.ietf.org/meeting/111/agenda#row-111-2021-07-29-thu-1200-rtg-pce\n
END:VEVENT
BEGIN:VEVENT
UID:ietf-111-13717-rtgarea
SUMMARY:rtgarea - Routing Area Open Meeting
LOCATION:Room 6
STATUS:CONFIRMED
CLASS:PUBLIC
DTSTART;TZID=America/Los_Angeles:20210729T133000
DTEND;TZID=America/Los_Angeles:20210729T143000
DTSTAMP:20210618T121128Z
URL:https://datatracker.ietf.org/meeting/111/materials/agenda-111-rtgarea-00
DESCRIPTION:Session II\n
 \n
 Meetecho: https://meetings.conf.meetecho.com/ietf111/?group=rtgarea&short=&item=1\n
 \n
 Agenda https://datatracker.ietf.org/meeting/111/materials/agenda-111-rtgarea-00\n
 \n
 Session materials: https://datatracker.ietf.org/meeting/111/session/rtgarea\n
 \n
 See in schedule: https://datatracker.ietf.org/meeting/111/agenda#row-111-2021-07-29-thu-1330-rtg-rtgarea\n
END:VEVENT
BEGIN:VEVENT
UID:ietf-111-13711-rtgwg
SUMMARY:rtgwg - Routing Area Working Group
LOCATION:Room 4
STATUS:CONFIRMED
CLASS:PUBLIC
DTSTART;TZID=America/Los_Angeles:20210729T150000
DTEND;TZID=America/Los_Angeles:20210729T160000
DTSTAMP:20210618T121140Z
URL:https://datatracker.ietf.org/meeting/111/materials/agenda-111-rtgwg-sessb-09
DESCRIPTION:Session III\n
 \n
 Meetecho: https://meetings.conf.meetecho.com/ietf111/?group=rtgwg&short=&item=2\n
 \n
 Agenda https://datatracker.ietf.org/meeting/111/materials/agenda-111-rtgwg-sessb-09\n
 \n
 Session materials: https://datatracker.ietf.org/meeting/111/session/rtgwg\n
 \n
 See in schedule: https://datatracker.ietf.org/meeting/111/agenda#row-111-2021-07-29-thu-1500-rtg-rtgwg\n
END:VEVENT
BEGIN:VEVENT
UID:ietf-111-13830-manet
SUMMARY:manet - Mobile Ad-hoc Networks
LOCATION:Room 6
STATUS:CONFIRMED
CLASS:PUBLIC
DTSTART;TZID=America/Los_Angeles:20210729T163000
DTEND;TZID=America/Los_Angeles:20210729T173000
DTSTAMP:20210618T121200Z
URL:https://datatracker.ietf.org/meeting/111/materials/agenda-111-manet-01
DESCRIPTION:Session IV\n
 \n
 Meetecho: https://meetings.conf.meetecho.com/ietf111/?group=manet&short=&item=1\n
 \n
 Agenda https://datatracker.ietf.org/meeting/111/materials/agenda-111-manet-01\n
 \n
 Session materials: https://datatracker.ietf.org/meeting/111/session/manet\n
 \n
 See in schedule: https://datatracker.ietf.org/meeting/111/agenda#row-111-2021-07-29-thu-1630-rtg-manet\n
END:VEVENT
BEGIN:VEVENT
UID:ietf-111-13829-nvo3
SUMMARY:nvo3 - Network Virtualization Overlays
LOCATION:Room 7
STATUS:CANCELLED
CLASS:PUBLIC
DTSTART;TZID=America/Los_Angeles:20210729T163000
DTEND;TZID=America/Los_Angeles:20210729T173000
DTSTAMP:20210618T121200Z
DESCRIPTION:Session IV\n
 \n
 Meetecho: https://meetings.conf.meetecho.com/ietf111/?group=nvo3&short=&item=1\n
 \n
 Session materials: https://datatracker.ietf.org/meeting/111/session/nvo3\n
 \n
 See in schedule: https://datatracker.ietf.org/meeting/111/agenda#row-111-2021-07-29-thu-1630-rtg-nvo3\n
END:VEVENT
BEGIN:VEVENT
UID:ietf-111-13702-apn
SUMMARY:apn - Application-aware Networking
LOCATION:Room 5
STATUS:CONFIRMED
CLASS:PUBLIC
DTSTART;TZID=America/Los_Angeles:20210730T120000
DTEND;TZID=America/Los_Angeles:20210730T140000
DTSTAMP:20210618T121214Z
URL:https://datatracker.ietf.org/meeting/111/materials/agenda-111-apn-01
DESCRIPTION:Session I\n
 \n
 Meetecho: https://meetings.conf.meetecho.com/ietf111/?group=apn&short=&item=1\n
 \n
 Agenda https://datatracker.ietf.org/meeting/111/materials/agenda-111-apn-01\n
 \n
 Session materials: https://datatracker.ietf.org/meeting/111/session/apn\n
 \n
 See in schedule: https://datatracker.ietf.org/meeting/111/agenda#row-111-2021-07-30-fri-1200-rtg-apn\n
END:VEVENT
BEGIN:VEVENT
UID:ietf-111-13694-detnet
SUMMARY:detnet - Deterministic Networking
LOCATION:Room 5
STATUS:CONFIRMED
CLASS:PUBLIC
DTSTART;TZID=America/Los_Angeles:20210730T143000
DTEND;TZID=America/Los_Angeles:20210730T153000
DTSTAMP:20210618T121224Z
URL:https://datatracker.ietf.org/meeting/111/materials/agenda-111-detnet-01
DESCRIPTION:Session II\n
 \n
 Meetecho: https://meetings.conf.meetecho.com/ietf111/?group=detnet&short=&item=1\n
 \n
 Agenda https://datatracker.ietf.org/meeting/111/materials/agenda-111-detnet-01\n
 \n
 Session materials: https://datatracker.ietf.org/meeting/111/session/detnet\n
 \n
 See in schedule: https://datatracker.ietf.org/meeting/111/agenda#row-111-2021-07-30-fri-1430-rtg-detnet\n
END:VEVENT
BEGIN:VEVENT
UID:ietf-111-13695-idr
SUMMARY:idr - Inter-Domain Routing
LOCATION:Room 4
STATUS:CONFIRMED
CLASS:PUBLIC
DTSTART;TZID=America/Los_Angeles:20210730T143000
DTEND;TZID=America/Los_Angeles:20210730T153000
DTSTAMP:20210618T121224Z
URL:https://datatracker.ietf.org/meeting/111/materials/agenda-111-idr-03
DESCRIPTION:Session II\n
 \n
 Meetecho: https://meetings.conf.meetecho.com/ietf111/?group=idr&short=&item=2\n
 \n
 Agenda https://datatracker.ietf.org/meeting/111/materials/agenda-111-idr-03\n
 \n
 Session materials: https://datatracker.ietf.org/meeting/111/session/idr\n
 \n
 See in schedule: https://datatracker.ietf.org/meeting/111/agenda#row-111-2021-07-30-fri-1430-rtg-idr\n
END:VEVENT
BEGIN:VEVENT
UID:ietf-111-13686-lsr
SUMMARY:lsr - Link State Routing
LOCATION:Room 5
STATUS:CONFIRMED
CLASS:PUBLIC
DTSTART;TZID=America/Los_Angeles:20210730T160000
DTEND;TZID=America/Los_Angeles:20210730T180000
DTSTAMP:20210618T121234Z
URL:https://datatracker.ietf.org/meeting/111/materials/agenda-111-lsr-03
DESCRIPTION:Session III\n
 \n
 Meetecho: https://meetings.conf.meetecho.com/ietf111/?group=lsr&short=&item=1\n
 \n
 Agenda https://datatracker.ietf.org/meeting/111/materials/agenda-111-lsr-03\n
 \n
 Session materials: https://datatracker.ietf.org/meeting/111/session/lsr\n
 \n
 See in schedule: https://datatracker.ietf.org/meeting/111/agenda#row-111-2021-07-30-fri-1600-rtg-lsr\n
END:VEVENT
BEGIN:VEVENT
UID:ietf-111-13685-pim
SUMMARY:pim - Protocols for IP Multicast
LOCATION:Room 6
STATUS:CONFIRMED
CLASS:PUBLIC
DTSTART;TZID=America/Los_Angeles:20210730T160000
DTEND;TZID=America/Los_Angeles:20210730T180000
DTSTAMP:20210618T121234Z
URL:https://datatracker.ietf.org/meeting/111/materials/agenda-111-pim-03
DESCRIPTION:Session III\n
 \n
 Meetecho: https://meetings.conf.meetecho.com/ietf111/?group=pim&short=&item=1\n
 \n
 Agenda https://datatracker.ietf.org/meeting/111/materials/agenda-111-pim-03\n
 \n
 Session materials: https://datatracker.ietf.org/meeting/111/session/pim\n
 \n
 See in schedule: https://datatracker.ietf.org/meeting/111/agenda#row-111-2021-07-30-fri-1600-rtg-pim\n
END:VEVENT
END:VCALENDAR
