BEGIN:VCALENDAR
VERSION:2.0
METHOD:PUBLISH
PRODID:-//IETF//datatracker.ietf.org ical agenda//EN
BEGIN:VTIMEZONE
TZID:America/Los_Angeles
X-LIC-LOCATION:America/Los_Angeles
BEGIN:DAYLIGHT
TZOFFSETFROM:-0800
TZOFFSETTO:-0700
TZNAME:PDT
DTSTART:20070311T020000
RRULE:FREQ=YEARLY;BYMONTH=3;BYDAY=2SU
END:DAYLIGHT
BEGIN:STANDARD
TZOFFSETFROM:-0700
TZOFFSETTO:-0800
TZNAME:PST
DTSTART:20071104T020000
RRULE:FREQ=YEARLY;BYMONTH=11;BYDAY=1SU
END:STANDARD
BEGIN:STANDARD
TZOFFSETFROM:-075258
TZOFFSETTO:-0800
TZNAME:PST
DTSTART:18831118T120702
RDATE:18831118T120702
END:STANDARD
BEGIN:DAYLIGHT
TZOFFSETFROM:-0800
TZOFFSETTO:-0700
TZNAME:PDT
DTSTART:19180331T020000
RDATE:19180331T020000
RDATE:19190330T020000
RDATE:19480314T020000
RDATE:19500430T020000
RDATE:19510429T020000
RDATE:19520427T020000
RDATE:19530426T020000
RDATE:19540425T020000
RDATE:19550424T020000
RDATE:19560429T020000
RDATE:19570428T020000
RDATE:19580427T020000
RDATE:19590426T020000
RDATE:19600424T020000
RDATE:19610430T020000
RDATE:19620429T020000
RDATE:19630428T020000
RDATE:19640426T020000
RDATE:19650425T020000
RDATE:19660424T020000
RDATE:19670430T020000
RDATE:19680428T020000
RDATE:19690427T020000
RDATE:19700426T020000
RDATE:19710425T020000
RDATE:19720430T020000
RDATE:19730429T020000
RDATE:19740106T020000
RDATE:19750223T020000
RDATE:19760425T020000
RDATE:19770424T020000
RDATE:19780430T020000
RDATE:19790429T020000
RDATE:19800427T020000
RDATE:19810426T020000
RDATE:19820425T020000
RDATE:19830424T020000
RDATE:19840429T020000
RDATE:19850428T020000
RDATE:19860427T020000
RDATE:19870405T020000
RDATE:19880403T020000
RDATE:19890402T020000
RDATE:19900401T020000
RDATE:19910407T020000
RDATE:19920405T020000
RDATE:19930404T020000
RDATE:19940403T020000
RDATE:19950402T020000
RDATE:19960407T020000
RDATE:19970406T020000
RDATE:19980405T020000
RDATE:19990404T020000
RDATE:20000402T020000
RDATE:20010401T020000
RDATE:20020407T020000
RDATE:20030406T020000
RDATE:20040404T020000
RDATE:20050403T020000
RDATE:20060402T020000
END:DAYLIGHT
BEGIN:STANDARD
TZOFFSETFROM:-0700
TZOFFSETTO:-0800
TZNAME:PST
DTSTART:19181027T020000
RDATE:19181027T020000
RDATE:19191026T020000
RDATE:19450930T020000
RDATE:19490101T020000
RDATE:19500924T020000
RDATE:19510930T020000
RDATE:19520928T020000
RDATE:19530927T020000
RDATE:19540926T020000
RDATE:19550925T020000
RDATE:19560930T020000
RDATE:19570929T020000
RDATE:19580928T020000
RDATE:19590927T020000
RDATE:19600925T020000
RDATE:19610924T020000
RDATE:19621028T020000
RDATE:19631027T020000
RDATE:19641025T020000
RDATE:19651031T020000
RDATE:19661030T020000
RDATE:19671029T020000
RDATE:19681027T020000
RDATE:19691026T020000
RDATE:19701025T020000
RDATE:19711031T020000
RDATE:19721029T020000
RDATE:19731028T020000
RDATE:19741027T020000
RDATE:19751026T020000
RDATE:19761031T020000
RDATE:19771030T020000
RDATE:19781029T020000
RDATE:19791028T020000
RDATE:19801026T020000
RDATE:19811025T020000
RDATE:19821031T020000
RDATE:19831030T020000
RDATE:19841028T020000
RDATE:19851027T020000
RDATE:19861026T020000
RDATE:19871025T020000
RDATE:19881030T020000
RDATE:19891029T020000
RDATE:19901028T020000
RDATE:19911027T020000
RDATE:19921025T020000
RDATE:19931031T020000
RDATE:19941030T020000
RDATE:19951029T020000
RDATE:19961027T020000
RDATE:19971026T020000
RDATE:19981025T020000
RDATE:19991031T020000
RDATE:20001029T020000
RDATE:20011028T020000
RDATE:20021027T020000
RDATE:20031026T020000
RDATE:20041031T020000
RDATE:20051030T020000
RDATE:20061029T020000
END:STANDARD
BEGIN:DAYLIGHT
TZOFFSETFROM:-0800
TZOFFSETTO:-0700
TZNAME:PWT
DTSTART:19420209T020000
RDATE:19420209T020000
END:DAYLIGHT
BEGIN:DAYLIGHT
TZOFFSETFROM:-0700
TZOFFSETTO:-0700
TZNAME:PPT
DTSTART:19450814T160000
RDATE:19450814T160000
END:DAYLIGHT
BEGIN:STANDARD
TZOFFSETFROM:-0800
TZOFFSETTO:-0800
TZNAME:PST
DTSTART:19460101T000000
RDATE:19460101T000000
RDATE:19670101T000000
END:STANDARD
END:VTIMEZONE
BEGIN:VEVENT
UID:ietf-111-13877-sec
SUMMARY:SEC AD Office Hours
LOCATION:Webex
STATUS:CONFIRMED
CLASS:PUBLIC
DTSTART;TZID=America/Los_Angeles:20210726T100000
DTEND;TZID=America/Los_Angeles:20210726T110000
DTSTAMP:20210720T120843Z
DESCRIPTION:SEC AD Office Hours\n
 \n
 Session materials: https://datatracker.ietf.org/meeting/111/session/sec\n
 \n
 See in schedule: https://datatracker.ietf.org/meeting/111/agenda#row-111-2021-07-26-mon-1000-sec-sec-ad-office-hours\n
END:VEVENT
BEGIN:VEVENT
UID:ietf-111-13788-gnap
SUMMARY:gnap - Grant Negotiation and Authorization Protocol
LOCATION:Room 7
STATUS:CONFIRMED
CLASS:PUBLIC
DTSTART;TZID=America/Los_Angeles:20210726T120000
DTEND;TZID=America/Los_Angeles:20210726T140000
DTSTAMP:20210618T120943Z
URL:https://datatracker.ietf.org/meeting/111/materials/agenda-111-gnap-00
DESCRIPTION:Session I\n
 \n
 Meetecho: https://meetings.conf.meetecho.com/ietf111/?group=gnap&short=&item=1\n
 \n
 Agenda https://datatracker.ietf.org/meeting/111/materials/agenda-111-gnap-00\n
 \n
 Session materials: https://datatracker.ietf.org/meeting/111/session/gnap\n
 \n
 See in schedule: https://datatracker.ietf.org/meeting/111/agenda#row-111-2021-07-26-mon-1200-sec-gnap\n
END:VEVENT
BEGIN:VEVENT
UID:ietf-111-13787-sacm
SUMMARY:sacm - Security Automation and Continuous Monitoring
LOCATION:Room 8
STATUS:CONFIRMED
CLASS:PUBLIC
DTSTART;TZID=America/Los_Angeles:20210726T120000
DTEND;TZID=America/Los_Angeles:20210726T140000
DTSTAMP:20210618T120943Z
URL:https://datatracker.ietf.org/meeting/111/materials/agenda-111-sacm-00
DESCRIPTION:Session I\n
 \n
 Meetecho: https://meetings.conf.meetecho.com/ietf111/?group=sacm&short=&item=1\n
 \n
 Agenda https://datatracker.ietf.org/meeting/111/materials/agenda-111-sacm-00\n
 \n
 Session materials: https://datatracker.ietf.org/meeting/111/session/sacm\n
 \n
 See in schedule: https://datatracker.ietf.org/meeting/111/agenda#row-111-2021-07-26-mon-1200-sec-sacm\n
END:VEVENT
BEGIN:VEVENT
UID:ietf-111-13781-ipsecme
SUMMARY:ipsecme - IP Security Maintenance and Extensions
LOCATION:Room 6
STATUS:CONFIRMED
CLASS:PUBLIC
DTSTART;TZID=America/Los_Angeles:20210726T143000
DTEND;TZID=America/Los_Angeles:20210726T153000
DTSTAMP:20210618T120955Z
URL:https://datatracker.ietf.org/meeting/111/materials/agenda-111-ipsecme-00
DESCRIPTION:Session II\n
 \n
 Meetecho: https://meetings.conf.meetecho.com/ietf111/?group=ipsecme&short=&item=1\n
 \n
 Agenda https://datatracker.ietf.org/meeting/111/materials/agenda-111-ipsecme-00\n
 \n
 Session materials: https://datatracker.ietf.org/meeting/111/session/ipsecme\n
 \n
 See in schedule: https://datatracker.ietf.org/meeting/111/agenda#row-111-2021-07-26-mon-1430-sec-ipsecme\n
END:VEVENT
BEGIN:VEVENT
UID:ietf-111-13780-lamps
SUMMARY:lamps - Limited Additional Mechanisms for PKIX and SMIME
LOCATION:Room 7
STATUS:CONFIRMED
CLASS:PUBLIC
DTSTART;TZID=America/Los_Angeles:20210726T143000
DTEND;TZID=America/Los_Angeles:20210726T153000
DTSTAMP:20210618T120955Z
URL:https://datatracker.ietf.org/meeting/111/materials/agenda-111-lamps-02
DESCRIPTION:Session II\n
 \n
 Meetecho: https://meetings.conf.meetecho.com/ietf111/?group=lamps&short=&item=1\n
 \n
 Agenda https://datatracker.ietf.org/meeting/111/materials/agenda-111-lamps-02\n
 \n
 Session materials: https://datatracker.ietf.org/meeting/111/session/lamps\n
 \n
 See in schedule: https://datatracker.ietf.org/meeting/111/agenda#row-111-2021-07-26-mon-1430-sec-lamps\n
END:VEVENT
BEGIN:VEVENT
UID:ietf-111-13779-rats
SUMMARY:rats - Remote ATtestation ProcedureS
LOCATION:Room 8
STATUS:CONFIRMED
CLASS:PUBLIC
DTSTART;TZID=America/Los_Angeles:20210726T143000
DTEND;TZID=America/Los_Angeles:20210726T153000
DTSTAMP:20210618T120955Z
URL:https://datatracker.ietf.org/meeting/111/materials/agenda-111-rats-17
DESCRIPTION:Session II\n
 \n
 Meetecho: https://meetings.conf.meetecho.com/ietf111/?group=rats&short=&item=1\n
 \n
 Agenda https://datatracker.ietf.org/meeting/111/materials/agenda-111-rats-17\n
 \n
 Session materials: https://datatracker.ietf.org/meeting/111/session/rats\n
 \n
 See in schedule: https://datatracker.ietf.org/meeting/111/agenda#row-111-2021-07-26-mon-1430-sec-rats\n
END:VEVENT
BEGIN:VEVENT
UID:ietf-111-13771-secdispatch
SUMMARY:secdispatch - Security Dispatch
LOCATION:Room 8
STATUS:CONFIRMED
CLASS:PUBLIC
DTSTART;TZID=America/Los_Angeles:20210726T160000
DTEND;TZID=America/Los_Angeles:20210726T180000
DTSTAMP:20210618T121004Z
URL:https://datatracker.ietf.org/meeting/111/materials/agenda-111-secdispatch-04
DESCRIPTION:Session III\n
 \n
 Meetecho: https://meetings.conf.meetecho.com/ietf111/?group=secdispatch&short=&item=1\n
 \n
 Agenda https://datatracker.ietf.org/meeting/111/materials/agenda-111-secdispatch-04\n
 \n
 Session materials: https://datatracker.ietf.org/meeting/111/session/secdispatch\n
 \n
 See in schedule: https://datatracker.ietf.org/meeting/111/agenda#row-111-2021-07-26-mon-1600-sec-secdispatch\n
END:VEVENT
BEGIN:VEVENT
UID:ietf-111-13764-danish
SUMMARY:danish - DANE AutheNtication for Iot Service Hardening
LOCATION:Room 7
STATUS:CONFIRMED
CLASS:PUBLIC
DTSTART;TZID=America/Los_Angeles:20210727T120000
DTEND;TZID=America/Los_Angeles:20210727T140000
DTSTAMP:20210618T121013Z
URL:https://datatracker.ietf.org/meeting/111/materials/agenda-111-danish-03
DESCRIPTION:Session I\n
 \n
 Meetecho: https://meetings.conf.meetecho.com/ietf111/?group=danish&short=&item=1\n
 \n
 Agenda https://datatracker.ietf.org/meeting/111/materials/agenda-111-danish-03\n
 \n
 Session materials: https://datatracker.ietf.org/meeting/111/session/danish\n
 \n
 See in schedule: https://datatracker.ietf.org/meeting/111/agenda#row-111-2021-07-27-tue-1200-sec-danish\n
END:VEVENT
BEGIN:VEVENT
UID:ietf-111-13756-saag
SUMMARY:saag - Security Area Open Meeting
LOCATION:Room 7
STATUS:CONFIRMED
CLASS:PUBLIC
DTSTART;TZID=America/Los_Angeles:20210727T143000
DTEND;TZID=America/Los_Angeles:20210727T153000
DTSTAMP:20210618T121026Z
URL:https://datatracker.ietf.org/meeting/111/materials/agenda-111-saag-00
DESCRIPTION:Session II\n
 \n
 Meetecho: https://meetings.conf.meetecho.com/ietf111/?group=saag&short=&item=1\n
 \n
 Agenda https://datatracker.ietf.org/meeting/111/materials/agenda-111-saag-00\n
 \n
 Session materials: https://datatracker.ietf.org/meeting/111/session/saag\n
 \n
 See in schedule: https://datatracker.ietf.org/meeting/111/agenda#row-111-2021-07-27-tue-1430-sec-saag\n
END:VEVENT
BEGIN:VEVENT
UID:ietf-111-13748-ohttp
SUMMARY:ohttp - Oblivious HTTP
LOCATION:Room 7
STATUS:CONFIRMED
CLASS:PUBLIC
DTSTART;TZID=America/Los_Angeles:20210727T160000
DTEND;TZID=America/Los_Angeles:20210727T180000
DTSTAMP:20210618T121035Z
URL:https://datatracker.ietf.org/meeting/111/materials/agenda-111-ohttp-00
DESCRIPTION:Session III\n
 \n
 Meetecho: https://meetings.conf.meetecho.com/ietf111/?group=ohttp&short=&item=1\n
 \n
 Agenda https://datatracker.ietf.org/meeting/111/materials/agenda-111-ohttp-00\n
 \n
 Session materials: https://datatracker.ietf.org/meeting/111/session/ohttp\n
 \n
 See in schedule: https://datatracker.ietf.org/meeting/111/agenda#row-111-2021-07-27-tue-1600-sec-ohttp\n
END:VEVENT
BEGIN:VEVENT
UID:ietf-111-13740-tls
SUMMARY:tls - Transport Layer Security
LOCATION:Room 7
STATUS:CONFIRMED
CLASS:PUBLIC
DTSTART;TZID=America/Los_Angeles:20210728T120000
DTEND;TZID=America/Los_Angeles:20210728T140000
DTSTAMP:20210618T121047Z
URL:https://datatracker.ietf.org/meeting/111/materials/agenda-111-tls-02
DESCRIPTION:Session I\n
 \n
 Meetecho: https://meetings.conf.meetecho.com/ietf111/?group=tls&short=&item=1\n
 \n
 Agenda https://datatracker.ietf.org/meeting/111/materials/agenda-111-tls-02\n
 \n
 Session materials: https://datatracker.ietf.org/meeting/111/session/tls\n
 \n
 See in schedule: https://datatracker.ietf.org/meeting/111/agenda#row-111-2021-07-28-wed-1200-sec-tls\n
END:VEVENT
BEGIN:VEVENT
UID:ietf-111-13843-cose
SUMMARY:cose - CBOR Object Signing and Encryption
LOCATION:Room 9
STATUS:CONFIRMED
CLASS:PUBLIC
DTSTART;TZID=America/Los_Angeles:20210728T143000
DTEND;TZID=America/Los_Angeles:20210728T153000
DTSTAMP:20210620T135007Z
URL:https://datatracker.ietf.org/meeting/111/materials/agenda-111-cose-00
DESCRIPTION:Session II\n
 \n
 Meetecho: https://meetings.conf.meetecho.com/ietf111/?group=cose&short=&item=1\n
 \n
 Agenda https://datatracker.ietf.org/meeting/111/materials/agenda-111-cose-00\n
 \n
 Session materials: https://datatracker.ietf.org/meeting/111/session/cose\n
 \n
 See in schedule: https://datatracker.ietf.org/meeting/111/agenda#row-111-2021-07-28-wed-1430-sec-cose\n
END:VEVENT
BEGIN:VEVENT
UID:ietf-111-13724-lake
SUMMARY:lake - Lightweight Authenticated Key Exchange
LOCATION:Room 7
STATUS:CONFIRMED
CLASS:PUBLIC
DTSTART;TZID=America/Los_Angeles:20210729T120000
DTEND;TZID=America/Los_Angeles:20210729T130000
DTSTAMP:20210618T121115Z
URL:https://datatracker.ietf.org/meeting/111/materials/agenda-111-lake-01
DESCRIPTION:Session I\n
 \n
 Meetecho: https://meetings.conf.meetecho.com/ietf111/?group=lake&short=&item=1\n
 \n
 Agenda https://datatracker.ietf.org/meeting/111/materials/agenda-111-lake-01\n
 \n
 Session materials: https://datatracker.ietf.org/meeting/111/session/lake\n
 \n
 See in schedule: https://datatracker.ietf.org/meeting/111/agenda#row-111-2021-07-29-thu-1200-sec-lake\n
END:VEVENT
BEGIN:VEVENT
UID:ietf-111-13723-rats
SUMMARY:rats - Remote ATtestation ProcedureS
LOCATION:Room 8
STATUS:CONFIRMED
CLASS:PUBLIC
DTSTART;TZID=America/Los_Angeles:20210729T120000
DTEND;TZID=America/Los_Angeles:20210729T130000
DTSTAMP:20210618T121115Z
URL:https://datatracker.ietf.org/meeting/111/materials/agenda-111-rats-17
DESCRIPTION:Session I\n
 \n
 Meetecho: https://meetings.conf.meetecho.com/ietf111/?group=rats&short=&item=2\n
 \n
 Agenda https://datatracker.ietf.org/meeting/111/materials/agenda-111-rats-17\n
 \n
 Session materials: https://datatracker.ietf.org/meeting/111/session/rats\n
 \n
 See in schedule: https://datatracker.ietf.org/meeting/111/agenda#row-111-2021-07-29-thu-1200-sec-rats\n
END:VEVENT
BEGIN:VEVENT
UID:ietf-111-13841-dots
SUMMARY:dots - DDoS Open Threat Signaling
LOCATION:Room 9
STATUS:CONFIRMED
CLASS:PUBLIC
DTSTART;TZID=America/Los_Angeles:20210729T133000
DTEND;TZID=America/Los_Angeles:20210729T143000
DTSTAMP:20210620T135007Z
URL:https://datatracker.ietf.org/meeting/111/materials/agenda-111-dots-00
DESCRIPTION:Session II\n
 \n
 Meetecho: https://meetings.conf.meetecho.com/ietf111/?group=dots&short=&item=1\n
 \n
 Agenda https://datatracker.ietf.org/meeting/111/materials/agenda-111-dots-00\n
 \n
 Session materials: https://datatracker.ietf.org/meeting/111/session/dots\n
 \n
 See in schedule: https://datatracker.ietf.org/meeting/111/agenda#row-111-2021-07-29-thu-1330-sec-dots\n
END:VEVENT
BEGIN:VEVENT
UID:ietf-111-13716-mls
SUMMARY:mls - Messaging Layer Security
LOCATION:Room 7
STATUS:CANCELLED
CLASS:PUBLIC
DTSTART;TZID=America/Los_Angeles:20210729T133000
DTEND;TZID=America/Los_Angeles:20210729T143000
DTSTAMP:20210618T121128Z
URL:https://datatracker.ietf.org/meeting/111/materials/agenda-111-mls-00
DESCRIPTION:Session II\n
 \n
 Meetecho: https://meetings.conf.meetecho.com/ietf111/?group=mls&short=&item=1\n
 \n
 Agenda https://datatracker.ietf.org/meeting/111/materials/agenda-111-mls-00\n
 \n
 Session materials: https://datatracker.ietf.org/meeting/111/session/mls\n
 \n
 See in schedule: https://datatracker.ietf.org/meeting/111/agenda#row-111-2021-07-29-thu-1330-sec-mls\n
END:VEVENT
BEGIN:VEVENT
UID:ietf-111-13715-rats
SUMMARY:rats - Remote ATtestation ProcedureS
LOCATION:Room 8
STATUS:CONFIRMED
CLASS:PUBLIC
DTSTART;TZID=America/Los_Angeles:20210729T133000
DTEND;TZID=America/Los_Angeles:20210729T143000
DTSTAMP:20210618T121128Z
URL:https://datatracker.ietf.org/meeting/111/materials/agenda-111-rats-17
DESCRIPTION:Session II\n
 \n
 Meetecho: https://meetings.conf.meetecho.com/ietf111/?group=rats&short=&item=3\n
 \n
 Agenda https://datatracker.ietf.org/meeting/111/materials/agenda-111-rats-17\n
 \n
 Session materials: https://datatracker.ietf.org/meeting/111/session/rats\n
 \n
 See in schedule: https://datatracker.ietf.org/meeting/111/agenda#row-111-2021-07-29-thu-1330-sec-rats\n
END:VEVENT
BEGIN:VEVENT
UID:ietf-111-13710-ace
SUMMARY:ace - Authentication and Authorization for Constrained Environments
LOCATION:Room 5
STATUS:CONFIRMED
CLASS:PUBLIC
DTSTART;TZID=America/Los_Angeles:20210729T150000
DTEND;TZID=America/Los_Angeles:20210729T160000
DTSTAMP:20210618T121140Z
URL:https://datatracker.ietf.org/meeting/111/materials/agenda-111-ace-00
DESCRIPTION:Session III\n
 \n
 Meetecho: https://meetings.conf.meetecho.com/ietf111/?group=ace&short=&item=1\n
 \n
 Agenda https://datatracker.ietf.org/meeting/111/materials/agenda-111-ace-00\n
 \n
 Session materials: https://datatracker.ietf.org/meeting/111/session/ace\n
 \n
 See in schedule: https://datatracker.ietf.org/meeting/111/agenda#row-111-2021-07-29-thu-1500-sec-ace\n
END:VEVENT
BEGIN:VEVENT
UID:ietf-111-13709-lamps
SUMMARY:lamps - Limited Additional Mechanisms for PKIX and SMIME
LOCATION:Room 6
STATUS:CONFIRMED
CLASS:PUBLIC
DTSTART;TZID=America/Los_Angeles:20210729T150000
DTEND;TZID=America/Los_Angeles:20210729T160000
DTSTAMP:20210618T121140Z
URL:https://datatracker.ietf.org/meeting/111/materials/agenda-111-lamps-02
DESCRIPTION:Session III\n
 \n
 Meetecho: https://meetings.conf.meetecho.com/ietf111/?group=lamps&short=&item=2\n
 \n
 Agenda https://datatracker.ietf.org/meeting/111/materials/agenda-111-lamps-02\n
 \n
 Session materials: https://datatracker.ietf.org/meeting/111/session/lamps\n
 \n
 See in schedule: https://datatracker.ietf.org/meeting/111/agenda#row-111-2021-07-29-thu-1500-sec-lamps\n
END:VEVENT
BEGIN:VEVENT
UID:ietf-111-13708-trans
SUMMARY:trans - Public Notary Transparency
LOCATION:Room 7
STATUS:CANCELLED
CLASS:PUBLIC
DTSTART;TZID=America/Los_Angeles:20210729T150000
DTEND;TZID=America/Los_Angeles:20210729T160000
DTSTAMP:20210618T121140Z
DESCRIPTION:Session III\n
 \n
 Meetecho: https://meetings.conf.meetecho.com/ietf111/?group=trans&short=&item=1\n
 \n
 Session materials: https://datatracker.ietf.org/meeting/111/session/trans\n
 \n
 See in schedule: https://datatracker.ietf.org/meeting/111/agenda#row-111-2021-07-29-thu-1500-sec-trans\n
END:VEVENT
BEGIN:VEVENT
UID:ietf-111-13828-emu
SUMMARY:emu - EAP Method Update
LOCATION:Room 8
STATUS:CONFIRMED
CLASS:PUBLIC
DTSTART;TZID=America/Los_Angeles:20210729T163000
DTEND;TZID=America/Los_Angeles:20210729T173000
DTSTAMP:20210618T121200Z
URL:https://datatracker.ietf.org/meeting/111/materials/agenda-111-emu-00
DESCRIPTION:Session IV\n
 \n
 Meetecho: https://meetings.conf.meetecho.com/ietf111/?group=emu&short=&item=1\n
 \n
 Agenda https://datatracker.ietf.org/meeting/111/materials/agenda-111-emu-00\n
 \n
 Session materials: https://datatracker.ietf.org/meeting/111/session/emu\n
 \n
 See in schedule: https://datatracker.ietf.org/meeting/111/agenda#row-111-2021-07-29-thu-1630-sec-emu\n
END:VEVENT
BEGIN:VEVENT
UID:ietf-111-13839-teep
SUMMARY:teep - Trusted Execution Environment Provisioning
LOCATION:Room 9
STATUS:CONFIRMED
CLASS:PUBLIC
DTSTART;TZID=America/Los_Angeles:20210729T163000
DTEND;TZID=America/Los_Angeles:20210729T173000
DTSTAMP:20210620T135007Z
URL:https://datatracker.ietf.org/meeting/111/materials/agenda-111-teep-02
DESCRIPTION:Session IV\n
 \n
 Meetecho: https://meetings.conf.meetecho.com/ietf111/?group=teep&short=&item=1\n
 \n
 Agenda https://datatracker.ietf.org/meeting/111/materials/agenda-111-teep-02\n
 \n
 Session materials: https://datatracker.ietf.org/meeting/111/session/teep\n
 \n
 See in schedule: https://datatracker.ietf.org/meeting/111/agenda#row-111-2021-07-29-thu-1630-sec-teep\n
END:VEVENT
BEGIN:VEVENT
UID:ietf-111-13701-suit
SUMMARY:suit - Software Updates for Internet of Things
LOCATION:Room 6
STATUS:CONFIRMED
CLASS:PUBLIC
DTSTART;TZID=America/Los_Angeles:20210730T120000
DTEND;TZID=America/Los_Angeles:20210730T140000
DTSTAMP:20210618T121214Z
URL:https://datatracker.ietf.org/meeting/111/materials/agenda-111-suit-00
DESCRIPTION:Session I\n
 \n
 Meetecho: https://meetings.conf.meetecho.com/ietf111/?group=suit&short=&item=1\n
 \n
 Agenda https://datatracker.ietf.org/meeting/111/materials/agenda-111-suit-00\n
 \n
 Session materials: https://datatracker.ietf.org/meeting/111/session/suit\n
 \n
 See in schedule: https://datatracker.ietf.org/meeting/111/agenda#row-111-2021-07-30-fri-1200-sec-suit\n
END:VEVENT
BEGIN:VEVENT
UID:ietf-111-13693-acme
SUMMARY:acme - Automated Certificate Management Environment
LOCATION:Room 6
STATUS:CONFIRMED
CLASS:PUBLIC
DTSTART;TZID=America/Los_Angeles:20210730T143000
DTEND;TZID=America/Los_Angeles:20210730T153000
DTSTAMP:20210618T121224Z
URL:https://datatracker.ietf.org/meeting/111/materials/agenda-111-acme-01
DESCRIPTION:Session II\n
 \n
 Meetecho: https://meetings.conf.meetecho.com/ietf111/?group=acme&short=&item=1\n
 \n
 Agenda https://datatracker.ietf.org/meeting/111/materials/agenda-111-acme-01\n
 \n
 Session materials: https://datatracker.ietf.org/meeting/111/session/acme\n
 \n
 See in schedule: https://datatracker.ietf.org/meeting/111/agenda#row-111-2021-07-30-fri-1430-sec-acme\n
END:VEVENT
BEGIN:VEVENT
UID:ietf-111-13692-privacypass
SUMMARY:privacypass - Privacy Pass
LOCATION:Room 7
STATUS:CONFIRMED
CLASS:PUBLIC
DTSTART;TZID=America/Los_Angeles:20210730T143000
DTEND;TZID=America/Los_Angeles:20210730T153000
DTSTAMP:20210618T121224Z
URL:https://datatracker.ietf.org/meeting/111/materials/agenda-111-privacypass-00
DESCRIPTION:Session II\n
 \n
 Meetecho: https://meetings.conf.meetecho.com/ietf111/?group=privacypass&short=&item=1\n
 \n
 Agenda https://datatracker.ietf.org/meeting/111/materials/agenda-111-privacypass-00\n
 \n
 Session materials: https://datatracker.ietf.org/meeting/111/session/privacypass\n
 \n
 See in schedule: https://datatracker.ietf.org/meeting/111/agenda#row-111-2021-07-30-fri-1430-sec-privacypass\n
END:VEVENT
BEGIN:VEVENT
UID:ietf-111-13684-teep
SUMMARY:teep - Trusted Execution Environment Provisioning
LOCATION:Room 7
STATUS:CONFIRMED
CLASS:PUBLIC
DTSTART;TZID=America/Los_Angeles:20210730T160000
DTEND;TZID=America/Los_Angeles:20210730T180000
DTSTAMP:20210618T121234Z
URL:https://datatracker.ietf.org/meeting/111/materials/agenda-111-teep-02
DESCRIPTION:Session III\n
 \n
 Meetecho: https://meetings.conf.meetecho.com/ietf111/?group=teep&short=&item=2\n
 \n
 Agenda https://datatracker.ietf.org/meeting/111/materials/agenda-111-teep-02\n
 \n
 Session materials: https://datatracker.ietf.org/meeting/111/session/teep\n
 \n
 See in schedule: https://datatracker.ietf.org/meeting/111/agenda#row-111-2021-07-30-fri-1600-sec-teep\n
END:VEVENT
END:VCALENDAR
