BEGIN:VCALENDAR
VERSION:2.0
METHOD:PUBLISH
PRODID:-//IETF//datatracker.ietf.org ical agenda//EN
BEGIN:VTIMEZONE
TZID:America/Los_Angeles
X-LIC-LOCATION:America/Los_Angeles
BEGIN:DAYLIGHT
TZOFFSETFROM:-0800
TZOFFSETTO:-0700
TZNAME:PDT
DTSTART:20070311T020000
RRULE:FREQ=YEARLY;BYMONTH=3;BYDAY=2SU
END:DAYLIGHT
BEGIN:STANDARD
TZOFFSETFROM:-0700
TZOFFSETTO:-0800
TZNAME:PST
DTSTART:20071104T020000
RRULE:FREQ=YEARLY;BYMONTH=11;BYDAY=1SU
END:STANDARD
BEGIN:STANDARD
TZOFFSETFROM:-075258
TZOFFSETTO:-0800
TZNAME:PST
DTSTART:18831118T120702
RDATE:18831118T120702
END:STANDARD
BEGIN:DAYLIGHT
TZOFFSETFROM:-0800
TZOFFSETTO:-0700
TZNAME:PDT
DTSTART:19180331T020000
RDATE:19180331T020000
RDATE:19190330T020000
RDATE:19480314T020000
RDATE:19500430T020000
RDATE:19510429T020000
RDATE:19520427T020000
RDATE:19530426T020000
RDATE:19540425T020000
RDATE:19550424T020000
RDATE:19560429T020000
RDATE:19570428T020000
RDATE:19580427T020000
RDATE:19590426T020000
RDATE:19600424T020000
RDATE:19610430T020000
RDATE:19620429T020000
RDATE:19630428T020000
RDATE:19640426T020000
RDATE:19650425T020000
RDATE:19660424T020000
RDATE:19670430T020000
RDATE:19680428T020000
RDATE:19690427T020000
RDATE:19700426T020000
RDATE:19710425T020000
RDATE:19720430T020000
RDATE:19730429T020000
RDATE:19740106T020000
RDATE:19750223T020000
RDATE:19760425T020000
RDATE:19770424T020000
RDATE:19780430T020000
RDATE:19790429T020000
RDATE:19800427T020000
RDATE:19810426T020000
RDATE:19820425T020000
RDATE:19830424T020000
RDATE:19840429T020000
RDATE:19850428T020000
RDATE:19860427T020000
RDATE:19870405T020000
RDATE:19880403T020000
RDATE:19890402T020000
RDATE:19900401T020000
RDATE:19910407T020000
RDATE:19920405T020000
RDATE:19930404T020000
RDATE:19940403T020000
RDATE:19950402T020000
RDATE:19960407T020000
RDATE:19970406T020000
RDATE:19980405T020000
RDATE:19990404T020000
RDATE:20000402T020000
RDATE:20010401T020000
RDATE:20020407T020000
RDATE:20030406T020000
RDATE:20040404T020000
RDATE:20050403T020000
RDATE:20060402T020000
END:DAYLIGHT
BEGIN:STANDARD
TZOFFSETFROM:-0700
TZOFFSETTO:-0800
TZNAME:PST
DTSTART:19181027T020000
RDATE:19181027T020000
RDATE:19191026T020000
RDATE:19450930T020000
RDATE:19490101T020000
RDATE:19500924T020000
RDATE:19510930T020000
RDATE:19520928T020000
RDATE:19530927T020000
RDATE:19540926T020000
RDATE:19550925T020000
RDATE:19560930T020000
RDATE:19570929T020000
RDATE:19580928T020000
RDATE:19590927T020000
RDATE:19600925T020000
RDATE:19610924T020000
RDATE:19621028T020000
RDATE:19631027T020000
RDATE:19641025T020000
RDATE:19651031T020000
RDATE:19661030T020000
RDATE:19671029T020000
RDATE:19681027T020000
RDATE:19691026T020000
RDATE:19701025T020000
RDATE:19711031T020000
RDATE:19721029T020000
RDATE:19731028T020000
RDATE:19741027T020000
RDATE:19751026T020000
RDATE:19761031T020000
RDATE:19771030T020000
RDATE:19781029T020000
RDATE:19791028T020000
RDATE:19801026T020000
RDATE:19811025T020000
RDATE:19821031T020000
RDATE:19831030T020000
RDATE:19841028T020000
RDATE:19851027T020000
RDATE:19861026T020000
RDATE:19871025T020000
RDATE:19881030T020000
RDATE:19891029T020000
RDATE:19901028T020000
RDATE:19911027T020000
RDATE:19921025T020000
RDATE:19931031T020000
RDATE:19941030T020000
RDATE:19951029T020000
RDATE:19961027T020000
RDATE:19971026T020000
RDATE:19981025T020000
RDATE:19991031T020000
RDATE:20001029T020000
RDATE:20011028T020000
RDATE:20021027T020000
RDATE:20031026T020000
RDATE:20041031T020000
RDATE:20051030T020000
RDATE:20061029T020000
END:STANDARD
BEGIN:DAYLIGHT
TZOFFSETFROM:-0800
TZOFFSETTO:-0700
TZNAME:PWT
DTSTART:19420209T020000
RDATE:19420209T020000
END:DAYLIGHT
BEGIN:DAYLIGHT
TZOFFSETFROM:-0700
TZOFFSETTO:-0700
TZNAME:PPT
DTSTART:19450814T160000
RDATE:19450814T160000
END:DAYLIGHT
BEGIN:STANDARD
TZOFFSETFROM:-0800
TZOFFSETTO:-0800
TZNAME:PST
DTSTART:19460101T000000
RDATE:19460101T000000
RDATE:19670101T000000
END:STANDARD
END:VTIMEZONE
BEGIN:VEVENT
UID:ietf-111-13872-tsv
SUMMARY:TSV AD Office Hours
LOCATION:Webex
STATUS:CONFIRMED
CLASS:PUBLIC
DTSTART;TZID=America/Los_Angeles:20210720T090000
DTEND;TZID=America/Los_Angeles:20210720T100000
DTSTAMP:20210720T084138Z
DESCRIPTION:TSV AD Office Hours\n
 \n
 Session materials: https://datatracker.ietf.org/meeting/111/session/tsv\n
 \n
 See in schedule: https://datatracker.ietf.org/meeting/111/agenda#row-111-2021-07-20-tue-0900-tsv-tsv-ad-office-hours\n
END:VEVENT
BEGIN:VEVENT
UID:ietf-111-13850-dtn
SUMMARY:dtn - Delay/Disruption Tolerant Networking
LOCATION:Room 9
STATUS:CONFIRMED
CLASS:PUBLIC
DTSTART;TZID=America/Los_Angeles:20210726T120000
DTEND;TZID=America/Los_Angeles:20210726T140000
DTSTAMP:20210620T135007Z
URL:https://datatracker.ietf.org/meeting/111/materials/agenda-111-dtn-02
DESCRIPTION:Session I\n
 \n
 Meetecho: https://meetings.conf.meetecho.com/ietf111/?group=dtn&short=&item=1\n
 \n
 Agenda https://datatracker.ietf.org/meeting/111/materials/agenda-111-dtn-02\n
 \n
 Session materials: https://datatracker.ietf.org/meeting/111/session/dtn\n
 \n
 See in schedule: https://datatracker.ietf.org/meeting/111/agenda#row-111-2021-07-26-mon-1200-tsv-dtn\n
END:VEVENT
BEGIN:VEVENT
UID:ietf-111-13849-tsvwg
SUMMARY:tsvwg - Transport Area Working Group
LOCATION:Room 9
STATUS:CONFIRMED
CLASS:PUBLIC
DTSTART;TZID=America/Los_Angeles:20210726T143000
DTEND;TZID=America/Los_Angeles:20210726T153000
DTSTAMP:20210620T135007Z
URL:https://datatracker.ietf.org/meeting/111/materials/agenda-111-tsvwg-07
DESCRIPTION:Session II\n
 \n
 Meetecho: https://meetings.conf.meetecho.com/ietf111/?group=tsvwg&short=&item=1\n
 \n
 Agenda https://datatracker.ietf.org/meeting/111/materials/agenda-111-tsvwg-07\n
 \n
 Session materials: https://datatracker.ietf.org/meeting/111/session/tsvwg\n
 \n
 See in schedule: https://datatracker.ietf.org/meeting/111/agenda#row-111-2021-07-26-mon-1430-tsv-tsvwg\n
END:VEVENT
BEGIN:VEVENT
UID:ietf-111-13848-masque
SUMMARY:masque - Multiplexed Application Substrate over QUIC Encryption
LOCATION:Room 9
STATUS:CONFIRMED
CLASS:PUBLIC
DTSTART;TZID=America/Los_Angeles:20210726T160000
DTEND;TZID=America/Los_Angeles:20210726T180000
DTSTAMP:20210620T135007Z
URL:https://datatracker.ietf.org/meeting/111/materials/agenda-111-masque-00
DESCRIPTION:Session III\n
 \n
 Meetecho: https://meetings.conf.meetecho.com/ietf111/?group=masque&short=&item=1\n
 \n
 Agenda https://datatracker.ietf.org/meeting/111/materials/agenda-111-masque-00\n
 \n
 Session materials: https://datatracker.ietf.org/meeting/111/session/masque\n
 \n
 See in schedule: https://datatracker.ietf.org/meeting/111/agenda#row-111-2021-07-26-mon-1600-tsv-masque\n
END:VEVENT
BEGIN:VEVENT
UID:ietf-111-13763-quic
SUMMARY:quic - QUIC
LOCATION:Room 8
STATUS:CONFIRMED
CLASS:PUBLIC
DTSTART;TZID=America/Los_Angeles:20210727T120000
DTEND;TZID=America/Los_Angeles:20210727T140000
DTSTAMP:20210618T121013Z
URL:https://datatracker.ietf.org/meeting/111/materials/agenda-111-quic-05
DESCRIPTION:Session I\n
 \n
 Meetecho: https://meetings.conf.meetecho.com/ietf111/?group=quic&short=&item=1\n
 \n
 Agenda https://datatracker.ietf.org/meeting/111/materials/agenda-111-quic-05\n
 \n
 Session materials: https://datatracker.ietf.org/meeting/111/session/quic\n
 \n
 See in schedule: https://datatracker.ietf.org/meeting/111/agenda#row-111-2021-07-27-tue-1200-tsv-quic\n
END:VEVENT
BEGIN:VEVENT
UID:ietf-111-13755-taps
SUMMARY:taps - Transport Services
LOCATION:Room 8
STATUS:CONFIRMED
CLASS:PUBLIC
DTSTART;TZID=America/Los_Angeles:20210727T143000
DTEND;TZID=America/Los_Angeles:20210727T153000
DTSTAMP:20210618T121026Z
URL:https://datatracker.ietf.org/meeting/111/materials/agenda-111-taps-00
DESCRIPTION:Session II\n
 \n
 Meetecho: https://meetings.conf.meetecho.com/ietf111/?group=taps&short=&item=1\n
 \n
 Agenda https://datatracker.ietf.org/meeting/111/materials/agenda-111-taps-00\n
 \n
 Session materials: https://datatracker.ietf.org/meeting/111/session/taps\n
 \n
 See in schedule: https://datatracker.ietf.org/meeting/111/agenda#row-111-2021-07-27-tue-1430-tsv-taps\n
END:VEVENT
BEGIN:VEVENT
UID:ietf-111-13747-tcpm
SUMMARY:tcpm - TCP Maintenance and Minor Extensions
LOCATION:Room 8
STATUS:CONFIRMED
CLASS:PUBLIC
DTSTART;TZID=America/Los_Angeles:20210727T160000
DTEND;TZID=America/Los_Angeles:20210727T180000
DTSTAMP:20210618T121035Z
URL:https://datatracker.ietf.org/meeting/111/materials/agenda-111-tcpm-01
DESCRIPTION:Session III\n
 \n
 Meetecho: https://meetings.conf.meetecho.com/ietf111/?group=tcpm&short=&item=1\n
 \n
 Agenda https://datatracker.ietf.org/meeting/111/materials/agenda-111-tcpm-01\n
 \n
 Session materials: https://datatracker.ietf.org/meeting/111/session/tcpm\n
 \n
 See in schedule: https://datatracker.ietf.org/meeting/111/agenda#row-111-2021-07-27-tue-1600-tsv-tcpm\n
END:VEVENT
BEGIN:VEVENT
UID:ietf-111-13739-ippm
SUMMARY:ippm - IP Performance Measurement
LOCATION:Room 8
STATUS:CONFIRMED
CLASS:PUBLIC
DTSTART;TZID=America/Los_Angeles:20210728T120000
DTEND;TZID=America/Los_Angeles:20210728T140000
DTSTAMP:20210618T121047Z
URL:https://datatracker.ietf.org/meeting/111/materials/agenda-111-ippm-01
DESCRIPTION:Session I\n
 \n
 Meetecho: https://meetings.conf.meetecho.com/ietf111/?group=ippm&short=&item=1\n
 \n
 Agenda https://datatracker.ietf.org/meeting/111/materials/agenda-111-ippm-01\n
 \n
 Session materials: https://datatracker.ietf.org/meeting/111/session/ippm\n
 \n
 See in schedule: https://datatracker.ietf.org/meeting/111/agenda#row-111-2021-07-28-wed-1200-tsv-ippm\n
END:VEVENT
BEGIN:VEVENT
UID:ietf-111-13842-tsvwg
SUMMARY:tsvwg - Transport Area Working Group
LOCATION:Room 9
STATUS:CONFIRMED
CLASS:PUBLIC
DTSTART;TZID=America/Los_Angeles:20210729T120000
DTEND;TZID=America/Los_Angeles:20210729T130000
DTSTAMP:20210620T135007Z
URL:https://datatracker.ietf.org/meeting/111/materials/agenda-111-tsvwg-07
DESCRIPTION:Session I\n
 \n
 Meetecho: https://meetings.conf.meetecho.com/ietf111/?group=tsvwg&short=&item=2\n
 \n
 Agenda https://datatracker.ietf.org/meeting/111/materials/agenda-111-tsvwg-07\n
 \n
 Session materials: https://datatracker.ietf.org/meeting/111/session/tsvwg\n
 \n
 See in schedule: https://datatracker.ietf.org/meeting/111/agenda#row-111-2021-07-29-thu-1200-tsv-tsvwg\n
END:VEVENT
BEGIN:VEVENT
UID:ietf-111-13707-alto
SUMMARY:alto - Application-Layer Traffic Optimization
LOCATION:Room 8
STATUS:CONFIRMED
CLASS:PUBLIC
DTSTART;TZID=America/Los_Angeles:20210729T150000
DTEND;TZID=America/Los_Angeles:20210729T160000
DTSTAMP:20210618T121140Z
URL:https://datatracker.ietf.org/meeting/111/materials/agenda-111-alto-00
DESCRIPTION:Session III\n
 \n
 Meetecho: https://meetings.conf.meetecho.com/ietf111/?group=alto&short=&item=1\n
 \n
 Agenda https://datatracker.ietf.org/meeting/111/materials/agenda-111-alto-00\n
 \n
 Session materials: https://datatracker.ietf.org/meeting/111/session/alto\n
 \n
 See in schedule: https://datatracker.ietf.org/meeting/111/agenda#row-111-2021-07-29-thu-1500-tsv-alto\n
END:VEVENT
BEGIN:VEVENT
UID:ietf-111-13840-nfsv4
SUMMARY:nfsv4 - Network File System Version 4
LOCATION:Room 9
STATUS:CONFIRMED
CLASS:PUBLIC
DTSTART;TZID=America/Los_Angeles:20210729T150000
DTEND;TZID=America/Los_Angeles:20210729T160000
DTSTAMP:20210620T135007Z
URL:https://datatracker.ietf.org/meeting/111/materials/agenda-111-nfsv4-02
DESCRIPTION:Session III\n
 \n
 Meetecho: https://meetings.conf.meetecho.com/ietf111/?group=nfsv4&short=&item=1\n
 \n
 Agenda https://datatracker.ietf.org/meeting/111/materials/agenda-111-nfsv4-02\n
 \n
 Session materials: https://datatracker.ietf.org/meeting/111/session/nfsv4\n
 \n
 See in schedule: https://datatracker.ietf.org/meeting/111/agenda#row-111-2021-07-29-thu-1500-tsv-nfsv4\n
END:VEVENT
BEGIN:VEVENT
UID:ietf-111-13691-nfsv4
SUMMARY:nfsv4 - Network File System Version 4
LOCATION:Room 8
STATUS:CONFIRMED
CLASS:PUBLIC
DTSTART;TZID=America/Los_Angeles:20210730T143000
DTEND;TZID=America/Los_Angeles:20210730T153000
DTSTAMP:20210618T121224Z
URL:https://datatracker.ietf.org/meeting/111/materials/agenda-111-nfsv4-02
DESCRIPTION:Session II\n
 \n
 Meetecho: https://meetings.conf.meetecho.com/ietf111/?group=nfsv4&short=&item=2\n
 \n
 Agenda https://datatracker.ietf.org/meeting/111/materials/agenda-111-nfsv4-02\n
 \n
 Session materials: https://datatracker.ietf.org/meeting/111/session/nfsv4\n
 \n
 See in schedule: https://datatracker.ietf.org/meeting/111/agenda#row-111-2021-07-30-fri-1430-tsv-nfsv4\n
END:VEVENT
BEGIN:VEVENT
UID:ietf-111-13683-tsvarea
SUMMARY:tsvarea - Transport Area Open Meeting
LOCATION:Room 8
STATUS:CONFIRMED
CLASS:PUBLIC
DTSTART;TZID=America/Los_Angeles:20210730T160000
DTEND;TZID=America/Los_Angeles:20210730T180000
DTSTAMP:20210618T121234Z
URL:https://datatracker.ietf.org/meeting/111/materials/agenda-111-tsvarea-00
DESCRIPTION:Session III\n
 \n
 Meetecho: https://meetings.conf.meetecho.com/ietf111/?group=tsvarea&short=&item=1\n
 \n
 Agenda https://datatracker.ietf.org/meeting/111/materials/agenda-111-tsvarea-00\n
 \n
 Session materials: https://datatracker.ietf.org/meeting/111/session/tsvarea\n
 \n
 See in schedule: https://datatracker.ietf.org/meeting/111/agenda#row-111-2021-07-30-fri-1600-tsv-tsvarea\n
END:VEVENT
END:VCALENDAR
