BEGIN:VCALENDAR
VERSION:2.0
METHOD:PUBLISH
PRODID:-//IETF//datatracker.ietf.org ical agenda//EN
BEGIN:VTIMEZONE
TZID:UTC
BEGIN:STANDARD
TZOFFSETFROM:+0000
TZOFFSETTO:+0000
TZNAME:UTC
DTSTART:19000101T000000
RDATE:19000101T000000
END:STANDARD
END:VTIMEZONE
BEGIN:VEVENT
UID:ietf-112-14041-dispatch
SUMMARY:dispatch - Dispatch (Joint with ARTAREA)
LOCATION:Room 1
STATUS:CONFIRMED
CLASS:PUBLIC
DTSTART;TZID=UTC:20211108T120000
DTEND;TZID=UTC:20211108T140000
DTSTAMP:20211004T092807Z
URL:https://datatracker.ietf.org/meeting/112/materials/agenda-112-dispatch-04
DESCRIPTION:Session I\n
 Note: Joint with ARTAREA\n
 \n
 Meetecho: https://meetings.conf.meetecho.com/ietf112/?group=dispatch&short=&item=1\n
 \n
 Agenda https://datatracker.ietf.org/meeting/112/materials/agenda-112-dispatch-04\n
 \n
 Session materials: https://datatracker.ietf.org/meeting/112/session/dispatch\n
 \n
 See in schedule: https://datatracker.ietf.org/meeting/112/agenda#row-112-2021-11-08-mon-1200-art-dispatch\n
END:VEVENT
BEGIN:VEVENT
UID:ietf-112-14033-rum
SUMMARY:rum - Relay User Machine
LOCATION:Room 1
STATUS:CANCELLED
CLASS:PUBLIC
DTSTART;TZID=UTC:20211108T143000
DTEND;TZID=UTC:20211108T153000
DTSTAMP:20211004T092807Z
URL:https://datatracker.ietf.org/meeting/112/materials/agenda-112-rum-00
DESCRIPTION:Session II\n
 \n
 Meetecho: https://meetings.conf.meetecho.com/ietf112/?group=rum&short=&item=1\n
 \n
 Agenda https://datatracker.ietf.org/meeting/112/materials/agenda-112-rum-00\n
 \n
 Session materials: https://datatracker.ietf.org/meeting/112/session/rum\n
 \n
 See in schedule: https://datatracker.ietf.org/meeting/112/agenda#row-112-2021-11-08-mon-1430-art-rum\n
END:VEVENT
BEGIN:VEVENT
UID:ietf-112-14025-core
SUMMARY:core - Constrained RESTful Environments
LOCATION:Room 1
STATUS:CONFIRMED
CLASS:PUBLIC
DTSTART;TZID=UTC:20211108T160000
DTEND;TZID=UTC:20211108T180000
DTSTAMP:20211004T092807Z
URL:https://datatracker.ietf.org/meeting/112/materials/agenda-112-core-01
DESCRIPTION:Session III\n
 \n
 Meetecho: https://meetings.conf.meetecho.com/ietf112/?group=core&short=&item=1\n
 \n
 Agenda https://datatracker.ietf.org/meeting/112/materials/agenda-112-core-01\n
 \n
 Session materials: https://datatracker.ietf.org/meeting/112/session/core\n
 \n
 See in schedule: https://datatracker.ietf.org/meeting/112/agenda#row-112-2021-11-08-mon-1600-art-core\n
END:VEVENT
BEGIN:VEVENT
UID:ietf-112-14120-art
SUMMARY:ART Area AD Office Hours
LOCATION:Webex
STATUS:CONFIRMED
CLASS:PUBLIC
DTSTART;TZID=UTC:20211108T183000
DTEND;TZID=UTC:20211108T193000
DTSTAMP:20211027T111201Z
DESCRIPTION:ART Area AD Office Hours\n
 \n
 Session materials: https://datatracker.ietf.org/meeting/112/session/art\n
 \n
 See in schedule: https://datatracker.ietf.org/meeting/112/agenda#row-112-2021-11-08-mon-1830-art-art-area-ad-office-hours\n
END:VEVENT
BEGIN:VEVENT
UID:ietf-112-14017-jmap
SUMMARY:jmap - JSON Mail Access Protocol
LOCATION:Room 1
STATUS:CONFIRMED
CLASS:PUBLIC
DTSTART;TZID=UTC:20211109T120000
DTEND;TZID=UTC:20211109T140000
DTSTAMP:20211004T092807Z
URL:https://datatracker.ietf.org/meeting/112/materials/agenda-112-jmap-00
DESCRIPTION:Session I\n
 \n
 Meetecho: https://meetings.conf.meetecho.com/ietf112/?group=jmap&short=&item=1\n
 \n
 Agenda https://datatracker.ietf.org/meeting/112/materials/agenda-112-jmap-00\n
 \n
 Session materials: https://datatracker.ietf.org/meeting/112/session/jmap\n
 \n
 See in schedule: https://datatracker.ietf.org/meeting/112/agenda#row-112-2021-11-09-tue-1200-art-jmap\n
END:VEVENT
BEGIN:VEVENT
UID:ietf-112-14016-webtrans
SUMMARY:webtrans - WebTransport
LOCATION:Room 2
STATUS:CONFIRMED
CLASS:PUBLIC
DTSTART;TZID=UTC:20211109T120000
DTEND;TZID=UTC:20211109T140000
DTSTAMP:20211004T092807Z
URL:https://datatracker.ietf.org/meeting/112/materials/agenda-112-webtrans-02
DESCRIPTION:Session I\n
 \n
 Meetecho: https://meetings.conf.meetecho.com/ietf112/?group=webtrans&short=&item=1\n
 \n
 Agenda https://datatracker.ietf.org/meeting/112/materials/agenda-112-webtrans-02\n
 \n
 Session materials: https://datatracker.ietf.org/meeting/112/session/webtrans\n
 \n
 See in schedule: https://datatracker.ietf.org/meeting/112/agenda#row-112-2021-11-09-tue-1200-art-webtrans\n
END:VEVENT
BEGIN:VEVENT
UID:ietf-112-14008-mediaman
SUMMARY:mediaman - Media Type Maintenance
LOCATION:Room 2
STATUS:CONFIRMED
CLASS:PUBLIC
DTSTART;TZID=UTC:20211109T143000
DTEND;TZID=UTC:20211109T153000
DTSTAMP:20211004T092807Z
URL:https://datatracker.ietf.org/meeting/112/materials/agenda-112-mediaman-00
DESCRIPTION:Session II\n
 \n
 Meetecho: https://meetings.conf.meetecho.com/ietf112/?group=mediaman&short=&item=1\n
 \n
 Agenda https://datatracker.ietf.org/meeting/112/materials/agenda-112-mediaman-00\n
 \n
 Session materials: https://datatracker.ietf.org/meeting/112/session/mediaman\n
 \n
 See in schedule: https://datatracker.ietf.org/meeting/112/agenda#row-112-2021-11-09-tue-1430-art-mediaman\n
END:VEVENT
BEGIN:VEVENT
UID:ietf-112-14009-sedate
SUMMARY:sedate - Serialising Extended Data About Times and Events
LOCATION:Room 1
STATUS:CONFIRMED
CLASS:PUBLIC
DTSTART;TZID=UTC:20211109T143000
DTEND;TZID=UTC:20211109T153000
DTSTAMP:20211004T092807Z
URL:https://datatracker.ietf.org/meeting/112/materials/agenda-112-sedate-00
DESCRIPTION:Session II\n
 \n
 Meetecho: https://meetings.conf.meetecho.com/ietf112/?group=sedate&short=&item=1\n
 \n
 Agenda https://datatracker.ietf.org/meeting/112/materials/agenda-112-sedate-00\n
 \n
 Session materials: https://datatracker.ietf.org/meeting/112/session/sedate\n
 \n
 See in schedule: https://datatracker.ietf.org/meeting/112/agenda#row-112-2021-11-09-tue-1430-art-sedate\n
END:VEVENT
BEGIN:VEVENT
UID:ietf-112-14001-cdni
SUMMARY:cdni - Content Delivery Networks Interconnection
LOCATION:Room 1
STATUS:CONFIRMED
CLASS:PUBLIC
DTSTART;TZID=UTC:20211109T160000
DTEND;TZID=UTC:20211109T180000
DTSTAMP:20211004T092807Z
URL:https://datatracker.ietf.org/meeting/112/materials/agenda-112-cdni-01
DESCRIPTION:Session III\n
 \n
 Meetecho: https://meetings.conf.meetecho.com/ietf112/?group=cdni&short=&item=1\n
 \n
 Agenda https://datatracker.ietf.org/meeting/112/materials/agenda-112-cdni-01\n
 \n
 Session materials: https://datatracker.ietf.org/meeting/112/session/cdni\n
 \n
 See in schedule: https://datatracker.ietf.org/meeting/112/agenda#row-112-2021-11-09-tue-1600-art-cdni\n
END:VEVENT
BEGIN:VEVENT
UID:ietf-112-14000-dmarc
SUMMARY:dmarc - Domain-based Message Authentication, Reporting & Conformance
LOCATION:Room 2
STATUS:CONFIRMED
CLASS:PUBLIC
DTSTART;TZID=UTC:20211109T160000
DTEND;TZID=UTC:20211109T180000
DTSTAMP:20211004T092807Z
URL:https://datatracker.ietf.org/meeting/112/materials/agenda-112-dmarc-01
DESCRIPTION:Session III\n
 \n
 Meetecho: https://meetings.conf.meetecho.com/ietf112/?group=dmarc&short=&item=1\n
 \n
 Agenda https://datatracker.ietf.org/meeting/112/materials/agenda-112-dmarc-01\n
 \n
 Session materials: https://datatracker.ietf.org/meeting/112/session/dmarc\n
 \n
 See in schedule: https://datatracker.ietf.org/meeting/112/agenda#row-112-2021-11-09-tue-1600-art-dmarc\n
END:VEVENT
BEGIN:VEVENT
UID:ietf-112-13993-emailcore
SUMMARY:emailcore - Revision of core Email specifications
LOCATION:Room 1
STATUS:CONFIRMED
CLASS:PUBLIC
DTSTART;TZID=UTC:20211110T120000
DTEND;TZID=UTC:20211110T140000
DTSTAMP:20211004T092807Z
URL:https://datatracker.ietf.org/meeting/112/materials/agenda-112-emailcore-03
DESCRIPTION:Session I\n
 \n
 Meetecho: https://meetings.conf.meetecho.com/ietf112/?group=emailcore&short=&item=1\n
 \n
 Agenda https://datatracker.ietf.org/meeting/112/materials/agenda-112-emailcore-03\n
 \n
 Session materials: https://datatracker.ietf.org/meeting/112/session/emailcore\n
 \n
 See in schedule: https://datatracker.ietf.org/meeting/112/agenda#row-112-2021-11-10-wed-1200-art-emailcore\n
END:VEVENT
BEGIN:VEVENT
UID:ietf-112-13992-jsonpath
SUMMARY:jsonpath - JSON Path
LOCATION:Room 2
STATUS:CONFIRMED
CLASS:PUBLIC
DTSTART;TZID=UTC:20211110T120000
DTEND;TZID=UTC:20211110T140000
DTSTAMP:20211004T092807Z
URL:https://datatracker.ietf.org/meeting/112/materials/agenda-112-jsonpath-00
DESCRIPTION:Session I\n
 \n
 Meetecho: https://meetings.conf.meetecho.com/ietf112/?group=jsonpath&short=&item=1\n
 \n
 Agenda https://datatracker.ietf.org/meeting/112/materials/agenda-112-jsonpath-00\n
 \n
 Session materials: https://datatracker.ietf.org/meeting/112/session/jsonpath\n
 \n
 See in schedule: https://datatracker.ietf.org/meeting/112/agenda#row-112-2021-11-10-wed-1200-art-jsonpath\n
END:VEVENT
BEGIN:VEVENT
UID:ietf-112-13984-calext
SUMMARY:calext - Calendaring Extensions
LOCATION:Room 2
STATUS:CONFIRMED
CLASS:PUBLIC
DTSTART;TZID=UTC:20211110T143000
DTEND;TZID=UTC:20211110T153000
DTSTAMP:20211004T092807Z
URL:https://datatracker.ietf.org/meeting/112/materials/agenda-112-calext-00
DESCRIPTION:Session II\n
 \n
 Meetecho: https://meetings.conf.meetecho.com/ietf112/?group=calext&short=&item=1\n
 \n
 Agenda https://datatracker.ietf.org/meeting/112/materials/agenda-112-calext-00\n
 \n
 Session materials: https://datatracker.ietf.org/meeting/112/session/calext\n
 \n
 See in schedule: https://datatracker.ietf.org/meeting/112/agenda#row-112-2021-11-10-wed-1430-art-calext\n
END:VEVENT
BEGIN:VEVENT
UID:ietf-112-13985-regext
SUMMARY:regext - Registration Protocols Extensions
LOCATION:Room 1
STATUS:CONFIRMED
CLASS:PUBLIC
DTSTART;TZID=UTC:20211110T143000
DTEND;TZID=UTC:20211110T153000
DTSTAMP:20211004T092807Z
URL:https://datatracker.ietf.org/meeting/112/materials/agenda-112-regext-00
DESCRIPTION:Session II\n
 \n
 Meetecho: https://meetings.conf.meetecho.com/ietf112/?group=regext&short=&item=1\n
 \n
 Agenda https://datatracker.ietf.org/meeting/112/materials/agenda-112-regext-00\n
 \n
 Session materials: https://datatracker.ietf.org/meeting/112/session/regext\n
 \n
 See in schedule: https://datatracker.ietf.org/meeting/112/agenda#row-112-2021-11-10-wed-1430-art-regext\n
END:VEVENT
BEGIN:VEVENT
UID:ietf-112-14065-wpack
SUMMARY:wpack - Web Packaging
LOCATION:Room 1
STATUS:CONFIRMED
CLASS:PUBLIC
DTSTART;TZID=UTC:20211110T160000
DTEND;TZID=UTC:20211110T180000
DTSTAMP:20211005T171520Z
URL:https://datatracker.ietf.org/meeting/112/materials/agenda-112-wpack-00
DESCRIPTION:Session III\n
 \n
 Meetecho: https://meetings.conf.meetecho.com/ietf112/?group=wpack&short=&item=1\n
 \n
 Agenda https://datatracker.ietf.org/meeting/112/materials/agenda-112-wpack-00\n
 \n
 Session materials: https://datatracker.ietf.org/meeting/112/session/wpack\n
 \n
 See in schedule: https://datatracker.ietf.org/meeting/112/agenda#row-112-2021-11-10-wed-1600-art-wpack\n
END:VEVENT
BEGIN:VEVENT
UID:ietf-112-13977-scim
SUMMARY:scim - System for Cross-domain Identity Management
LOCATION:Room 1
STATUS:CONFIRMED
CLASS:PUBLIC
DTSTART;TZID=UTC:20211111T120000
DTEND;TZID=UTC:20211111T140000
DTSTAMP:20211004T120536Z
URL:https://datatracker.ietf.org/meeting/112/materials/agenda-112-scim-02
DESCRIPTION:Session I\n
 \n
 Meetecho: https://meetings.conf.meetecho.com/ietf112/?group=scim&short=&item=1\n
 \n
 Agenda https://datatracker.ietf.org/meeting/112/materials/agenda-112-scim-02\n
 \n
 Session materials: https://datatracker.ietf.org/meeting/112/session/scim\n
 \n
 See in schedule: https://datatracker.ietf.org/meeting/112/agenda#row-112-2021-11-11-thu-1200-art-scim\n
END:VEVENT
BEGIN:VEVENT
UID:ietf-112-13969-cbor
SUMMARY:cbor - Concise Binary Object Representation Maintenance and Extensions
LOCATION:Room 1
STATUS:CONFIRMED
CLASS:PUBLIC
DTSTART;TZID=UTC:20211111T143000
DTEND;TZID=UTC:20211111T153000
DTSTAMP:20211004T120731Z
URL:https://datatracker.ietf.org/meeting/112/materials/agenda-112-cbor-01
DESCRIPTION:Session II\n
 \n
 Meetecho: https://meetings.conf.meetecho.com/ietf112/?group=cbor&short=&item=1\n
 \n
 Agenda https://datatracker.ietf.org/meeting/112/materials/agenda-112-cbor-01\n
 \n
 Session materials: https://datatracker.ietf.org/meeting/112/session/cbor\n
 \n
 See in schedule: https://datatracker.ietf.org/meeting/112/agenda#row-112-2021-11-11-thu-1430-art-cbor\n
END:VEVENT
BEGIN:VEVENT
UID:ietf-112-13945-avtcore
SUMMARY:avtcore - Audio/Video Transport Core Maintenance
LOCATION:Room 1
STATUS:CONFIRMED
CLASS:PUBLIC
DTSTART;TZID=UTC:20211112T120000
DTEND;TZID=UTC:20211112T140000
DTSTAMP:20211004T092807Z
URL:https://datatracker.ietf.org/meeting/112/materials/agenda-112-avtcore-05
DESCRIPTION:Session I\n
 \n
 Meetecho: https://meetings.conf.meetecho.com/ietf112/?group=avtcore&short=&item=1\n
 \n
 Agenda https://datatracker.ietf.org/meeting/112/materials/agenda-112-avtcore-05\n
 \n
 Session materials: https://datatracker.ietf.org/meeting/112/session/avtcore\n
 \n
 See in schedule: https://datatracker.ietf.org/meeting/112/agenda#row-112-2021-11-12-fri-1200-art-avtcore\n
END:VEVENT
BEGIN:VEVENT
UID:ietf-112-13944-httpapi
SUMMARY:httpapi - Building Blocks for HTTP APIs
LOCATION:Room 2
STATUS:CONFIRMED
CLASS:PUBLIC
DTSTART;TZID=UTC:20211112T120000
DTEND;TZID=UTC:20211112T140000
DTSTAMP:20211004T092807Z
URL:https://datatracker.ietf.org/meeting/112/materials/agenda-112-httpapi-00
DESCRIPTION:Session I\n
 \n
 Meetecho: https://meetings.conf.meetecho.com/ietf112/?group=httpapi&short=&item=1\n
 \n
 Agenda https://datatracker.ietf.org/meeting/112/materials/agenda-112-httpapi-00\n
 \n
 Session materials: https://datatracker.ietf.org/meeting/112/session/httpapi\n
 \n
 See in schedule: https://datatracker.ietf.org/meeting/112/agenda#row-112-2021-11-12-fri-1200-art-httpapi\n
END:VEVENT
BEGIN:VEVENT
UID:ietf-112-13937-asdf
SUMMARY:asdf - A Semantic Definition Format for Data and Interactions of Things
LOCATION:Room 1
STATUS:CONFIRMED
CLASS:PUBLIC
DTSTART;TZID=UTC:20211112T143000
DTEND;TZID=UTC:20211112T153000
DTSTAMP:20211004T092807Z
URL:https://datatracker.ietf.org/meeting/112/materials/agenda-112-asdf-00
DESCRIPTION:Session II\n
 \n
 Meetecho: https://meetings.conf.meetecho.com/ietf112/?group=asdf&short=&item=1\n
 \n
 Agenda https://datatracker.ietf.org/meeting/112/materials/agenda-112-asdf-00\n
 \n
 Session materials: https://datatracker.ietf.org/meeting/112/session/asdf\n
 \n
 See in schedule: https://datatracker.ietf.org/meeting/112/agenda#row-112-2021-11-12-fri-1430-art-asdf\n
END:VEVENT
BEGIN:VEVENT
UID:ietf-112-13936-wish
SUMMARY:wish - WebRTC Ingest Signaling over HTTPS
LOCATION:Room 2
STATUS:CONFIRMED
CLASS:PUBLIC
DTSTART;TZID=UTC:20211112T143000
DTEND;TZID=UTC:20211112T153000
DTSTAMP:20211004T092807Z
URL:https://datatracker.ietf.org/meeting/112/materials/agenda-112-wish-04
DESCRIPTION:Session II\n
 \n
 Meetecho: https://meetings.conf.meetecho.com/ietf112/?group=wish&short=&item=1\n
 \n
 Agenda https://datatracker.ietf.org/meeting/112/materials/agenda-112-wish-04\n
 \n
 Session materials: https://datatracker.ietf.org/meeting/112/session/wish\n
 \n
 See in schedule: https://datatracker.ietf.org/meeting/112/agenda#row-112-2021-11-12-fri-1430-art-wish\n
END:VEVENT
BEGIN:VEVENT
UID:ietf-112-13929-stir
SUMMARY:stir - Secure Telephone Identity Revisited
LOCATION:Room 1
STATUS:CONFIRMED
CLASS:PUBLIC
DTSTART;TZID=UTC:20211112T160000
DTEND;TZID=UTC:20211112T170000
DTSTAMP:20211005T171505Z
URL:https://datatracker.ietf.org/meeting/112/materials/agenda-112-stir-03
DESCRIPTION:Session III\n
 \n
 Meetecho: https://meetings.conf.meetecho.com/ietf112/?group=stir&short=&item=1\n
 \n
 Agenda https://datatracker.ietf.org/meeting/112/materials/agenda-112-stir-03\n
 \n
 Session materials: https://datatracker.ietf.org/meeting/112/session/stir\n
 \n
 See in schedule: https://datatracker.ietf.org/meeting/112/agenda#row-112-2021-11-12-fri-1600-art-stir\n
END:VEVENT
BEGIN:VEVENT
UID:ietf-112-13928-uta
SUMMARY:uta - Using TLS in Applications
LOCATION:Room 2
STATUS:CONFIRMED
CLASS:PUBLIC
DTSTART;TZID=UTC:20211112T160000
DTEND;TZID=UTC:20211112T170000
DTSTAMP:20211005T171505Z
URL:https://datatracker.ietf.org/meeting/112/materials/agenda-112-uta-00
DESCRIPTION:Session III\n
 \n
 Meetecho: https://meetings.conf.meetecho.com/ietf112/?group=uta&short=&item=1\n
 \n
 Agenda https://datatracker.ietf.org/meeting/112/materials/agenda-112-uta-00\n
 \n
 Session materials: https://datatracker.ietf.org/meeting/112/session/uta\n
 \n
 See in schedule: https://datatracker.ietf.org/meeting/112/agenda#row-112-2021-11-12-fri-1600-art-uta\n
END:VEVENT
END:VCALENDAR
