BEGIN:VCALENDAR
VERSION:2.0
METHOD:PUBLISH
PRODID:-//IETF//datatracker.ietf.org ical agenda//EN
BEGIN:VTIMEZONE
TZID:UTC
BEGIN:STANDARD
TZOFFSETFROM:+0000
TZOFFSETTO:+0000
TZNAME:UTC
DTSTART:19000101T000000
RDATE:19000101T000000
END:STANDARD
END:VTIMEZONE
BEGIN:VEVENT
UID:ietf-112-14073-hackathon
SUMMARY:hackathon - Hackathon
LOCATION:Room 1
STATUS:CONFIRMED
CLASS:PUBLIC
DTSTART;TZID=UTC:20211101T150000
DTEND;TZID=UTC:20211101T160000
DTSTAMP:20211005T171427Z
URL:https://datatracker.ietf.org/meeting/112/materials/agenda-112-hackathon-01
DESCRIPTION:Hackathon Kickoff\n
 \n
 Meetecho: https://meetings.conf.meetecho.com/ietf112/?group=hackathon&short=&item=1\n
 \n
 Agenda https://datatracker.ietf.org/meeting/112/materials/agenda-112-hackathon-01\n
 \n
 Session materials: https://datatracker.ietf.org/meeting/112/session/hackathon\n
 \n
 See in schedule: https://datatracker.ietf.org/meeting/112/agenda#row-112-2021-11-01-mon-1500-gen-hackathon\n
END:VEVENT
BEGIN:VEVENT
UID:ietf-112-14083-ietf
SUMMARY:IETF Plenary
LOCATION:Plenary
STATUS:CONFIRMED
CLASS:PUBLIC
DTSTART;TZID=UTC:20211103T133000
DTEND;TZID=UTC:20211103T150000
DTSTAMP:20211008T143054Z
URL:https://datatracker.ietf.org/meeting/112/materials/agenda-112-ietf-sessa-00
DESCRIPTION:IETF Plenary\n
 \n
 Meetecho: https://meetings.conf.meetecho.com/ietf112/?group=ietf&short=plenary&item=1\n
 \n
 Agenda https://datatracker.ietf.org/meeting/112/materials/agenda-112-ietf-sessa-00\n
 \n
 Session materials: https://datatracker.ietf.org/meeting/112/session/ietf\n
 \n
 See in schedule: https://datatracker.ietf.org/meeting/112/agenda#row-112-2021-11-03-wed-1330-1plenary-ietf\n
END:VEVENT
BEGIN:VEVENT
UID:ietf-112-14093-hotrfc
SUMMARY:Hot RFC Lightning Talks
LOCATION:Gather
STATUS:CONFIRMED
CLASS:PUBLIC
DTSTART;TZID=UTC:20211103T151500
DTEND;TZID=UTC:20211103T161500
DTSTAMP:20211020T112617Z
URL:https://datatracker.ietf.org/meeting/112/materials/agenda-112-hotrfc-sessa-25
DESCRIPTION:Hot RFC Lightning Talks\n
 \n
 Agenda https://datatracker.ietf.org/meeting/112/materials/agenda-112-hotrfc-sessa-25\n
 \n
 Session materials: https://datatracker.ietf.org/meeting/112/session/hotrfc\n
 \n
 See in schedule: https://datatracker.ietf.org/meeting/112/agenda#row-112-2021-11-03-wed-1515-hotrfc-hot-rfc-lightning-talks\n
END:VEVENT
BEGIN:VEVENT
UID:ietf-112-14081-hackathon
SUMMARY:hackathon - Hackathon
LOCATION:Room 1
STATUS:CONFIRMED
CLASS:PUBLIC
DTSTART;TZID=UTC:20211105T150000
DTEND;TZID=UTC:20211105T170000
DTSTAMP:20211005T171439Z
URL:https://datatracker.ietf.org/meeting/112/materials/agenda-112-hackathon-01
DESCRIPTION:Hackathon Closing\n
 \n
 Meetecho: https://meetings.conf.meetecho.com/ietf112/?group=hackathon&short=&item=2\n
 \n
 Agenda https://datatracker.ietf.org/meeting/112/materials/agenda-112-hackathon-01\n
 \n
 Session materials: https://datatracker.ietf.org/meeting/112/session/hackathon\n
 \n
 See in schedule: https://datatracker.ietf.org/meeting/112/agenda#row-112-2021-11-05-fri-1500-gen-hackathon\n
END:VEVENT
BEGIN:VEVENT
UID:ietf-112-14060-priv
SUMMARY:priv - Privacy Respecting Incorporation of Values
LOCATION:Room 6
STATUS:CONFIRMED
CLASS:PUBLIC
DTSTART;TZID=UTC:20211110T160000
DTEND;TZID=UTC:20211110T180000
DTSTAMP:20211005T171520Z
URL:https://datatracker.ietf.org/meeting/112/materials/agenda-112-priv-02
DESCRIPTION:Session III\n
 \n
 Meetecho: https://meetings.conf.meetecho.com/ietf112/?group=priv&short=&item=1\n
 \n
 Agenda https://datatracker.ietf.org/meeting/112/materials/agenda-112-priv-02\n
 \n
 Session materials: https://datatracker.ietf.org/meeting/112/session/priv\n
 \n
 See in schedule: https://datatracker.ietf.org/meeting/112/agenda#row-112-2021-11-10-wed-1600-sec-priv\n
END:VEVENT
END:VCALENDAR
