BEGIN:VCALENDAR
VERSION:2.0
METHOD:PUBLISH
PRODID:-//IETF//datatracker.ietf.org ical agenda//EN
BEGIN:VTIMEZONE
TZID:UTC
BEGIN:STANDARD
TZOFFSETFROM:+0000
TZOFFSETTO:+0000
TZNAME:UTC
DTSTART:19000101T000000
RDATE:19000101T000000
END:STANDARD
END:VTIMEZONE
BEGIN:VEVENT
UID:ietf-112-13983-rfcefdp
SUMMARY:rfcefdp - RFC Editor Future Development
LOCATION:Room 3
STATUS:CONFIRMED
CLASS:PUBLIC
DTSTART;TZID=UTC:20211110T143000
DTEND;TZID=UTC:20211110T153000
DTSTAMP:20211004T092807Z
URL:https://datatracker.ietf.org/meeting/112/materials/agenda-112-rfcefdp-00
DESCRIPTION:Session II\n
 \n
 Meetecho: https://meetings.conf.meetecho.com/ietf112/?group=rfcefdp&short=&item=1\n
 \n
 Agenda https://datatracker.ietf.org/meeting/112/materials/agenda-112-rfcefdp-00\n
 \n
 Session materials: https://datatracker.ietf.org/meeting/112/session/rfcefdp\n
 \n
 See in schedule: https://datatracker.ietf.org/meeting/112/agenda#row-112-2021-11-10-wed-1430-iab-rfcefdp\n
END:VEVENT
BEGIN:VEVENT
UID:ietf-112-13968-iabopen
SUMMARY:iabopen - IAB Open Meeting
LOCATION:Room 2
STATUS:CONFIRMED
CLASS:PUBLIC
DTSTART;TZID=UTC:20211111T143000
DTEND;TZID=UTC:20211111T153000
DTSTAMP:20211004T120731Z
URL:https://datatracker.ietf.org/meeting/112/materials/agenda-112-iabopen-00
DESCRIPTION:Session II\n
 \n
 Meetecho: https://meetings.conf.meetecho.com/ietf112/?group=iabopen&short=&item=1\n
 \n
 Agenda https://datatracker.ietf.org/meeting/112/materials/agenda-112-iabopen-00\n
 \n
 Session materials: https://datatracker.ietf.org/meeting/112/session/iabopen\n
 \n
 See in schedule: https://datatracker.ietf.org/meeting/112/agenda#row-112-2021-11-11-thu-1430-iab-iabopen\n
END:VEVENT
END:VCALENDAR
