BEGIN:VCALENDAR
VERSION:2.0
METHOD:PUBLISH
PRODID:-//IETF//datatracker.ietf.org ical agenda//EN
BEGIN:VTIMEZONE
TZID:UTC
BEGIN:STANDARD
TZOFFSETFROM:+0000
TZOFFSETTO:+0000
TZNAME:UTC
DTSTART:19000101T000000
RDATE:19000101T000000
END:STANDARD
END:VTIMEZONE
BEGIN:VEVENT
UID:ietf-112-14032-6lo
SUMMARY:6lo - IPv6 over Networks of Resource-constrained Nodes
LOCATION:Room 2
STATUS:CONFIRMED
CLASS:PUBLIC
DTSTART;TZID=UTC:20211108T143000
DTEND;TZID=UTC:20211108T153000
DTSTAMP:20211004T092807Z
URL:https://datatracker.ietf.org/meeting/112/materials/agenda-112-6lo-01
DESCRIPTION:Session II\n
 \n
 Meetecho: https://meetings.conf.meetecho.com/ietf112/?group=6lo&short=&item=1\n
 \n
 Agenda https://datatracker.ietf.org/meeting/112/materials/agenda-112-6lo-01\n
 \n
 Session materials: https://datatracker.ietf.org/meeting/112/session/6lo\n
 \n
 See in schedule: https://datatracker.ietf.org/meeting/112/agenda#row-112-2021-11-08-mon-1430-int-6lo\n
END:VEVENT
BEGIN:VEVENT
UID:ietf-112-14023-add
SUMMARY:add - Adaptive DNS Discovery
LOCATION:Room 3
STATUS:CONFIRMED
CLASS:PUBLIC
DTSTART;TZID=UTC:20211108T160000
DTEND;TZID=UTC:20211108T180000
DTSTAMP:20211004T092807Z
URL:https://datatracker.ietf.org/meeting/112/materials/agenda-112-add-05
DESCRIPTION:Session III\n
 \n
 Meetecho: https://meetings.conf.meetecho.com/ietf112/?group=add&short=&item=1\n
 \n
 Agenda https://datatracker.ietf.org/meeting/112/materials/agenda-112-add-05\n
 \n
 Session materials: https://datatracker.ietf.org/meeting/112/session/add\n
 \n
 See in schedule: https://datatracker.ietf.org/meeting/112/agenda#row-112-2021-11-08-mon-1600-int-add\n
END:VEVENT
BEGIN:VEVENT
UID:ietf-112-14015-intarea
SUMMARY:intarea - Internet Area Working Group
LOCATION:Room 3
STATUS:CONFIRMED
CLASS:PUBLIC
DTSTART;TZID=UTC:20211109T120000
DTEND;TZID=UTC:20211109T140000
DTSTAMP:20211004T092807Z
URL:https://datatracker.ietf.org/meeting/112/materials/agenda-112-intarea-01
DESCRIPTION:Session I\n
 \n
 Meetecho: https://meetings.conf.meetecho.com/ietf112/?group=intarea&short=&item=1\n
 \n
 Agenda https://datatracker.ietf.org/meeting/112/materials/agenda-112-intarea-01\n
 \n
 Session materials: https://datatracker.ietf.org/meeting/112/session/intarea\n
 \n
 See in schedule: https://datatracker.ietf.org/meeting/112/agenda#row-112-2021-11-09-tue-1200-int-intarea\n
END:VEVENT
BEGIN:VEVENT
UID:ietf-112-14007-lpwan
SUMMARY:lpwan - IPv6 over Low Power Wide-Area Networks
LOCATION:Room 3
STATUS:CONFIRMED
CLASS:PUBLIC
DTSTART;TZID=UTC:20211109T143000
DTEND;TZID=UTC:20211109T153000
DTSTAMP:20211004T092807Z
URL:https://datatracker.ietf.org/meeting/112/materials/agenda-112-lpwan-01
DESCRIPTION:Session II\n
 \n
 Meetecho: https://meetings.conf.meetecho.com/ietf112/?group=lpwan&short=&item=1\n
 \n
 Agenda https://datatracker.ietf.org/meeting/112/materials/agenda-112-lpwan-01\n
 \n
 Session materials: https://datatracker.ietf.org/meeting/112/session/lpwan\n
 \n
 See in schedule: https://datatracker.ietf.org/meeting/112/agenda#row-112-2021-11-09-tue-1430-int-lpwan\n
END:VEVENT
BEGIN:VEVENT
UID:ietf-112-13999-6man
SUMMARY:6man - IPv6 Maintenance
LOCATION:Room 3
STATUS:CONFIRMED
CLASS:PUBLIC
DTSTART;TZID=UTC:20211109T160000
DTEND;TZID=UTC:20211109T180000
DTSTAMP:20211004T092807Z
URL:https://datatracker.ietf.org/meeting/112/materials/agenda-112-6man-02
DESCRIPTION:Session III\n
 \n
 Meetecho: https://meetings.conf.meetecho.com/ietf112/?group=6man&short=&item=1\n
 \n
 Agenda https://datatracker.ietf.org/meeting/112/materials/agenda-112-6man-02\n
 \n
 Session materials: https://datatracker.ietf.org/meeting/112/session/6man\n
 \n
 See in schedule: https://datatracker.ietf.org/meeting/112/agenda#row-112-2021-11-09-tue-1600-int-6man\n
END:VEVENT
BEGIN:VEVENT
UID:ietf-112-13991-madinas
SUMMARY:madinas - MAC Address Device Identification for Network and Application Services
LOCATION:Room 3
STATUS:CONFIRMED
CLASS:PUBLIC
DTSTART;TZID=UTC:20211110T120000
DTEND;TZID=UTC:20211110T140000
DTSTAMP:20211004T092807Z
URL:https://datatracker.ietf.org/meeting/112/materials/agenda-112-madinas-01
DESCRIPTION:Session I\n
 \n
 Meetecho: https://meetings.conf.meetecho.com/ietf112/?group=madinas&short=&item=1\n
 \n
 Agenda https://datatracker.ietf.org/meeting/112/materials/agenda-112-madinas-01\n
 \n
 Session materials: https://datatracker.ietf.org/meeting/112/session/madinas\n
 \n
 See in schedule: https://datatracker.ietf.org/meeting/112/agenda#row-112-2021-11-10-wed-1200-int-madinas\n
END:VEVENT
BEGIN:VEVENT
UID:ietf-112-14064-dmm
SUMMARY:dmm - Distributed Mobility Management
LOCATION:Room 2
STATUS:CONFIRMED
CLASS:PUBLIC
DTSTART;TZID=UTC:20211110T160000
DTEND;TZID=UTC:20211110T180000
DTSTAMP:20211005T171520Z
URL:https://datatracker.ietf.org/meeting/112/materials/agenda-112-dmm-02
DESCRIPTION:Session III\n
 \n
 Meetecho: https://meetings.conf.meetecho.com/ietf112/?group=dmm&short=&item=1\n
 \n
 Agenda https://datatracker.ietf.org/meeting/112/materials/agenda-112-dmm-02\n
 \n
 Session materials: https://datatracker.ietf.org/meeting/112/session/dmm\n
 \n
 See in schedule: https://datatracker.ietf.org/meeting/112/agenda#row-112-2021-11-10-wed-1600-int-dmm\n
END:VEVENT
BEGIN:VEVENT
UID:ietf-112-13976-dprive
SUMMARY:dprive - DNS PRIVate Exchange
LOCATION:Room 2
STATUS:CONFIRMED
CLASS:PUBLIC
DTSTART;TZID=UTC:20211111T120000
DTEND;TZID=UTC:20211111T140000
DTSTAMP:20211004T120536Z
URL:https://datatracker.ietf.org/meeting/112/materials/agenda-112-dprive-03
DESCRIPTION:Session I\n
 \n
 Meetecho: https://meetings.conf.meetecho.com/ietf112/?group=dprive&short=&item=1\n
 \n
 Agenda https://datatracker.ietf.org/meeting/112/materials/agenda-112-dprive-03\n
 \n
 Session materials: https://datatracker.ietf.org/meeting/112/session/dprive\n
 \n
 See in schedule: https://datatracker.ietf.org/meeting/112/agenda#row-112-2021-11-11-thu-1200-int-dprive\n
END:VEVENT
BEGIN:VEVENT
UID:ietf-112-13967-drip
SUMMARY:drip - Drone Remote ID Protocol
LOCATION:Room 3
STATUS:CONFIRMED
CLASS:PUBLIC
DTSTART;TZID=UTC:20211111T143000
DTEND;TZID=UTC:20211111T153000
DTSTAMP:20211004T120731Z
URL:https://datatracker.ietf.org/meeting/112/materials/agenda-112-drip-00
DESCRIPTION:Session II\n
 \n
 Meetecho: https://meetings.conf.meetecho.com/ietf112/?group=drip&short=&item=1\n
 \n
 Agenda https://datatracker.ietf.org/meeting/112/materials/agenda-112-drip-00\n
 \n
 Session materials: https://datatracker.ietf.org/meeting/112/session/drip\n
 \n
 See in schedule: https://datatracker.ietf.org/meeting/112/agenda#row-112-2021-11-11-thu-1430-int-drip\n
END:VEVENT
BEGIN:VEVENT
UID:ietf-112-13935-ntp
SUMMARY:ntp - Network Time Protocol
LOCATION:Room 3
STATUS:CONFIRMED
CLASS:PUBLIC
DTSTART;TZID=UTC:20211112T143000
DTEND;TZID=UTC:20211112T153000
DTSTAMP:20211004T092807Z
URL:https://datatracker.ietf.org/meeting/112/materials/agenda-112-ntp-00
DESCRIPTION:Session II\n
 \n
 Meetecho: https://meetings.conf.meetecho.com/ietf112/?group=ntp&short=&item=1\n
 \n
 Agenda https://datatracker.ietf.org/meeting/112/materials/agenda-112-ntp-00\n
 \n
 Session materials: https://datatracker.ietf.org/meeting/112/session/ntp\n
 \n
 See in schedule: https://datatracker.ietf.org/meeting/112/agenda#row-112-2021-11-12-fri-1430-int-ntp\n
END:VEVENT
BEGIN:VEVENT
UID:ietf-112-13927-dnssd
SUMMARY:dnssd - Extensions for Scalable DNS Service Discovery
LOCATION:Room 3
STATUS:CONFIRMED
CLASS:PUBLIC
DTSTART;TZID=UTC:20211112T160000
DTEND;TZID=UTC:20211112T170000
DTSTAMP:20211005T171505Z
URL:https://datatracker.ietf.org/meeting/112/materials/agenda-112-dnssd-04
DESCRIPTION:Session III\n
 \n
 Meetecho: https://meetings.conf.meetecho.com/ietf112/?group=dnssd&short=&item=1\n
 \n
 Agenda https://datatracker.ietf.org/meeting/112/materials/agenda-112-dnssd-04\n
 \n
 Session materials: https://datatracker.ietf.org/meeting/112/session/dnssd\n
 \n
 See in schedule: https://datatracker.ietf.org/meeting/112/agenda#row-112-2021-11-12-fri-1600-int-dnssd\n
END:VEVENT
END:VCALENDAR
