BEGIN:VCALENDAR
VERSION:2.0
METHOD:PUBLISH
PRODID:-//IETF//datatracker.ietf.org ical agenda//EN
BEGIN:VTIMEZONE
TZID:UTC
BEGIN:STANDARD
TZOFFSETFROM:+0000
TZOFFSETTO:+0000
TZNAME:UTC
DTSTART:19000101T000000
RDATE:19000101T000000
END:STANDARD
END:VTIMEZONE
BEGIN:VEVENT
UID:ietf-112-14038-sidrops
SUMMARY:sidrops - SIDR Operations
LOCATION:Room 4
STATUS:CONFIRMED
CLASS:PUBLIC
DTSTART;TZID=UTC:20211108T120000
DTEND;TZID=UTC:20211108T140000
DTSTAMP:20211004T092807Z
URL:https://datatracker.ietf.org/meeting/112/materials/agenda-112-sidrops-01
DESCRIPTION:Session I\n
 \n
 Meetecho: https://meetings.conf.meetecho.com/ietf112/?group=sidrops&short=&item=1\n
 \n
 Agenda https://datatracker.ietf.org/meeting/112/materials/agenda-112-sidrops-01\n
 \n
 Session materials: https://datatracker.ietf.org/meeting/112/session/sidrops\n
 \n
 See in schedule: https://datatracker.ietf.org/meeting/112/agenda#row-112-2021-11-08-mon-1200-ops-sidrops\n
END:VEVENT
BEGIN:VEVENT
UID:ietf-112-14031-netconf
SUMMARY:netconf - Network Configuration
LOCATION:Room 3
STATUS:CONFIRMED
CLASS:PUBLIC
DTSTART;TZID=UTC:20211108T143000
DTEND;TZID=UTC:20211108T153000
DTSTAMP:20211004T092807Z
URL:https://datatracker.ietf.org/meeting/112/materials/agenda-112-netconf-01
DESCRIPTION:Session II\n
 \n
 Meetecho: https://meetings.conf.meetecho.com/ietf112/?group=netconf&short=&item=1\n
 \n
 Agenda https://datatracker.ietf.org/meeting/112/materials/agenda-112-netconf-01\n
 \n
 Session materials: https://datatracker.ietf.org/meeting/112/session/netconf\n
 \n
 See in schedule: https://datatracker.ietf.org/meeting/112/agenda#row-112-2021-11-08-mon-1430-ops-netconf\n
END:VEVENT
BEGIN:VEVENT
UID:ietf-112-14021-bmwg
SUMMARY:bmwg - Benchmarking Methodology
LOCATION:Room 5
STATUS:CONFIRMED
CLASS:PUBLIC
DTSTART;TZID=UTC:20211108T160000
DTEND;TZID=UTC:20211108T180000
DTSTAMP:20211004T092807Z
URL:https://datatracker.ietf.org/meeting/112/materials/agenda-112-bmwg-02
DESCRIPTION:Session III\n
 \n
 Meetecho: https://meetings.conf.meetecho.com/ietf112/?group=bmwg&short=&item=1\n
 \n
 Agenda https://datatracker.ietf.org/meeting/112/materials/agenda-112-bmwg-02\n
 \n
 Session materials: https://datatracker.ietf.org/meeting/112/session/bmwg\n
 \n
 See in schedule: https://datatracker.ietf.org/meeting/112/agenda#row-112-2021-11-08-mon-1600-ops-bmwg\n
END:VEVENT
BEGIN:VEVENT
UID:ietf-112-14014-opsawg
SUMMARY:opsawg - Operations and Management Area Working Group (Combined OpsAWG / OpsAREA)
LOCATION:Room 4
STATUS:CONFIRMED
CLASS:PUBLIC
DTSTART;TZID=UTC:20211109T120000
DTEND;TZID=UTC:20211109T140000
DTSTAMP:20211004T092807Z
URL:https://datatracker.ietf.org/meeting/112/materials/agenda-112-opsawg-04
DESCRIPTION:Session I\n
 Note: Combined OpsAWG / OpsAREA\n
 \n
 Meetecho: https://meetings.conf.meetecho.com/ietf112/?group=opsawg&short=&item=1\n
 \n
 Agenda https://datatracker.ietf.org/meeting/112/materials/agenda-112-opsawg-04\n
 \n
 Session materials: https://datatracker.ietf.org/meeting/112/session/opsawg\n
 \n
 See in schedule: https://datatracker.ietf.org/meeting/112/agenda#row-112-2021-11-09-tue-1200-ops-opsawg\n
END:VEVENT
BEGIN:VEVENT
UID:ietf-112-13997-grow
SUMMARY:grow - Global Routing Operations
LOCATION:Room 5
STATUS:CONFIRMED
CLASS:PUBLIC
DTSTART;TZID=UTC:20211109T160000
DTEND;TZID=UTC:20211109T180000
DTSTAMP:20211004T092807Z
URL:https://datatracker.ietf.org/meeting/112/materials/agenda-112-grow-01
DESCRIPTION:Session III\n
 \n
 Meetecho: https://meetings.conf.meetecho.com/ietf112/?group=grow&short=&item=1\n
 \n
 Agenda https://datatracker.ietf.org/meeting/112/materials/agenda-112-grow-01\n
 \n
 Session materials: https://datatracker.ietf.org/meeting/112/session/grow\n
 \n
 See in schedule: https://datatracker.ietf.org/meeting/112/agenda#row-112-2021-11-09-tue-1600-ops-grow\n
END:VEVENT
BEGIN:VEVENT
UID:ietf-112-13990-mboned
SUMMARY:mboned - MBONE Deployment
LOCATION:Room 4
STATUS:CONFIRMED
CLASS:PUBLIC
DTSTART;TZID=UTC:20211110T120000
DTEND;TZID=UTC:20211110T140000
DTSTAMP:20211004T092807Z
URL:https://datatracker.ietf.org/meeting/112/materials/agenda-112-mboned-02
DESCRIPTION:Session I\n
 \n
 Meetecho: https://meetings.conf.meetecho.com/ietf112/?group=mboned&short=&item=1\n
 \n
 Agenda https://datatracker.ietf.org/meeting/112/materials/agenda-112-mboned-02\n
 \n
 Session materials: https://datatracker.ietf.org/meeting/112/session/mboned\n
 \n
 See in schedule: https://datatracker.ietf.org/meeting/112/agenda#row-112-2021-11-10-wed-1200-ops-mboned\n
END:VEVENT
BEGIN:VEVENT
UID:ietf-112-14063-anima
SUMMARY:anima - Autonomic Networking Integrated Model and Approach
LOCATION:Room 3
STATUS:CONFIRMED
CLASS:PUBLIC
DTSTART;TZID=UTC:20211110T160000
DTEND;TZID=UTC:20211110T180000
DTSTAMP:20211005T171520Z
URL:https://datatracker.ietf.org/meeting/112/materials/agenda-112-anima-07
DESCRIPTION:Session III\n
 \n
 Meetecho: https://meetings.conf.meetecho.com/ietf112/?group=anima&short=&item=1\n
 \n
 Agenda https://datatracker.ietf.org/meeting/112/materials/agenda-112-anima-07\n
 \n
 Session materials: https://datatracker.ietf.org/meeting/112/session/anima\n
 \n
 See in schedule: https://datatracker.ietf.org/meeting/112/agenda#row-112-2021-11-10-wed-1600-ops-anima\n
END:VEVENT
BEGIN:VEVENT
UID:ietf-112-13965-netmod
SUMMARY:netmod - Network Modeling
LOCATION:Room 5
STATUS:CONFIRMED
CLASS:PUBLIC
DTSTART;TZID=UTC:20211111T143000
DTEND;TZID=UTC:20211111T153000
DTSTAMP:20211004T120731Z
URL:https://datatracker.ietf.org/meeting/112/materials/agenda-112-netmod-00
DESCRIPTION:Session II\n
 \n
 Meetecho: https://meetings.conf.meetecho.com/ietf112/?group=netmod&short=&item=1\n
 \n
 Agenda https://datatracker.ietf.org/meeting/112/materials/agenda-112-netmod-00\n
 \n
 Session materials: https://datatracker.ietf.org/meeting/112/session/netmod\n
 \n
 See in schedule: https://datatracker.ietf.org/meeting/112/agenda#row-112-2021-11-11-thu-1430-ops-netmod\n
END:VEVENT
BEGIN:VEVENT
UID:ietf-112-13964-v6ops
SUMMARY:v6ops - IPv6 Operations
LOCATION:Room 6
STATUS:CONFIRMED
CLASS:PUBLIC
DTSTART;TZID=UTC:20211111T143000
DTEND;TZID=UTC:20211111T153000
DTSTAMP:20211004T120731Z
URL:https://datatracker.ietf.org/meeting/112/materials/agenda-112-v6ops-09
DESCRIPTION:Session II\n
 \n
 Meetecho: https://meetings.conf.meetecho.com/ietf112/?group=v6ops&short=&item=1\n
 \n
 Agenda https://datatracker.ietf.org/meeting/112/materials/agenda-112-v6ops-09\n
 \n
 Session materials: https://datatracker.ietf.org/meeting/112/session/v6ops\n
 \n
 See in schedule: https://datatracker.ietf.org/meeting/112/agenda#row-112-2021-11-11-thu-1430-ops-v6ops\n
END:VEVENT
BEGIN:VEVENT
UID:ietf-112-13959-dnsop
SUMMARY:dnsop - Domain Name System Operations
LOCATION:Room 3
STATUS:CONFIRMED
CLASS:PUBLIC
DTSTART;TZID=UTC:20211111T160000
DTEND;TZID=UTC:20211111T180000
DTSTAMP:20211004T120836Z
URL:https://datatracker.ietf.org/meeting/112/materials/agenda-112-dnsop-03
DESCRIPTION:Session III\n
 \n
 Meetecho: https://meetings.conf.meetecho.com/ietf112/?group=dnsop&short=&item=1\n
 \n
 Agenda https://datatracker.ietf.org/meeting/112/materials/agenda-112-dnsop-03\n
 \n
 Session materials: https://datatracker.ietf.org/meeting/112/session/dnsop\n
 \n
 See in schedule: https://datatracker.ietf.org/meeting/112/agenda#row-112-2021-11-11-thu-1600-ops-dnsop\n
END:VEVENT
BEGIN:VEVENT
UID:ietf-112-13960-mops
SUMMARY:mops - Media OPerationS
LOCATION:Room 2
STATUS:CONFIRMED
CLASS:PUBLIC
DTSTART;TZID=UTC:20211111T160000
DTEND;TZID=UTC:20211111T180000
DTSTAMP:20211004T120836Z
URL:https://datatracker.ietf.org/meeting/112/materials/agenda-112-mops-03
DESCRIPTION:Session III\n
 \n
 Meetecho: https://meetings.conf.meetecho.com/ietf112/?group=mops&short=&item=1\n
 \n
 Agenda https://datatracker.ietf.org/meeting/112/materials/agenda-112-mops-03\n
 \n
 Session materials: https://datatracker.ietf.org/meeting/112/session/mops\n
 \n
 See in schedule: https://datatracker.ietf.org/meeting/112/agenda#row-112-2021-11-11-thu-1600-ops-mops\n
END:VEVENT
BEGIN:VEVENT
UID:ietf-112-13942-v6ops
SUMMARY:v6ops - IPv6 Operations (Joint with 6MAN)
LOCATION:Room 4
STATUS:CONFIRMED
CLASS:PUBLIC
DTSTART;TZID=UTC:20211112T120000
DTEND;TZID=UTC:20211112T140000
DTSTAMP:20211004T092807Z
URL:https://datatracker.ietf.org/meeting/112/materials/agenda-112-v6ops-09
DESCRIPTION:Session I\n
 Note: Joint with 6MAN\n
 \n
 Meetecho: https://meetings.conf.meetecho.com/ietf112/?group=v6ops&short=&item=2\n
 \n
 Agenda https://datatracker.ietf.org/meeting/112/materials/agenda-112-v6ops-09\n
 \n
 Session materials: https://datatracker.ietf.org/meeting/112/session/v6ops\n
 \n
 See in schedule: https://datatracker.ietf.org/meeting/112/agenda#row-112-2021-11-12-fri-1200-ops-v6ops\n
END:VEVENT
BEGIN:VEVENT
UID:ietf-112-13934-dnsop
SUMMARY:dnsop - Domain Name System Operations
LOCATION:Room 4
STATUS:CONFIRMED
CLASS:PUBLIC
DTSTART;TZID=UTC:20211112T143000
DTEND;TZID=UTC:20211112T153000
DTSTAMP:20211004T092807Z
URL:https://datatracker.ietf.org/meeting/112/materials/agenda-112-dnsop-03
DESCRIPTION:Session II\n
 \n
 Meetecho: https://meetings.conf.meetecho.com/ietf112/?group=dnsop&short=&item=2\n
 \n
 Agenda https://datatracker.ietf.org/meeting/112/materials/agenda-112-dnsop-03\n
 \n
 Session materials: https://datatracker.ietf.org/meeting/112/session/dnsop\n
 \n
 See in schedule: https://datatracker.ietf.org/meeting/112/agenda#row-112-2021-11-12-fri-1430-ops-dnsop\n
END:VEVENT
BEGIN:VEVENT
UID:ietf-112-13926-iotops
SUMMARY:iotops - IOT Operations
LOCATION:Room 4
STATUS:CONFIRMED
CLASS:PUBLIC
DTSTART;TZID=UTC:20211112T160000
DTEND;TZID=UTC:20211112T170000
DTSTAMP:20211005T171505Z
URL:https://datatracker.ietf.org/meeting/112/materials/agenda-112-iotops-02
DESCRIPTION:Session III\n
 \n
 Meetecho: https://meetings.conf.meetecho.com/ietf112/?group=iotops&short=&item=1\n
 \n
 Agenda https://datatracker.ietf.org/meeting/112/materials/agenda-112-iotops-02\n
 \n
 Session materials: https://datatracker.ietf.org/meeting/112/session/iotops\n
 \n
 See in schedule: https://datatracker.ietf.org/meeting/112/agenda#row-112-2021-11-12-fri-1600-ops-iotops\n
END:VEVENT
END:VCALENDAR
