BEGIN:VCALENDAR
VERSION:2.0
METHOD:PUBLISH
PRODID:-//IETF//datatracker.ietf.org ical agenda//EN
BEGIN:VTIMEZONE
TZID:UTC
BEGIN:STANDARD
TZOFFSETFROM:+0000
TZOFFSETTO:+0000
TZNAME:UTC
DTSTART:19000101T000000
RDATE:19000101T000000
END:STANDARD
END:VTIMEZONE
BEGIN:VEVENT
UID:ietf-112-14037-spring
SUMMARY:spring - Source Packet Routing in Networking
LOCATION:Room 5
STATUS:CONFIRMED
CLASS:PUBLIC
DTSTART;TZID=UTC:20211108T120000
DTEND;TZID=UTC:20211108T140000
DTSTAMP:20211004T092807Z
URL:https://datatracker.ietf.org/meeting/112/materials/agenda-112-spring-01
DESCRIPTION:Session I\n
 \n
 Meetecho: https://meetings.conf.meetecho.com/ietf112/?group=spring&short=&item=1\n
 \n
 Agenda https://datatracker.ietf.org/meeting/112/materials/agenda-112-spring-01\n
 \n
 Session materials: https://datatracker.ietf.org/meeting/112/session/spring\n
 \n
 See in schedule: https://datatracker.ietf.org/meeting/112/agenda#row-112-2021-11-08-mon-1200-rtg-spring\n
END:VEVENT
BEGIN:VEVENT
UID:ietf-112-14030-mpls
SUMMARY:mpls - Multiprotocol Label Switching
LOCATION:Room 4
STATUS:CONFIRMED
CLASS:PUBLIC
DTSTART;TZID=UTC:20211108T143000
DTEND;TZID=UTC:20211108T153000
DTSTAMP:20211004T092807Z
URL:https://datatracker.ietf.org/meeting/112/materials/agenda-112-mpls-02
DESCRIPTION:Session II\n
 \n
 Meetecho: https://meetings.conf.meetecho.com/ietf112/?group=mpls&short=&item=1\n
 \n
 Agenda https://datatracker.ietf.org/meeting/112/materials/agenda-112-mpls-02\n
 \n
 Session materials: https://datatracker.ietf.org/meeting/112/session/mpls\n
 \n
 See in schedule: https://datatracker.ietf.org/meeting/112/agenda#row-112-2021-11-08-mon-1430-rtg-mpls\n
END:VEVENT
BEGIN:VEVENT
UID:ietf-112-14029-rift
SUMMARY:rift - Routing In Fat Trees
LOCATION:Room 5
STATUS:CONFIRMED
CLASS:PUBLIC
DTSTART;TZID=UTC:20211108T143000
DTEND;TZID=UTC:20211108T153000
DTSTAMP:20211004T092807Z
URL:https://datatracker.ietf.org/meeting/112/materials/agenda-112-rift-00
DESCRIPTION:Session II\n
 \n
 Meetecho: https://meetings.conf.meetecho.com/ietf112/?group=rift&short=&item=1\n
 \n
 Agenda https://datatracker.ietf.org/meeting/112/materials/agenda-112-rift-00\n
 \n
 Session materials: https://datatracker.ietf.org/meeting/112/session/rift\n
 \n
 See in schedule: https://datatracker.ietf.org/meeting/112/agenda#row-112-2021-11-08-mon-1430-rtg-rift\n
END:VEVENT
BEGIN:VEVENT
UID:ietf-112-14020-pals
SUMMARY:pals - Pseudowire And LDP-enabled Services (Joint PALS/MPLS/DETNET)
LOCATION:Room 6
STATUS:CONFIRMED
CLASS:PUBLIC
DTSTART;TZID=UTC:20211108T160000
DTEND;TZID=UTC:20211108T180000
DTSTAMP:20211004T092807Z
URL:https://datatracker.ietf.org/meeting/112/materials/agenda-112-pals-02
DESCRIPTION:Session III\n
 Note: Joint PALS/MPLS/DETNET\n
 \n
 Meetecho: https://meetings.conf.meetecho.com/ietf112/?group=pals&short=&item=1\n
 \n
 Agenda https://datatracker.ietf.org/meeting/112/materials/agenda-112-pals-02\n
 \n
 Session materials: https://datatracker.ietf.org/meeting/112/session/pals\n
 \n
 See in schedule: https://datatracker.ietf.org/meeting/112/agenda#row-112-2021-11-08-mon-1600-rtg-pals\n
END:VEVENT
BEGIN:VEVENT
UID:ietf-112-14127-rtg
SUMMARY:RTG AD Office Hours
LOCATION:Webex
STATUS:CONFIRMED
CLASS:PUBLIC
DTSTART;TZID=UTC:20211108T183000
DTEND;TZID=UTC:20211108T193000
DTSTAMP:20211102T144200Z
DESCRIPTION:RTG AD Office Hours\n
 \n
 Session materials: https://datatracker.ietf.org/meeting/112/session/rtg\n
 \n
 See in schedule: https://datatracker.ietf.org/meeting/112/agenda#row-112-2021-11-08-mon-1830-rtg-rtg-ad-office-hours\n
END:VEVENT
BEGIN:VEVENT
UID:ietf-112-14013-bess
SUMMARY:bess - BGP Enabled ServiceS
LOCATION:Room 5
STATUS:CONFIRMED
CLASS:PUBLIC
DTSTART;TZID=UTC:20211109T120000
DTEND;TZID=UTC:20211109T140000
DTSTAMP:20211004T092807Z
URL:https://datatracker.ietf.org/meeting/112/materials/agenda-112-bess-01
DESCRIPTION:Session I\n
 \n
 Meetecho: https://meetings.conf.meetecho.com/ietf112/?group=bess&short=&item=1\n
 \n
 Agenda https://datatracker.ietf.org/meeting/112/materials/agenda-112-bess-01\n
 \n
 Session materials: https://datatracker.ietf.org/meeting/112/session/bess\n
 \n
 See in schedule: https://datatracker.ietf.org/meeting/112/agenda#row-112-2021-11-09-tue-1200-rtg-bess\n
END:VEVENT
BEGIN:VEVENT
UID:ietf-112-14012-raw
SUMMARY:raw - Reliable and Available Wireless
LOCATION:Room 6
STATUS:CONFIRMED
CLASS:PUBLIC
DTSTART;TZID=UTC:20211109T120000
DTEND;TZID=UTC:20211109T140000
DTSTAMP:20211004T092807Z
URL:https://datatracker.ietf.org/meeting/112/materials/agenda-112-raw-03
DESCRIPTION:Session I\n
 \n
 Meetecho: https://meetings.conf.meetecho.com/ietf112/?group=raw&short=&item=1\n
 \n
 Agenda https://datatracker.ietf.org/meeting/112/materials/agenda-112-raw-03\n
 \n
 Session materials: https://datatracker.ietf.org/meeting/112/session/raw\n
 \n
 See in schedule: https://datatracker.ietf.org/meeting/112/agenda#row-112-2021-11-09-tue-1200-rtg-raw\n
END:VEVENT
BEGIN:VEVENT
UID:ietf-112-14005-lsvr
SUMMARY:lsvr - Link State Vector Routing
LOCATION:Room 5
STATUS:CONFIRMED
CLASS:PUBLIC
DTSTART;TZID=UTC:20211109T143000
DTEND;TZID=UTC:20211109T153000
DTSTAMP:20211004T092807Z
URL:https://datatracker.ietf.org/meeting/112/materials/agenda-112-lsvr-00
DESCRIPTION:Session II\n
 \n
 Meetecho: https://meetings.conf.meetecho.com/ietf112/?group=lsvr&short=&item=1\n
 \n
 Agenda https://datatracker.ietf.org/meeting/112/materials/agenda-112-lsvr-00\n
 \n
 Session materials: https://datatracker.ietf.org/meeting/112/session/lsvr\n
 \n
 See in schedule: https://datatracker.ietf.org/meeting/112/agenda#row-112-2021-11-09-tue-1430-rtg-lsvr\n
END:VEVENT
BEGIN:VEVENT
UID:ietf-112-14004-teas
SUMMARY:teas - Traffic Engineering Architecture and Signaling
LOCATION:Room 6
STATUS:CONFIRMED
CLASS:PUBLIC
DTSTART;TZID=UTC:20211109T143000
DTEND;TZID=UTC:20211109T153000
DTSTAMP:20211004T092807Z
URL:https://datatracker.ietf.org/meeting/112/materials/agenda-112-teas-01
DESCRIPTION:Session II\n
 \n
 Meetecho: https://meetings.conf.meetecho.com/ietf112/?group=teas&short=&item=1\n
 \n
 Agenda https://datatracker.ietf.org/meeting/112/materials/agenda-112-teas-01\n
 \n
 Session materials: https://datatracker.ietf.org/meeting/112/session/teas\n
 \n
 See in schedule: https://datatracker.ietf.org/meeting/112/agenda#row-112-2021-11-09-tue-1430-rtg-teas\n
END:VEVENT
BEGIN:VEVENT
UID:ietf-112-13996-pim
SUMMARY:pim - Protocols for IP Multicast
LOCATION:Room 6
STATUS:CONFIRMED
CLASS:PUBLIC
DTSTART;TZID=UTC:20211109T160000
DTEND;TZID=UTC:20211109T180000
DTSTAMP:20211004T092807Z
URL:https://datatracker.ietf.org/meeting/112/materials/agenda-112-pim-03
DESCRIPTION:Session III\n
 \n
 Meetecho: https://meetings.conf.meetecho.com/ietf112/?group=pim&short=&item=1\n
 \n
 Agenda https://datatracker.ietf.org/meeting/112/materials/agenda-112-pim-03\n
 \n
 Session materials: https://datatracker.ietf.org/meeting/112/session/pim\n
 \n
 See in schedule: https://datatracker.ietf.org/meeting/112/agenda#row-112-2021-11-09-tue-1600-rtg-pim\n
END:VEVENT
BEGIN:VEVENT
UID:ietf-112-13995-teas
SUMMARY:teas - Traffic Engineering Architecture and Signaling
LOCATION:Room 7
STATUS:CONFIRMED
CLASS:PUBLIC
DTSTART;TZID=UTC:20211109T160000
DTEND;TZID=UTC:20211109T180000
DTSTAMP:20211004T092807Z
URL:https://datatracker.ietf.org/meeting/112/materials/agenda-112-teas-01
DESCRIPTION:Session III\n
 \n
 Meetecho: https://meetings.conf.meetecho.com/ietf112/?group=teas&short=&item=2\n
 \n
 Agenda https://datatracker.ietf.org/meeting/112/materials/agenda-112-teas-01\n
 \n
 Session materials: https://datatracker.ietf.org/meeting/112/session/teas\n
 \n
 See in schedule: https://datatracker.ietf.org/meeting/112/agenda#row-112-2021-11-09-tue-1600-rtg-teas\n
END:VEVENT
BEGIN:VEVENT
UID:ietf-112-13989-detnet
SUMMARY:detnet - Deterministic Networking
LOCATION:Room 5
STATUS:CONFIRMED
CLASS:PUBLIC
DTSTART;TZID=UTC:20211110T120000
DTEND;TZID=UTC:20211110T140000
DTSTAMP:20211004T092807Z
URL:https://datatracker.ietf.org/meeting/112/materials/agenda-112-detnet-02
DESCRIPTION:Session I\n
 \n
 Meetecho: https://meetings.conf.meetecho.com/ietf112/?group=detnet&short=&item=1\n
 \n
 Agenda https://datatracker.ietf.org/meeting/112/materials/agenda-112-detnet-02\n
 \n
 Session materials: https://datatracker.ietf.org/meeting/112/session/detnet\n
 \n
 See in schedule: https://datatracker.ietf.org/meeting/112/agenda#row-112-2021-11-10-wed-1200-rtg-detnet\n
END:VEVENT
BEGIN:VEVENT
UID:ietf-112-13988-idr
SUMMARY:idr - Inter-Domain Routing
LOCATION:Room 6
STATUS:CONFIRMED
CLASS:PUBLIC
DTSTART;TZID=UTC:20211110T120000
DTEND;TZID=UTC:20211110T140000
DTSTAMP:20211004T092807Z
URL:https://datatracker.ietf.org/meeting/112/materials/agenda-112-idr-00
DESCRIPTION:Session I\n
 \n
 Meetecho: https://meetings.conf.meetecho.com/ietf112/?group=idr&short=&item=1\n
 \n
 Agenda https://datatracker.ietf.org/meeting/112/materials/agenda-112-idr-00\n
 \n
 Session materials: https://datatracker.ietf.org/meeting/112/session/idr\n
 \n
 See in schedule: https://datatracker.ietf.org/meeting/112/agenda#row-112-2021-11-10-wed-1200-rtg-idr\n
END:VEVENT
BEGIN:VEVENT
UID:ietf-112-13982-babel
SUMMARY:babel - Babel routing protocol
LOCATION:Room 4
STATUS:CANCELLED
CLASS:PUBLIC
DTSTART;TZID=UTC:20211110T143000
DTEND;TZID=UTC:20211110T153000
DTSTAMP:20211004T092807Z
DESCRIPTION:Session II\n
 \n
 Meetecho: https://meetings.conf.meetecho.com/ietf112/?group=babel&short=&item=1\n
 \n
 Session materials: https://datatracker.ietf.org/meeting/112/session/babel\n
 \n
 See in schedule: https://datatracker.ietf.org/meeting/112/agenda#row-112-2021-11-10-wed-1430-rtg-babel\n
END:VEVENT
BEGIN:VEVENT
UID:ietf-112-13981-pce
SUMMARY:pce - Path Computation Element
LOCATION:Room 5
STATUS:CONFIRMED
CLASS:PUBLIC
DTSTART;TZID=UTC:20211110T143000
DTEND;TZID=UTC:20211110T153000
DTSTAMP:20211004T092807Z
URL:https://datatracker.ietf.org/meeting/112/materials/agenda-112-pce-18
DESCRIPTION:Session II\n
 \n
 Meetecho: https://meetings.conf.meetecho.com/ietf112/?group=pce&short=&item=1\n
 \n
 Agenda https://datatracker.ietf.org/meeting/112/materials/agenda-112-pce-18\n
 \n
 Session materials: https://datatracker.ietf.org/meeting/112/session/pce\n
 \n
 See in schedule: https://datatracker.ietf.org/meeting/112/agenda#row-112-2021-11-10-wed-1430-rtg-pce\n
END:VEVENT
BEGIN:VEVENT
UID:ietf-112-13980-roll
SUMMARY:roll - Routing Over Low power and Lossy networks
LOCATION:Room 6
STATUS:CONFIRMED
CLASS:PUBLIC
DTSTART;TZID=UTC:20211110T143000
DTEND;TZID=UTC:20211110T153000
DTSTAMP:20211004T092807Z
URL:https://datatracker.ietf.org/meeting/112/materials/agenda-112-roll-03
DESCRIPTION:Session II\n
 \n
 Meetecho: https://meetings.conf.meetecho.com/ietf112/?group=roll&short=&item=1\n
 \n
 Agenda https://datatracker.ietf.org/meeting/112/materials/agenda-112-roll-03\n
 \n
 Session materials: https://datatracker.ietf.org/meeting/112/session/roll\n
 \n
 See in schedule: https://datatracker.ietf.org/meeting/112/agenda#row-112-2021-11-10-wed-1430-rtg-roll\n
END:VEVENT
BEGIN:VEVENT
UID:ietf-112-14061-rtgwg
SUMMARY:rtgwg - Routing Area Working Group
LOCATION:Room 5
STATUS:CONFIRMED
CLASS:PUBLIC
DTSTART;TZID=UTC:20211110T160000
DTEND;TZID=UTC:20211110T180000
DTSTAMP:20211005T171520Z
URL:https://datatracker.ietf.org/meeting/112/materials/agenda-112-rtgwg-04
DESCRIPTION:Session III\n
 \n
 Meetecho: https://meetings.conf.meetecho.com/ietf112/?group=rtgwg&short=&item=1\n
 \n
 Agenda https://datatracker.ietf.org/meeting/112/materials/agenda-112-rtgwg-04\n
 \n
 Session materials: https://datatracker.ietf.org/meeting/112/session/rtgwg\n
 \n
 See in schedule: https://datatracker.ietf.org/meeting/112/agenda#row-112-2021-11-10-wed-1600-rtg-rtgwg\n
END:VEVENT
BEGIN:VEVENT
UID:ietf-112-13973-lsr
SUMMARY:lsr - Link State Routing
LOCATION:Room 5
STATUS:CONFIRMED
CLASS:PUBLIC
DTSTART;TZID=UTC:20211111T120000
DTEND;TZID=UTC:20211111T140000
DTSTAMP:20211004T120536Z
URL:https://datatracker.ietf.org/meeting/112/materials/agenda-112-lsr-03
DESCRIPTION:Session I\n
 \n
 Meetecho: https://meetings.conf.meetecho.com/ietf112/?group=lsr&short=&item=1\n
 \n
 Agenda https://datatracker.ietf.org/meeting/112/materials/agenda-112-lsr-03\n
 \n
 Session materials: https://datatracker.ietf.org/meeting/112/session/lsr\n
 \n
 See in schedule: https://datatracker.ietf.org/meeting/112/agenda#row-112-2021-11-11-thu-1200-rtg-lsr\n
END:VEVENT
BEGIN:VEVENT
UID:ietf-112-13963-bier
SUMMARY:bier - Bit Indexed Explicit Replication
LOCATION:Room 7
STATUS:CONFIRMED
CLASS:PUBLIC
DTSTART;TZID=UTC:20211111T143000
DTEND;TZID=UTC:20211111T153000
DTSTAMP:20211004T120731Z
URL:https://datatracker.ietf.org/meeting/112/materials/agenda-112-bier-01
DESCRIPTION:Session II\n
 \n
 Meetecho: https://meetings.conf.meetecho.com/ietf112/?group=bier&short=&item=1\n
 \n
 Agenda https://datatracker.ietf.org/meeting/112/materials/agenda-112-bier-01\n
 \n
 Session materials: https://datatracker.ietf.org/meeting/112/session/bier\n
 \n
 See in schedule: https://datatracker.ietf.org/meeting/112/agenda#row-112-2021-11-11-thu-1430-rtg-bier\n
END:VEVENT
BEGIN:VEVENT
UID:ietf-112-13957-ccamp
SUMMARY:ccamp - Common Control and Measurement Plane
LOCATION:Room 5
STATUS:CONFIRMED
CLASS:PUBLIC
DTSTART;TZID=UTC:20211111T160000
DTEND;TZID=UTC:20211111T180000
DTSTAMP:20211004T120836Z
URL:https://datatracker.ietf.org/meeting/112/materials/agenda-112-ccamp-02
DESCRIPTION:Session III\n
 \n
 Meetecho: https://meetings.conf.meetecho.com/ietf112/?group=ccamp&short=&item=1\n
 \n
 Agenda https://datatracker.ietf.org/meeting/112/materials/agenda-112-ccamp-02\n
 \n
 Session materials: https://datatracker.ietf.org/meeting/112/session/ccamp\n
 \n
 See in schedule: https://datatracker.ietf.org/meeting/112/agenda#row-112-2021-11-11-thu-1600-rtg-ccamp\n
END:VEVENT
BEGIN:VEVENT
UID:ietf-112-13958-idr
SUMMARY:idr - Inter-Domain Routing
LOCATION:Room 4
STATUS:CONFIRMED
CLASS:PUBLIC
DTSTART;TZID=UTC:20211111T160000
DTEND;TZID=UTC:20211111T180000
DTSTAMP:20211004T120836Z
URL:https://datatracker.ietf.org/meeting/112/materials/agenda-112-idr-00
DESCRIPTION:Session III\n
 \n
 Meetecho: https://meetings.conf.meetecho.com/ietf112/?group=idr&short=&item=2\n
 \n
 Agenda https://datatracker.ietf.org/meeting/112/materials/agenda-112-idr-00\n
 \n
 Session materials: https://datatracker.ietf.org/meeting/112/session/idr\n
 \n
 See in schedule: https://datatracker.ietf.org/meeting/112/agenda#row-112-2021-11-11-thu-1600-rtg-idr\n
END:VEVENT
BEGIN:VEVENT
UID:ietf-112-13941-lisp
SUMMARY:lisp - Locator/ID Separation Protocol
LOCATION:Room 5
STATUS:CONFIRMED
CLASS:PUBLIC
DTSTART;TZID=UTC:20211112T120000
DTEND;TZID=UTC:20211112T140000
DTSTAMP:20211004T092807Z
URL:https://datatracker.ietf.org/meeting/112/materials/agenda-112-lisp-01
DESCRIPTION:Session I\n
 \n
 Meetecho: https://meetings.conf.meetecho.com/ietf112/?group=lisp&short=&item=1\n
 \n
 Agenda https://datatracker.ietf.org/meeting/112/materials/agenda-112-lisp-01\n
 \n
 Session materials: https://datatracker.ietf.org/meeting/112/session/lisp\n
 \n
 See in schedule: https://datatracker.ietf.org/meeting/112/agenda#row-112-2021-11-12-fri-1200-rtg-lisp\n
END:VEVENT
BEGIN:VEVENT
UID:ietf-112-13933-rtgarea
SUMMARY:rtgarea - Routing Area Open Meeting
LOCATION:Room 5
STATUS:CONFIRMED
CLASS:PUBLIC
DTSTART;TZID=UTC:20211112T143000
DTEND;TZID=UTC:20211112T153000
DTSTAMP:20211004T092807Z
URL:https://datatracker.ietf.org/meeting/112/materials/agenda-112-rtgarea-00
DESCRIPTION:Session II\n
 \n
 Meetecho: https://meetings.conf.meetecho.com/ietf112/?group=rtgarea&short=&item=1\n
 \n
 Agenda https://datatracker.ietf.org/meeting/112/materials/agenda-112-rtgarea-00\n
 \n
 Session materials: https://datatracker.ietf.org/meeting/112/session/rtgarea\n
 \n
 See in schedule: https://datatracker.ietf.org/meeting/112/agenda#row-112-2021-11-12-fri-1430-rtg-rtgarea\n
END:VEVENT
BEGIN:VEVENT
UID:ietf-112-13924-manet
SUMMARY:manet - Mobile Ad-hoc Networks
LOCATION:Room 6
STATUS:CONFIRMED
CLASS:PUBLIC
DTSTART;TZID=UTC:20211112T160000
DTEND;TZID=UTC:20211112T170000
DTSTAMP:20211005T171505Z
URL:https://datatracker.ietf.org/meeting/112/materials/agenda-112-manet-01
DESCRIPTION:Session III\n
 \n
 Meetecho: https://meetings.conf.meetecho.com/ietf112/?group=manet&short=&item=1\n
 \n
 Agenda https://datatracker.ietf.org/meeting/112/materials/agenda-112-manet-01\n
 \n
 Session materials: https://datatracker.ietf.org/meeting/112/session/manet\n
 \n
 See in schedule: https://datatracker.ietf.org/meeting/112/agenda#row-112-2021-11-12-fri-1600-rtg-manet\n
END:VEVENT
BEGIN:VEVENT
UID:ietf-112-13925-pce
SUMMARY:pce - Path Computation Element
LOCATION:Room 5
STATUS:CONFIRMED
CLASS:PUBLIC
DTSTART;TZID=UTC:20211112T160000
DTEND;TZID=UTC:20211112T170000
DTSTAMP:20211005T171505Z
URL:https://datatracker.ietf.org/meeting/112/materials/agenda-112-pce-18
DESCRIPTION:Session III\n
 \n
 Meetecho: https://meetings.conf.meetecho.com/ietf112/?group=pce&short=&item=2\n
 \n
 Agenda https://datatracker.ietf.org/meeting/112/materials/agenda-112-pce-18\n
 \n
 Session materials: https://datatracker.ietf.org/meeting/112/session/pce\n
 \n
 See in schedule: https://datatracker.ietf.org/meeting/112/agenda#row-112-2021-11-12-fri-1600-rtg-pce\n
END:VEVENT
END:VCALENDAR
