BEGIN:VCALENDAR
VERSION:2.0
METHOD:PUBLISH
PRODID:-//IETF//datatracker.ietf.org ical agenda//EN
BEGIN:VTIMEZONE
TZID:UTC
BEGIN:STANDARD
TZOFFSETFROM:+0000
TZOFFSETTO:+0000
TZNAME:UTC
DTSTART:19000101T000000
RDATE:19000101T000000
END:STANDARD
END:VTIMEZONE
BEGIN:VEVENT
UID:ietf-112-14036-ipsecme
SUMMARY:ipsecme - IP Security Maintenance and Extensions
LOCATION:Room 6
STATUS:CONFIRMED
CLASS:PUBLIC
DTSTART;TZID=UTC:20211108T120000
DTEND;TZID=UTC:20211108T140000
DTSTAMP:20211004T092807Z
URL:https://datatracker.ietf.org/meeting/112/materials/agenda-112-ipsecme-00
DESCRIPTION:Session I\n
 \n
 Meetecho: https://meetings.conf.meetecho.com/ietf112/?group=ipsecme&short=&item=1\n
 \n
 Agenda https://datatracker.ietf.org/meeting/112/materials/agenda-112-ipsecme-00\n
 \n
 Session materials: https://datatracker.ietf.org/meeting/112/session/ipsecme\n
 \n
 See in schedule: https://datatracker.ietf.org/meeting/112/agenda#row-112-2021-11-08-mon-1200-sec-ipsecme\n
END:VEVENT
BEGIN:VEVENT
UID:ietf-112-14035-rats
SUMMARY:rats - Remote ATtestation ProcedureS
LOCATION:Room 7
STATUS:CONFIRMED
CLASS:PUBLIC
DTSTART;TZID=UTC:20211108T120000
DTEND;TZID=UTC:20211108T140000
DTSTAMP:20211004T092807Z
URL:https://datatracker.ietf.org/meeting/112/materials/agenda-112-rats-03
DESCRIPTION:Session I\n
 \n
 Meetecho: https://meetings.conf.meetecho.com/ietf112/?group=rats&short=&item=1\n
 \n
 Agenda https://datatracker.ietf.org/meeting/112/materials/agenda-112-rats-03\n
 \n
 Session materials: https://datatracker.ietf.org/meeting/112/session/rats\n
 \n
 See in schedule: https://datatracker.ietf.org/meeting/112/agenda#row-112-2021-11-08-mon-1200-sec-rats\n
END:VEVENT
BEGIN:VEVENT
UID:ietf-112-14028-ohai
SUMMARY:ohai - Oblivious HTTP Application Intermediation
LOCATION:Room 6
STATUS:CONFIRMED
CLASS:PUBLIC
DTSTART;TZID=UTC:20211108T143000
DTEND;TZID=UTC:20211108T153000
DTSTAMP:20211004T092807Z
URL:https://datatracker.ietf.org/meeting/112/materials/agenda-112-ohai-00
DESCRIPTION:Session II\n
 \n
 Meetecho: https://meetings.conf.meetecho.com/ietf112/?group=ohai&short=&item=1\n
 \n
 Agenda https://datatracker.ietf.org/meeting/112/materials/agenda-112-ohai-00\n
 \n
 Session materials: https://datatracker.ietf.org/meeting/112/session/ohai\n
 \n
 See in schedule: https://datatracker.ietf.org/meeting/112/agenda#row-112-2021-11-08-mon-1430-sec-ohai\n
END:VEVENT
BEGIN:VEVENT
UID:ietf-112-14027-suit
SUMMARY:suit - Software Updates for Internet of Things
LOCATION:Room 7
STATUS:CONFIRMED
CLASS:PUBLIC
DTSTART;TZID=UTC:20211108T143000
DTEND;TZID=UTC:20211108T153000
DTSTAMP:20211004T092807Z
URL:https://datatracker.ietf.org/meeting/112/materials/agenda-112-suit-00
DESCRIPTION:Session II\n
 \n
 Meetecho: https://meetings.conf.meetecho.com/ietf112/?group=suit&short=&item=1\n
 \n
 Agenda https://datatracker.ietf.org/meeting/112/materials/agenda-112-suit-00\n
 \n
 Session materials: https://datatracker.ietf.org/meeting/112/session/suit\n
 \n
 See in schedule: https://datatracker.ietf.org/meeting/112/agenda#row-112-2021-11-08-mon-1430-sec-suit\n
END:VEVENT
BEGIN:VEVENT
UID:ietf-112-14019-lamps
SUMMARY:lamps - Limited Additional Mechanisms for PKIX and SMIME
LOCATION:Room 7
STATUS:CONFIRMED
CLASS:PUBLIC
DTSTART;TZID=UTC:20211108T160000
DTEND;TZID=UTC:20211108T180000
DTSTAMP:20211004T092807Z
URL:https://datatracker.ietf.org/meeting/112/materials/agenda-112-lamps-01
DESCRIPTION:Session III\n
 \n
 Meetecho: https://meetings.conf.meetecho.com/ietf112/?group=lamps&short=&item=1\n
 \n
 Agenda https://datatracker.ietf.org/meeting/112/materials/agenda-112-lamps-01\n
 \n
 Session materials: https://datatracker.ietf.org/meeting/112/session/lamps\n
 \n
 See in schedule: https://datatracker.ietf.org/meeting/112/agenda#row-112-2021-11-08-mon-1600-sec-lamps\n
END:VEVENT
BEGIN:VEVENT
UID:ietf-112-14011-secdispatch
SUMMARY:secdispatch - Security Dispatch (Split session. First hour: SAAG; Second hour: SECDISPATCH)
LOCATION:Room 7
STATUS:CONFIRMED
CLASS:PUBLIC
DTSTART;TZID=UTC:20211109T120000
DTEND;TZID=UTC:20211109T140000
DTSTAMP:20211004T092807Z
URL:https://datatracker.ietf.org/meeting/112/materials/agenda-112-secdispatch-00
DESCRIPTION:Session I\n
 Note: Split session. First hour: SAAG\; Second hour: SECDISPATCH\n
 \n
 Meetecho: https://meetings.conf.meetecho.com/ietf112/?group=secdispatch&short=&item=1\n
 \n
 Agenda https://datatracker.ietf.org/meeting/112/materials/agenda-112-secdispatch-00\n
 \n
 Session materials: https://datatracker.ietf.org/meeting/112/session/secdispatch\n
 \n
 See in schedule: https://datatracker.ietf.org/meeting/112/agenda#row-112-2021-11-09-tue-1200-sec-secdispatch\n
END:VEVENT
BEGIN:VEVENT
UID:ietf-112-14003-ace
SUMMARY:ace - Authentication and Authorization for Constrained Environments
LOCATION:Room 7
STATUS:CONFIRMED
CLASS:PUBLIC
DTSTART;TZID=UTC:20211109T143000
DTEND;TZID=UTC:20211109T153000
DTSTAMP:20211004T092807Z
URL:https://datatracker.ietf.org/meeting/112/materials/agenda-112-ace-01
DESCRIPTION:Session II\n
 \n
 Meetecho: https://meetings.conf.meetecho.com/ietf112/?group=ace&short=&item=1\n
 \n
 Agenda https://datatracker.ietf.org/meeting/112/materials/agenda-112-ace-01\n
 \n
 Session materials: https://datatracker.ietf.org/meeting/112/session/ace\n
 \n
 See in schedule: https://datatracker.ietf.org/meeting/112/agenda#row-112-2021-11-09-tue-1430-sec-ace\n
END:VEVENT
BEGIN:VEVENT
UID:ietf-112-14002-sacm
SUMMARY:sacm - Security Automation and Continuous Monitoring
LOCATION:Room 8
STATUS:CONFIRMED
CLASS:PUBLIC
DTSTART;TZID=UTC:20211109T143000
DTEND;TZID=UTC:20211109T153000
DTSTAMP:20211004T092807Z
URL:https://datatracker.ietf.org/meeting/112/materials/agenda-112-sacm-00
DESCRIPTION:Session II\n
 \n
 Meetecho: https://meetings.conf.meetecho.com/ietf112/?group=sacm&short=&item=1\n
 \n
 Agenda https://datatracker.ietf.org/meeting/112/materials/agenda-112-sacm-00\n
 \n
 Session materials: https://datatracker.ietf.org/meeting/112/session/sacm\n
 \n
 See in schedule: https://datatracker.ietf.org/meeting/112/agenda#row-112-2021-11-09-tue-1430-sec-sacm\n
END:VEVENT
BEGIN:VEVENT
UID:ietf-112-13994-tls
SUMMARY:tls - Transport Layer Security
LOCATION:Room 8
STATUS:CONFIRMED
CLASS:PUBLIC
DTSTART;TZID=UTC:20211109T160000
DTEND;TZID=UTC:20211109T180000
DTSTAMP:20211004T092807Z
URL:https://datatracker.ietf.org/meeting/112/materials/agenda-112-tls-05
DESCRIPTION:Session III\n
 \n
 Meetecho: https://meetings.conf.meetecho.com/ietf112/?group=tls&short=&item=1\n
 \n
 Agenda https://datatracker.ietf.org/meeting/112/materials/agenda-112-tls-05\n
 \n
 Session materials: https://datatracker.ietf.org/meeting/112/session/tls\n
 \n
 See in schedule: https://datatracker.ietf.org/meeting/112/agenda#row-112-2021-11-09-tue-1600-sec-tls\n
END:VEVENT
BEGIN:VEVENT
UID:ietf-112-13987-openpgp
SUMMARY:openpgp - Open Specification for Pretty Good Privacy
LOCATION:Room 7
STATUS:CONFIRMED
CLASS:PUBLIC
DTSTART;TZID=UTC:20211110T120000
DTEND;TZID=UTC:20211110T140000
DTSTAMP:20211004T092807Z
URL:https://datatracker.ietf.org/meeting/112/materials/agenda-112-openpgp-00
DESCRIPTION:Session I\n
 \n
 Meetecho: https://meetings.conf.meetecho.com/ietf112/?group=openpgp&short=&item=1\n
 \n
 Agenda https://datatracker.ietf.org/meeting/112/materials/agenda-112-openpgp-00\n
 \n
 Session materials: https://datatracker.ietf.org/meeting/112/session/openpgp\n
 \n
 See in schedule: https://datatracker.ietf.org/meeting/112/agenda#row-112-2021-11-10-wed-1200-sec-openpgp\n
END:VEVENT
BEGIN:VEVENT
UID:ietf-112-13979-cose
SUMMARY:cose - CBOR Object Signing and Encryption
LOCATION:Room 7
STATUS:CONFIRMED
CLASS:PUBLIC
DTSTART;TZID=UTC:20211110T143000
DTEND;TZID=UTC:20211110T153000
DTSTAMP:20211004T092807Z
URL:https://datatracker.ietf.org/meeting/112/materials/agenda-112-cose-00
DESCRIPTION:Session II\n
 \n
 Meetecho: https://meetings.conf.meetecho.com/ietf112/?group=cose&short=&item=1\n
 \n
 Agenda https://datatracker.ietf.org/meeting/112/materials/agenda-112-cose-00\n
 \n
 Session materials: https://datatracker.ietf.org/meeting/112/session/cose\n
 \n
 See in schedule: https://datatracker.ietf.org/meeting/112/agenda#row-112-2021-11-10-wed-1430-sec-cose\n
END:VEVENT
BEGIN:VEVENT
UID:ietf-112-14060-priv
SUMMARY:priv - Privacy Respecting Incorporation of Values
LOCATION:Room 6
STATUS:CONFIRMED
CLASS:PUBLIC
DTSTART;TZID=UTC:20211110T160000
DTEND;TZID=UTC:20211110T180000
DTSTAMP:20211005T171520Z
URL:https://datatracker.ietf.org/meeting/112/materials/agenda-112-priv-02
DESCRIPTION:Session III\n
 \n
 Meetecho: https://meetings.conf.meetecho.com/ietf112/?group=priv&short=&item=1\n
 \n
 Agenda https://datatracker.ietf.org/meeting/112/materials/agenda-112-priv-02\n
 \n
 Session materials: https://datatracker.ietf.org/meeting/112/session/priv\n
 \n
 See in schedule: https://datatracker.ietf.org/meeting/112/agenda#row-112-2021-11-10-wed-1600-sec-priv\n
END:VEVENT
BEGIN:VEVENT
UID:ietf-112-14126-sec
SUMMARY:SEC AD Office Hours
LOCATION:Webex
STATUS:CONFIRMED
CLASS:PUBLIC
DTSTART;TZID=UTC:20211110T180000
DTEND;TZID=UTC:20211110T190000
DTSTAMP:20211102T134643Z
DESCRIPTION:SEC AD Office Hours\n
 \n
 Session materials: https://datatracker.ietf.org/meeting/112/session/sec\n
 \n
 See in schedule: https://datatracker.ietf.org/meeting/112/agenda#row-112-2021-11-10-wed-1800-sec-sec-ad-office-hours\n
END:VEVENT
BEGIN:VEVENT
UID:ietf-112-13972-gnap
SUMMARY:gnap - Grant Negotiation and Authorization Protocol
LOCATION:Room 6
STATUS:CONFIRMED
CLASS:PUBLIC
DTSTART;TZID=UTC:20211111T120000
DTEND;TZID=UTC:20211111T140000
DTSTAMP:20211004T120536Z
URL:https://datatracker.ietf.org/meeting/112/materials/agenda-112-gnap-00
DESCRIPTION:Session I\n
 \n
 Meetecho: https://meetings.conf.meetecho.com/ietf112/?group=gnap&short=&item=1\n
 \n
 Agenda https://datatracker.ietf.org/meeting/112/materials/agenda-112-gnap-00\n
 \n
 Session materials: https://datatracker.ietf.org/meeting/112/session/gnap\n
 \n
 See in schedule: https://datatracker.ietf.org/meeting/112/agenda#row-112-2021-11-11-thu-1200-sec-gnap\n
END:VEVENT
BEGIN:VEVENT
UID:ietf-112-13962-acme
SUMMARY:acme - Automated Certificate Management Environment
LOCATION:Room 8
STATUS:CONFIRMED
CLASS:PUBLIC
DTSTART;TZID=UTC:20211111T143000
DTEND;TZID=UTC:20211111T153000
DTSTAMP:20211004T120731Z
URL:https://datatracker.ietf.org/meeting/112/materials/agenda-112-acme-01
DESCRIPTION:Session II\n
 \n
 Meetecho: https://meetings.conf.meetecho.com/ietf112/?group=acme&short=&item=1\n
 \n
 Agenda https://datatracker.ietf.org/meeting/112/materials/agenda-112-acme-01\n
 \n
 Session materials: https://datatracker.ietf.org/meeting/112/session/acme\n
 \n
 See in schedule: https://datatracker.ietf.org/meeting/112/agenda#row-112-2021-11-11-thu-1430-sec-acme\n
END:VEVENT
BEGIN:VEVENT
UID:ietf-112-13956-saag
SUMMARY:saag - Security Area Open Meeting (Split session. First hour: SAAG; Second hour: SECDISPATCH)
LOCATION:Room 6
STATUS:CONFIRMED
CLASS:PUBLIC
DTSTART;TZID=UTC:20211111T160000
DTEND;TZID=UTC:20211111T180000
DTSTAMP:20211004T120836Z
URL:https://datatracker.ietf.org/meeting/112/materials/agenda-112-saag-01
DESCRIPTION:Session III\n
 Note: Split session. First hour: SAAG\; Second hour: SECDISPATCH\n
 \n
 Meetecho: https://meetings.conf.meetecho.com/ietf112/?group=saag&short=&item=1\n
 \n
 Agenda https://datatracker.ietf.org/meeting/112/materials/agenda-112-saag-01\n
 \n
 Session materials: https://datatracker.ietf.org/meeting/112/session/saag\n
 \n
 See in schedule: https://datatracker.ietf.org/meeting/112/agenda#row-112-2021-11-11-thu-1600-sec-saag\n
END:VEVENT
BEGIN:VEVENT
UID:ietf-112-13940-dance
SUMMARY:dance - DANE Authentication for Network Clients Everywhere
LOCATION:Room 6
STATUS:CONFIRMED
CLASS:PUBLIC
DTSTART;TZID=UTC:20211112T120000
DTEND;TZID=UTC:20211112T140000
DTSTAMP:20211004T092807Z
URL:https://datatracker.ietf.org/meeting/112/materials/agenda-112-dance-05
DESCRIPTION:Session I\n
 \n
 Meetecho: https://meetings.conf.meetecho.com/ietf112/?group=dance&short=&item=1\n
 \n
 Agenda https://datatracker.ietf.org/meeting/112/materials/agenda-112-dance-05\n
 \n
 Session materials: https://datatracker.ietf.org/meeting/112/session/dance\n
 \n
 See in schedule: https://datatracker.ietf.org/meeting/112/agenda#row-112-2021-11-12-fri-1200-sec-dance\n
END:VEVENT
BEGIN:VEVENT
UID:ietf-112-13939-teep
SUMMARY:teep - Trusted Execution Environment Provisioning
LOCATION:Room 7
STATUS:CONFIRMED
CLASS:PUBLIC
DTSTART;TZID=UTC:20211112T120000
DTEND;TZID=UTC:20211112T140000
DTSTAMP:20211004T092807Z
URL:https://datatracker.ietf.org/meeting/112/materials/agenda-112-teep-00
DESCRIPTION:Session I\n
 \n
 Meetecho: https://meetings.conf.meetecho.com/ietf112/?group=teep&short=&item=1\n
 \n
 Agenda https://datatracker.ietf.org/meeting/112/materials/agenda-112-teep-00\n
 \n
 Session materials: https://datatracker.ietf.org/meeting/112/session/teep\n
 \n
 See in schedule: https://datatracker.ietf.org/meeting/112/agenda#row-112-2021-11-12-fri-1200-sec-teep\n
END:VEVENT
BEGIN:VEVENT
UID:ietf-112-13932-lake
SUMMARY:lake - Lightweight Authenticated Key Exchange
LOCATION:Room 6
STATUS:CONFIRMED
CLASS:PUBLIC
DTSTART;TZID=UTC:20211112T143000
DTEND;TZID=UTC:20211112T153000
DTSTAMP:20211004T092807Z
URL:https://datatracker.ietf.org/meeting/112/materials/agenda-112-lake-02
DESCRIPTION:Session II\n
 \n
 Meetecho: https://meetings.conf.meetecho.com/ietf112/?group=lake&short=&item=1\n
 \n
 Agenda https://datatracker.ietf.org/meeting/112/materials/agenda-112-lake-02\n
 \n
 Session materials: https://datatracker.ietf.org/meeting/112/session/lake\n
 \n
 See in schedule: https://datatracker.ietf.org/meeting/112/agenda#row-112-2021-11-12-fri-1430-sec-lake\n
END:VEVENT
BEGIN:VEVENT
UID:ietf-112-13931-rats
SUMMARY:rats - Remote ATtestation ProcedureS
LOCATION:Room 7
STATUS:CONFIRMED
CLASS:PUBLIC
DTSTART;TZID=UTC:20211112T143000
DTEND;TZID=UTC:20211112T153000
DTSTAMP:20211004T092807Z
URL:https://datatracker.ietf.org/meeting/112/materials/agenda-112-rats-03
DESCRIPTION:Session II\n
 \n
 Meetecho: https://meetings.conf.meetecho.com/ietf112/?group=rats&short=&item=2\n
 \n
 Agenda https://datatracker.ietf.org/meeting/112/materials/agenda-112-rats-03\n
 \n
 Session materials: https://datatracker.ietf.org/meeting/112/session/rats\n
 \n
 See in schedule: https://datatracker.ietf.org/meeting/112/agenda#row-112-2021-11-12-fri-1430-sec-rats\n
END:VEVENT
END:VCALENDAR
