BEGIN:VCALENDAR
VERSION:2.0
METHOD:PUBLISH
PRODID:-//IETF//datatracker.ietf.org ical agenda//EN
BEGIN:VTIMEZONE
TZID:UTC
BEGIN:STANDARD
TZOFFSETFROM:+0000
TZOFFSETTO:+0000
TZNAME:UTC
DTSTART:19000101T000000
RDATE:19000101T000000
END:STANDARD
END:VTIMEZONE
BEGIN:VEVENT
UID:ietf-112-14099-tsv
SUMMARY:TSV AD Office Hours
LOCATION:Gather
STATUS:CONFIRMED
CLASS:PUBLIC
DTSTART;TZID=UTC:20211103T150000
DTEND;TZID=UTC:20211103T160000
DTSTAMP:20211103T082258Z
DESCRIPTION:TSV AD Office Hours\n
 \n
 Session materials: https://datatracker.ietf.org/meeting/112/session/tsv\n
 \n
 See in schedule: https://datatracker.ietf.org/meeting/112/agenda#row-112-2021-11-03-wed-1500-tsv-tsv-ad-office-hours\n
END:VEVENT
BEGIN:VEVENT
UID:ietf-112-14034-masque
SUMMARY:masque - Multiplexed Application Substrate over QUIC Encryption
LOCATION:Room 8
STATUS:CONFIRMED
CLASS:PUBLIC
DTSTART;TZID=UTC:20211108T120000
DTEND;TZID=UTC:20211108T140000
DTSTAMP:20211004T092807Z
URL:https://datatracker.ietf.org/meeting/112/materials/agenda-112-masque-00
DESCRIPTION:Session I\n
 \n
 Meetecho: https://meetings.conf.meetecho.com/ietf112/?group=masque&short=&item=1\n
 \n
 Agenda https://datatracker.ietf.org/meeting/112/materials/agenda-112-masque-00\n
 \n
 Session materials: https://datatracker.ietf.org/meeting/112/session/masque\n
 \n
 See in schedule: https://datatracker.ietf.org/meeting/112/agenda#row-112-2021-11-08-mon-1200-tsv-masque\n
END:VEVENT
BEGIN:VEVENT
UID:ietf-112-14026-tsvwg
SUMMARY:tsvwg - Transport Area Working Group
LOCATION:Room 8
STATUS:CONFIRMED
CLASS:PUBLIC
DTSTART;TZID=UTC:20211108T143000
DTEND;TZID=UTC:20211108T153000
DTSTAMP:20211004T092807Z
URL:https://datatracker.ietf.org/meeting/112/materials/agenda-112-tsvwg-09
DESCRIPTION:Session II\n
 \n
 Meetecho: https://meetings.conf.meetecho.com/ietf112/?group=tsvwg&short=&item=1\n
 \n
 Agenda https://datatracker.ietf.org/meeting/112/materials/agenda-112-tsvwg-09\n
 \n
 Session materials: https://datatracker.ietf.org/meeting/112/session/tsvwg\n
 \n
 See in schedule: https://datatracker.ietf.org/meeting/112/agenda#row-112-2021-11-08-mon-1430-tsv-tsvwg\n
END:VEVENT
BEGIN:VEVENT
UID:ietf-112-13986-quic
SUMMARY:quic - QUIC
LOCATION:Room 8
STATUS:CONFIRMED
CLASS:PUBLIC
DTSTART;TZID=UTC:20211110T120000
DTEND;TZID=UTC:20211110T140000
DTSTAMP:20211004T092807Z
URL:https://datatracker.ietf.org/meeting/112/materials/agenda-112-quic-02
DESCRIPTION:Session I\n
 \n
 Meetecho: https://meetings.conf.meetecho.com/ietf112/?group=quic&short=&item=1\n
 \n
 Agenda https://datatracker.ietf.org/meeting/112/materials/agenda-112-quic-02\n
 \n
 Session materials: https://datatracker.ietf.org/meeting/112/session/quic\n
 \n
 See in schedule: https://datatracker.ietf.org/meeting/112/agenda#row-112-2021-11-10-wed-1200-tsv-quic\n
END:VEVENT
BEGIN:VEVENT
UID:ietf-112-13978-tsvarea
SUMMARY:tsvarea - Transport Area Open Meeting
LOCATION:Room 8
STATUS:CONFIRMED
CLASS:PUBLIC
DTSTART;TZID=UTC:20211110T143000
DTEND;TZID=UTC:20211110T153000
DTSTAMP:20211004T092807Z
URL:https://datatracker.ietf.org/meeting/112/materials/agenda-112-tsvarea-00
DESCRIPTION:Session II\n
 \n
 Meetecho: https://meetings.conf.meetecho.com/ietf112/?group=tsvarea&short=&item=1\n
 \n
 Agenda https://datatracker.ietf.org/meeting/112/materials/agenda-112-tsvarea-00\n
 \n
 Session materials: https://datatracker.ietf.org/meeting/112/session/tsvarea\n
 \n
 See in schedule: https://datatracker.ietf.org/meeting/112/agenda#row-112-2021-11-10-wed-1430-tsv-tsvarea\n
END:VEVENT
BEGIN:VEVENT
UID:ietf-112-14059-alto
SUMMARY:alto - Application-Layer Traffic Optimization
LOCATION:Room 7
STATUS:CONFIRMED
CLASS:PUBLIC
DTSTART;TZID=UTC:20211110T160000
DTEND;TZID=UTC:20211110T180000
DTSTAMP:20211005T171520Z
URL:https://datatracker.ietf.org/meeting/112/materials/agenda-112-alto-05
DESCRIPTION:Session III\n
 \n
 Meetecho: https://meetings.conf.meetecho.com/ietf112/?group=alto&short=&item=1\n
 \n
 Agenda https://datatracker.ietf.org/meeting/112/materials/agenda-112-alto-05\n
 \n
 Session materials: https://datatracker.ietf.org/meeting/112/session/alto\n
 \n
 See in schedule: https://datatracker.ietf.org/meeting/112/agenda#row-112-2021-11-10-wed-1600-tsv-alto\n
END:VEVENT
BEGIN:VEVENT
UID:ietf-112-13971-tcpm
SUMMARY:tcpm - TCP Maintenance and Minor Extensions
LOCATION:Room 7
STATUS:CONFIRMED
CLASS:PUBLIC
DTSTART;TZID=UTC:20211111T120000
DTEND;TZID=UTC:20211111T140000
DTSTAMP:20211004T120536Z
URL:https://datatracker.ietf.org/meeting/112/materials/agenda-112-tcpm-02
DESCRIPTION:Session I\n
 \n
 Meetecho: https://meetings.conf.meetecho.com/ietf112/?group=tcpm&short=&item=1\n
 \n
 Agenda https://datatracker.ietf.org/meeting/112/materials/agenda-112-tcpm-02\n
 \n
 Session materials: https://datatracker.ietf.org/meeting/112/session/tcpm\n
 \n
 See in schedule: https://datatracker.ietf.org/meeting/112/agenda#row-112-2021-11-11-thu-1200-tsv-tcpm\n
END:VEVENT
BEGIN:VEVENT
UID:ietf-112-13955-ippm
SUMMARY:ippm - IP Performance Measurement
LOCATION:Room 7
STATUS:CONFIRMED
CLASS:PUBLIC
DTSTART;TZID=UTC:20211111T160000
DTEND;TZID=UTC:20211111T180000
DTSTAMP:20211004T120836Z
URL:https://datatracker.ietf.org/meeting/112/materials/agenda-112-ippm-01
DESCRIPTION:Session III\n
 \n
 Meetecho: https://meetings.conf.meetecho.com/ietf112/?group=ippm&short=&item=1\n
 \n
 Agenda https://datatracker.ietf.org/meeting/112/materials/agenda-112-ippm-01\n
 \n
 Session materials: https://datatracker.ietf.org/meeting/112/session/ippm\n
 \n
 See in schedule: https://datatracker.ietf.org/meeting/112/agenda#row-112-2021-11-11-thu-1600-tsv-ippm\n
END:VEVENT
BEGIN:VEVENT
UID:ietf-112-13938-dtn
SUMMARY:dtn - Delay/Disruption Tolerant Networking
LOCATION:Room 8
STATUS:CONFIRMED
CLASS:PUBLIC
DTSTART;TZID=UTC:20211112T120000
DTEND;TZID=UTC:20211112T140000
DTSTAMP:20211004T092807Z
URL:https://datatracker.ietf.org/meeting/112/materials/agenda-112-dtn-01
DESCRIPTION:Session I\n
 \n
 Meetecho: https://meetings.conf.meetecho.com/ietf112/?group=dtn&short=&item=1\n
 \n
 Agenda https://datatracker.ietf.org/meeting/112/materials/agenda-112-dtn-01\n
 \n
 Session materials: https://datatracker.ietf.org/meeting/112/session/dtn\n
 \n
 See in schedule: https://datatracker.ietf.org/meeting/112/agenda#row-112-2021-11-12-fri-1200-tsv-dtn\n
END:VEVENT
BEGIN:VEVENT
UID:ietf-112-13930-rmcat
SUMMARY:rmcat - RTP Media Congestion Avoidance Techniques
LOCATION:Room 8
STATUS:CONFIRMED
CLASS:PUBLIC
DTSTART;TZID=UTC:20211112T143000
DTEND;TZID=UTC:20211112T153000
DTSTAMP:20211004T092807Z
URL:https://datatracker.ietf.org/meeting/112/materials/agenda-112-rmcat-01
DESCRIPTION:Session II\n
 \n
 Meetecho: https://meetings.conf.meetecho.com/ietf112/?group=rmcat&short=&item=1\n
 \n
 Agenda https://datatracker.ietf.org/meeting/112/materials/agenda-112-rmcat-01\n
 \n
 Session materials: https://datatracker.ietf.org/meeting/112/session/rmcat\n
 \n
 See in schedule: https://datatracker.ietf.org/meeting/112/agenda#row-112-2021-11-12-fri-1430-tsv-rmcat\n
END:VEVENT
BEGIN:VEVENT
UID:ietf-112-13923-tsvwg
SUMMARY:tsvwg - Transport Area Working Group
LOCATION:Room 7
STATUS:CONFIRMED
CLASS:PUBLIC
DTSTART;TZID=UTC:20211112T160000
DTEND;TZID=UTC:20211112T170000
DTSTAMP:20211005T171505Z
URL:https://datatracker.ietf.org/meeting/112/materials/agenda-112-tsvwg-09
DESCRIPTION:Session III\n
 \n
 Meetecho: https://meetings.conf.meetecho.com/ietf112/?group=tsvwg&short=&item=2\n
 \n
 Agenda https://datatracker.ietf.org/meeting/112/materials/agenda-112-tsvwg-09\n
 \n
 Session materials: https://datatracker.ietf.org/meeting/112/session/tsvwg\n
 \n
 See in schedule: https://datatracker.ietf.org/meeting/112/agenda#row-112-2021-11-12-fri-1600-tsv-tsvwg\n
END:VEVENT
END:VCALENDAR
