BEGIN:VCALENDAR
VERSION:2.0
METHOD:PUBLISH
PRODID:-//IETF//datatracker.ietf.org ical agenda//EN
BEGIN:VTIMEZONE
TZID:UTC
BEGIN:STANDARD
TZOFFSETFROM:+0000
TZOFFSETTO:+0000
TZNAME:UTC
DTSTART:19000101T000000
RDATE:19000101T000000
END:STANDARD
END:VTIMEZONE
BEGIN:VEVENT
UID:ietf-112-13927-dnssd
SUMMARY:dnssd - Extensions for Scalable DNS Service Discovery
LOCATION:Room 3
STATUS:CONFIRMED
CLASS:PUBLIC
DTSTART;TZID=UTC:20211112T160000
DTEND;TZID=UTC:20211112T170000
DTSTAMP:20211005T171505Z
URL:https://datatracker.ietf.org/meeting/112/materials/agenda-112-dnssd-04
DESCRIPTION:Session III\n
 \n
 Meetecho: https://meetings.conf.meetecho.com/ietf112/?group=dnssd&short=&item=1\n
 \n
 Agenda https://datatracker.ietf.org/meeting/112/materials/agenda-112-dnssd-04\n
 \n
 Session materials: https://datatracker.ietf.org/meeting/112/session/dnssd\n
 \n
 See in schedule: https://datatracker.ietf.org/meeting/112/agenda#row-112-2021-11-12-fri-1600-int-dnssd\n
END:VEVENT
END:VCALENDAR
