BEGIN:VCALENDAR
VERSION:2.0
METHOD:PUBLISH
PRODID:-//IETF//datatracker.ietf.org ical agenda//EN
BEGIN:VTIMEZONE
TZID:UTC
BEGIN:STANDARD
TZOFFSETFROM:+0000
TZOFFSETTO:+0000
TZNAME:UTC
DTSTART:19000101T000000
RDATE:19000101T000000
END:STANDARD
END:VTIMEZONE
BEGIN:VEVENT
UID:ietf-112-13961-panrg
SUMMARY:panrg - Path Aware Networking RG
LOCATION:Room 1
STATUS:CONFIRMED
CLASS:PUBLIC
DTSTART;TZID=UTC:20211111T160000
DTEND;TZID=UTC:20211111T180000
DTSTAMP:20211004T120836Z
URL:https://datatracker.ietf.org/meeting/112/materials/agenda-112-panrg-03
DESCRIPTION:Session III\n
 \n
 Meetecho: https://meetings.conf.meetecho.com/ietf112/?group=panrg&short=&item=1\n
 \n
 Agenda https://datatracker.ietf.org/meeting/112/materials/agenda-112-panrg-03\n
 \n
 Session materials: https://datatracker.ietf.org/meeting/112/session/panrg\n
 \n
 See in schedule: https://datatracker.ietf.org/meeting/112/agenda#row-112-2021-11-11-thu-1600-irtf-panrg\n
END:VEVENT
END:VCALENDAR
