BEGIN:VCALENDAR
VERSION:2.0
METHOD:PUBLISH
PRODID:-//IETF//datatracker.ietf.org ical agenda//EN
BEGIN:VTIMEZONE
TZID:UTC
BEGIN:STANDARD
TZOFFSETFROM:+0000
TZOFFSETTO:+0000
TZNAME:UTC
DTSTART:19000101T000000
RDATE:19000101T000000
END:STANDARD
END:VTIMEZONE
BEGIN:VEVENT
UID:ietf-112-13936-wish
SUMMARY:wish - WebRTC Ingest Signaling over HTTPS
LOCATION:Room 2
STATUS:CONFIRMED
CLASS:PUBLIC
DTSTART;TZID=UTC:20211112T143000
DTEND;TZID=UTC:20211112T153000
DTSTAMP:20211004T092807Z
URL:https://datatracker.ietf.org/meeting/112/materials/agenda-112-wish-04
DESCRIPTION:Session II\n
 \n
 Meetecho: https://meetings.conf.meetecho.com/ietf112/?group=wish&short=&item=1\n
 \n
 Agenda https://datatracker.ietf.org/meeting/112/materials/agenda-112-wish-04\n
 \n
 Session materials: https://datatracker.ietf.org/meeting/112/session/wish\n
 \n
 See in schedule: https://datatracker.ietf.org/meeting/112/agenda#row-112-2021-11-12-fri-1430-art-wish\n
END:VEVENT
END:VCALENDAR
