BEGIN:VCALENDAR
VERSION:2.0
METHOD:PUBLISH
PRODID:-//IETF//datatracker.ietf.org ical agenda//EN
BEGIN:VTIMEZONE
TZID:America/Chicago
X-LIC-LOCATION:America/Chicago
BEGIN:DAYLIGHT
TZOFFSETFROM:-0600
TZOFFSETTO:-0500
TZNAME:CDT
DTSTART:20070311T020000
RRULE:FREQ=YEARLY;BYMONTH=3;BYDAY=2SU
END:DAYLIGHT
BEGIN:STANDARD
TZOFFSETFROM:-0500
TZOFFSETTO:-0600
TZNAME:CST
DTSTART:20071104T020000
RRULE:FREQ=YEARLY;BYMONTH=11;BYDAY=1SU
END:STANDARD
BEGIN:STANDARD
TZOFFSETFROM:-055036
TZOFFSETTO:-0600
TZNAME:CST
DTSTART:18831118T120924
RDATE:18831118T120924
END:STANDARD
BEGIN:DAYLIGHT
TZOFFSETFROM:-0600
TZOFFSETTO:-0500
TZNAME:CDT
DTSTART:19180331T020000
RDATE:19180331T020000
RDATE:19190330T020000
RDATE:19200613T020000
RDATE:19210327T020000
RDATE:19220430T020000
RDATE:19230429T020000
RDATE:19240427T020000
RDATE:19250426T020000
RDATE:19260425T020000
RDATE:19270424T020000
RDATE:19280429T020000
RDATE:19290428T020000
RDATE:19300427T020000
RDATE:19310426T020000
RDATE:19320424T020000
RDATE:19330430T020000
RDATE:19340429T020000
RDATE:19350428T020000
RDATE:19370425T020000
RDATE:19380424T020000
RDATE:19390430T020000
RDATE:19400428T020000
RDATE:19410427T020000
RDATE:19460428T020000
RDATE:19470427T020000
RDATE:19480425T020000
RDATE:19490424T020000
RDATE:19500430T020000
RDATE:19510429T020000
RDATE:19520427T020000
RDATE:19530426T020000
RDATE:19540425T020000
RDATE:19550424T020000
RDATE:19560429T020000
RDATE:19570428T020000
RDATE:19580427T020000
RDATE:19590426T020000
RDATE:19600424T020000
RDATE:19610430T020000
RDATE:19620429T020000
RDATE:19630428T020000
RDATE:19640426T020000
RDATE:19650425T020000
RDATE:19660424T020000
RDATE:19670430T020000
RDATE:19680428T020000
RDATE:19690427T020000
RDATE:19700426T020000
RDATE:19710425T020000
RDATE:19720430T020000
RDATE:19730429T020000
RDATE:19740106T020000
RDATE:19750223T020000
RDATE:19760425T020000
RDATE:19770424T020000
RDATE:19780430T020000
RDATE:19790429T020000
RDATE:19800427T020000
RDATE:19810426T020000
RDATE:19820425T020000
RDATE:19830424T020000
RDATE:19840429T020000
RDATE:19850428T020000
RDATE:19860427T020000
RDATE:19870405T020000
RDATE:19880403T020000
RDATE:19890402T020000
RDATE:19900401T020000
RDATE:19910407T020000
RDATE:19920405T020000
RDATE:19930404T020000
RDATE:19940403T020000
RDATE:19950402T020000
RDATE:19960407T020000
RDATE:19970406T020000
RDATE:19980405T020000
RDATE:19990404T020000
RDATE:20000402T020000
RDATE:20010401T020000
RDATE:20020407T020000
RDATE:20030406T020000
RDATE:20040404T020000
RDATE:20050403T020000
RDATE:20060402T020000
END:DAYLIGHT
BEGIN:STANDARD
TZOFFSETFROM:-0500
TZOFFSETTO:-0600
TZNAME:CST
DTSTART:19181027T020000
RDATE:19181027T020000
RDATE:19191026T020000
RDATE:19201031T020000
RDATE:19211030T020000
RDATE:19220924T020000
RDATE:19230930T020000
RDATE:19240928T020000
RDATE:19250927T020000
RDATE:19260926T020000
RDATE:19270925T020000
RDATE:19280930T020000
RDATE:19290929T020000
RDATE:19300928T020000
RDATE:19310927T020000
RDATE:19320925T020000
RDATE:19330924T020000
RDATE:19340930T020000
RDATE:19350929T020000
RDATE:19361115T020000
RDATE:19370926T020000
RDATE:19380925T020000
RDATE:19390924T020000
RDATE:19400929T020000
RDATE:19410928T020000
RDATE:19450930T020000
RDATE:19460929T020000
RDATE:19470928T020000
RDATE:19480926T020000
RDATE:19490925T020000
RDATE:19500924T020000
RDATE:19510930T020000
RDATE:19520928T020000
RDATE:19530927T020000
RDATE:19540926T020000
RDATE:19551030T020000
RDATE:19561028T020000
RDATE:19571027T020000
RDATE:19581026T020000
RDATE:19591025T020000
RDATE:19601030T020000
RDATE:19611029T020000
RDATE:19621028T020000
RDATE:19631027T020000
RDATE:19641025T020000
RDATE:19651031T020000
RDATE:19661030T020000
RDATE:19671029T020000
RDATE:19681027T020000
RDATE:19691026T020000
RDATE:19701025T020000
RDATE:19711031T020000
RDATE:19721029T020000
RDATE:19731028T020000
RDATE:19741027T020000
RDATE:19751026T020000
RDATE:19761031T020000
RDATE:19771030T020000
RDATE:19781029T020000
RDATE:19791028T020000
RDATE:19801026T020000
RDATE:19811025T020000
RDATE:19821031T020000
RDATE:19831030T020000
RDATE:19841028T020000
RDATE:19851027T020000
RDATE:19861026T020000
RDATE:19871025T020000
RDATE:19881030T020000
RDATE:19891029T020000
RDATE:19901028T020000
RDATE:19911027T020000
RDATE:19921025T020000
RDATE:19931031T020000
RDATE:19941030T020000
RDATE:19951029T020000
RDATE:19961027T020000
RDATE:19971026T020000
RDATE:19981025T020000
RDATE:19991031T020000
RDATE:20001029T020000
RDATE:20011028T020000
RDATE:20021027T020000
RDATE:20031026T020000
RDATE:20041031T020000
RDATE:20051030T020000
RDATE:20061029T020000
END:STANDARD
BEGIN:STANDARD
TZOFFSETFROM:-0600
TZOFFSETTO:-0600
TZNAME:CST
DTSTART:19200101T000000
RDATE:19200101T000000
RDATE:19420101T000000
RDATE:19460101T000000
RDATE:19670101T000000
END:STANDARD
BEGIN:STANDARD
TZOFFSETFROM:-0600
TZOFFSETTO:-0500
TZNAME:EST
DTSTART:19360301T020000
RDATE:19360301T020000
END:STANDARD
BEGIN:DAYLIGHT
TZOFFSETFROM:-0600
TZOFFSETTO:-0500
TZNAME:CWT
DTSTART:19420209T020000
RDATE:19420209T020000
END:DAYLIGHT
BEGIN:DAYLIGHT
TZOFFSETFROM:-0500
TZOFFSETTO:-0500
TZNAME:CPT
DTSTART:19450814T180000
RDATE:19450814T180000
END:DAYLIGHT
END:VTIMEZONE
BEGIN:VEVENT
UID:ietf-65-7-dna
SUMMARY:dna - Detecting Network Attachment
LOCATION:Cortez CD
STATUS:CONFIRMED
CLASS:PUBLIC
DTSTART;TZID=America/Chicago:20060320T090000
DTEND;TZID=America/Chicago:20060320T113000
DTSTAMP:20161222T095711Z
URL:https://datatracker.ietf.org/meeting/65/materials/agenda-65-dna
DESCRIPTION:Morning Session I\n
 \n
 Agenda https://datatracker.ietf.org/meeting/65/materials/agenda-65-dna\n
 \n
 Session materials: https://datatracker.ietf.org/meeting/65/session/dna\n
 \n
 See in schedule: https://datatracker.ietf.org/meeting/65/agenda#row-65-2006-03-20-mon-0900-int-dna\n
END:VEVENT
BEGIN:VEVENT
UID:ietf-65-33-mip6
SUMMARY:mip6 - Mobility for IPv6
LOCATION:Coronado A
STATUS:CONFIRMED
CLASS:PUBLIC
DTSTART;TZID=America/Chicago:20060320T130000
DTEND;TZID=America/Chicago:20060320T150000
DTSTAMP:20161222T095711Z
URL:https://datatracker.ietf.org/meeting/65/materials/agenda-65-mip6
DESCRIPTION:Afternoon Session I\n
 \n
 Agenda https://datatracker.ietf.org/meeting/65/materials/agenda-65-mip6\n
 \n
 Session materials: https://datatracker.ietf.org/meeting/65/session/mip6\n
 \n
 See in schedule: https://datatracker.ietf.org/meeting/65/agenda#row-65-2006-03-20-mon-1300-int-mip6\n
END:VEVENT
BEGIN:VEVENT
UID:ietf-65-11-ntp
SUMMARY:ntp - Network Time Protocol
LOCATION:Miro
STATUS:CONFIRMED
CLASS:PUBLIC
DTSTART;TZID=America/Chicago:20060320T130000
DTEND;TZID=America/Chicago:20060320T150000
DTSTAMP:20161222T095711Z
URL:https://datatracker.ietf.org/meeting/65/materials/agenda-65-ntp
DESCRIPTION:Afternoon Session I\n
 \n
 Agenda https://datatracker.ietf.org/meeting/65/materials/agenda-65-ntp\n
 \n
 Session materials: https://datatracker.ietf.org/meeting/65/session/ntp\n
 \n
 See in schedule: https://datatracker.ietf.org/meeting/65/agenda#row-65-2006-03-20-mon-1300-int-ntp\n
END:VEVENT
BEGIN:VEVENT
UID:ietf-65-121-intarea
SUMMARY:intarea - Internet Area Working Group
LOCATION:Coronado BCD
STATUS:CONFIRMED
CLASS:PUBLIC
DTSTART;TZID=America/Chicago:20060320T152000
DTEND;TZID=America/Chicago:20060320T172000
DTSTAMP:20161222T095711Z
URL:https://datatracker.ietf.org/meeting/65/materials/agenda-65-intarea
DESCRIPTION:Afternoon Session II\n
 \n
 Agenda https://datatracker.ietf.org/meeting/65/materials/agenda-65-intarea\n
 \n
 Session materials: https://datatracker.ietf.org/meeting/65/session/intarea\n
 \n
 See in schedule: https://datatracker.ietf.org/meeting/65/agenda#row-65-2006-03-20-mon-1520-int-intarea\n
END:VEVENT
BEGIN:VEVENT
UID:ietf-65-32-pana
SUMMARY:pana - Protocol for carrying Authentication for Network Access
LOCATION:Metropolitan Ballroom
STATUS:CONFIRMED
CLASS:PUBLIC
DTSTART;TZID=America/Chicago:20060320T174000
DTEND;TZID=America/Chicago:20060320T184000
DTSTAMP:20161222T095711Z
URL:https://datatracker.ietf.org/meeting/65/materials/agenda-65-pana
DESCRIPTION:Afternoon Session III\n
 \n
 Agenda https://datatracker.ietf.org/meeting/65/materials/agenda-65-pana\n
 \n
 Session materials: https://datatracker.ietf.org/meeting/65/session/pana\n
 \n
 See in schedule: https://datatracker.ietf.org/meeting/65/agenda#row-65-2006-03-20-mon-1740-int-pana\n
END:VEVENT
BEGIN:VEVENT
UID:ietf-65-8-shim6
SUMMARY:shim6 - Site Multihoming by IPv6 Intermediation
LOCATION:Coronado BCD
STATUS:CONFIRMED
CLASS:PUBLIC
DTSTART;TZID=America/Chicago:20060320T174000
DTEND;TZID=America/Chicago:20060320T184000
DTSTAMP:20161222T095711Z
URL:https://datatracker.ietf.org/meeting/65/materials/agenda-65-shim6
DESCRIPTION:Afternoon Session III\n
 \n
 Agenda https://datatracker.ietf.org/meeting/65/materials/agenda-65-shim6\n
 \n
 Session materials: https://datatracker.ietf.org/meeting/65/session/shim6\n
 \n
 See in schedule: https://datatracker.ietf.org/meeting/65/agenda#row-65-2006-03-20-mon-1740-int-shim6\n
END:VEVENT
BEGIN:VEVENT
UID:ietf-65-9-shim6
SUMMARY:shim6 - Site Multihoming by IPv6 Intermediation
LOCATION:Coronado BCD
STATUS:CONFIRMED
CLASS:PUBLIC
DTSTART;TZID=America/Chicago:20060320T185000
DTEND;TZID=America/Chicago:20060320T195000
DTSTAMP:20161222T095711Z
URL:https://datatracker.ietf.org/meeting/65/materials/agenda-65-shim6
DESCRIPTION:Afternoon Session IV\n
 \n
 Agenda https://datatracker.ietf.org/meeting/65/materials/agenda-65-shim6\n
 \n
 Session materials: https://datatracker.ietf.org/meeting/65/session/shim6\n
 \n
 See in schedule: https://datatracker.ietf.org/meeting/65/agenda#row-65-2006-03-20-mon-1850-int-shim6\n
END:VEVENT
BEGIN:VEVENT
UID:ietf-65-62-netlmm
SUMMARY:netlmm - Network-based Localized Mobility Management
LOCATION:Coronado BCD
STATUS:CONFIRMED
CLASS:PUBLIC
DTSTART;TZID=America/Chicago:20060321T090000
DTEND;TZID=America/Chicago:20060321T113000
DTSTAMP:20161222T095711Z
URL:https://datatracker.ietf.org/meeting/65/materials/agenda-65-netlmm
DESCRIPTION:Morning Session I\n
 \n
 Agenda https://datatracker.ietf.org/meeting/65/materials/agenda-65-netlmm\n
 \n
 Session materials: https://datatracker.ietf.org/meeting/65/session/netlmm\n
 \n
 See in schedule: https://datatracker.ietf.org/meeting/65/agenda#row-65-2006-03-21-tue-0900-int-netlmm\n
END:VEVENT
BEGIN:VEVENT
UID:ietf-65-103-trill
SUMMARY:trill - Transparent Interconnection of Lots of Links
LOCATION:Cortez AB
STATUS:CONFIRMED
CLASS:PUBLIC
DTSTART;TZID=America/Chicago:20060321T090000
DTEND;TZID=America/Chicago:20060321T113000
DTSTAMP:20161222T095711Z
URL:https://datatracker.ietf.org/meeting/65/materials/agenda-65-trill
DESCRIPTION:Morning Session I\n
 \n
 Agenda https://datatracker.ietf.org/meeting/65/materials/agenda-65-trill\n
 \n
 Session materials: https://datatracker.ietf.org/meeting/65/session/trill\n
 \n
 See in schedule: https://datatracker.ietf.org/meeting/65/agenda#row-65-2006-03-21-tue-0900-int-trill\n
END:VEVENT
BEGIN:VEVENT
UID:ietf-65-1-dnsext
SUMMARY:dnsext - DNS Extensions
LOCATION:Cortez AB
STATUS:CONFIRMED
CLASS:PUBLIC
DTSTART;TZID=America/Chicago:20060321T130000
DTEND;TZID=America/Chicago:20060321T150000
DTSTAMP:20161222T095711Z
URL:https://datatracker.ietf.org/meeting/65/materials/agenda-65-dnsext
DESCRIPTION:Afternoon Session I\n
 \n
 Agenda https://datatracker.ietf.org/meeting/65/materials/agenda-65-dnsext\n
 \n
 Session materials: https://datatracker.ietf.org/meeting/65/session/dnsext\n
 \n
 See in schedule: https://datatracker.ietf.org/meeting/65/agenda#row-65-2006-03-21-tue-1300-int-dnsext\n
END:VEVENT
BEGIN:VEVENT
UID:ietf-65-54-mipshop
SUMMARY:mipshop - Mobility for IP: Performance, Signaling and Handoff Optimization
LOCATION:Cortez CD
STATUS:CONFIRMED
CLASS:PUBLIC
DTSTART;TZID=America/Chicago:20060321T152000
DTEND;TZID=America/Chicago:20060321T172000
DTSTAMP:20161222T095711Z
URL:https://datatracker.ietf.org/meeting/65/materials/agenda-65-mipshop
DESCRIPTION:Afternoon Session II\n
 \n
 Agenda https://datatracker.ietf.org/meeting/65/materials/agenda-65-mipshop\n
 \n
 Session materials: https://datatracker.ietf.org/meeting/65/session/mipshop\n
 \n
 See in schedule: https://datatracker.ietf.org/meeting/65/agenda#row-65-2006-03-21-tue-1520-int-mipshop\n
END:VEVENT
BEGIN:VEVENT
UID:ietf-65-6-monami6
SUMMARY:monami6 - Mobile Nodes and Multiple Interfaces in IPv6
LOCATION:Coronado BCD
STATUS:CONFIRMED
CLASS:PUBLIC
DTSTART;TZID=America/Chicago:20060321T185000
DTEND;TZID=America/Chicago:20060321T195000
DTSTAMP:20161222T095711Z
URL:https://datatracker.ietf.org/meeting/65/materials/agenda-65-monami6
DESCRIPTION:Afternoon Session IV\n
 \n
 Agenda https://datatracker.ietf.org/meeting/65/materials/agenda-65-monami6\n
 \n
 Session materials: https://datatracker.ietf.org/meeting/65/session/monami6\n
 \n
 See in schedule: https://datatracker.ietf.org/meeting/65/agenda#row-65-2006-03-21-tue-1850-int-monami6\n
END:VEVENT
BEGIN:VEVENT
UID:ietf-65-112-l2cp
SUMMARY:l2cp - Layer 2 Control Protocol
LOCATION:Coronado BCD
STATUS:CONFIRMED
CLASS:PUBLIC
DTSTART;TZID=America/Chicago:20060322T090000
DTEND;TZID=America/Chicago:20060322T113000
DTSTAMP:20161222T095711Z
URL:https://datatracker.ietf.org/meeting/65/materials/agenda-65-l2cp
DESCRIPTION:Morning Session I\n
 \n
 Agenda https://datatracker.ietf.org/meeting/65/materials/agenda-65-l2cp\n
 \n
 Session materials: https://datatracker.ietf.org/meeting/65/session/l2cp\n
 \n
 See in schedule: https://datatracker.ietf.org/meeting/65/agenda#row-65-2006-03-22-wed-0900-int-l2cp\n
END:VEVENT
BEGIN:VEVENT
UID:ietf-65-55-mipshop
SUMMARY:mipshop - Mobility for IP: Performance, Signaling and Handoff Optimization
LOCATION:Cortez CD
STATUS:CONFIRMED
CLASS:PUBLIC
DTSTART;TZID=America/Chicago:20060322T090000
DTEND;TZID=America/Chicago:20060322T113000
DTSTAMP:20161222T095711Z
URL:https://datatracker.ietf.org/meeting/65/materials/agenda-65-mipshop
DESCRIPTION:Morning Session I\n
 \n
 Agenda https://datatracker.ietf.org/meeting/65/materials/agenda-65-mipshop\n
 \n
 Session materials: https://datatracker.ietf.org/meeting/65/session/mipshop\n
 \n
 See in schedule: https://datatracker.ietf.org/meeting/65/agenda#row-65-2006-03-22-wed-0900-int-mipshop\n
END:VEVENT
BEGIN:VEVENT
UID:ietf-65-113-16ng
SUMMARY:16ng - IP over IEEE 802.16 Networks
LOCATION:Coronado A
STATUS:CONFIRMED
CLASS:PUBLIC
DTSTART;TZID=America/Chicago:20060322T130000
DTEND;TZID=America/Chicago:20060322T150000
DTSTAMP:20161222T095711Z
URL:https://datatracker.ietf.org/meeting/65/materials/agenda-65-16ng
DESCRIPTION:Afternoon Session I\n
 \n
 Agenda https://datatracker.ietf.org/meeting/65/materials/agenda-65-16ng\n
 \n
 Session materials: https://datatracker.ietf.org/meeting/65/session/16ng\n
 \n
 See in schedule: https://datatracker.ietf.org/meeting/65/agenda#row-65-2006-03-22-wed-1300-int-16ng\n
END:VEVENT
BEGIN:VEVENT
UID:ietf-65-92-softwire
SUMMARY:softwire - Softwires
LOCATION:Coronado BCD
STATUS:CONFIRMED
CLASS:PUBLIC
DTSTART;TZID=America/Chicago:20060322T130000
DTEND;TZID=America/Chicago:20060322T150000
DTSTAMP:20161222T095711Z
URL:https://datatracker.ietf.org/meeting/65/materials/agenda-65-softwire
DESCRIPTION:Afternoon Session I\n
 \n
 Agenda https://datatracker.ietf.org/meeting/65/materials/agenda-65-softwire\n
 \n
 Session materials: https://datatracker.ietf.org/meeting/65/session/softwire\n
 \n
 See in schedule: https://datatracker.ietf.org/meeting/65/agenda#row-65-2006-03-22-wed-1300-int-softwire\n
END:VEVENT
BEGIN:VEVENT
UID:ietf-65-105-eap
SUMMARY:eap - Extensible Authentication Protocol
LOCATION:Metropolitan Ballroom
STATUS:CONFIRMED
CLASS:PUBLIC
DTSTART;TZID=America/Chicago:20060322T151000
DTEND;TZID=America/Chicago:20060322T161000
DTSTAMP:20161222T095711Z
URL:https://datatracker.ietf.org/meeting/65/materials/agenda-65-eap
DESCRIPTION:Afternoon Session II\n
 \n
 Agenda https://datatracker.ietf.org/meeting/65/materials/agenda-65-eap\n
 \n
 Session materials: https://datatracker.ietf.org/meeting/65/session/eap\n
 \n
 See in schedule: https://datatracker.ietf.org/meeting/65/agenda#row-65-2006-03-22-wed-1510-int-eap\n
END:VEVENT
BEGIN:VEVENT
UID:ietf-65-5-nemo
SUMMARY:nemo - Network Mobility
LOCATION:Coronado A
STATUS:CONFIRMED
CLASS:PUBLIC
DTSTART;TZID=America/Chicago:20060322T151000
DTEND;TZID=America/Chicago:20060322T161000
DTSTAMP:20161222T095711Z
URL:https://datatracker.ietf.org/meeting/65/materials/agenda-65-nemo
DESCRIPTION:Afternoon Session II\n
 \n
 Agenda https://datatracker.ietf.org/meeting/65/materials/agenda-65-nemo\n
 \n
 Session materials: https://datatracker.ietf.org/meeting/65/session/nemo\n
 \n
 See in schedule: https://datatracker.ietf.org/meeting/65/agenda#row-65-2006-03-22-wed-1510-int-nemo\n
END:VEVENT
BEGIN:VEVENT
UID:ietf-65-4-dhc
SUMMARY:dhc - Dynamic Host Configuration
LOCATION:Monet Ballroom
STATUS:CONFIRMED
CLASS:PUBLIC
DTSTART;TZID=America/Chicago:20060323T090000
DTEND;TZID=America/Chicago:20060323T113000
DTSTAMP:20161222T095711Z
URL:https://datatracker.ietf.org/meeting/65/materials/agenda-65-dhc
DESCRIPTION:Morning Session I\n
 \n
 Agenda https://datatracker.ietf.org/meeting/65/materials/agenda-65-dhc\n
 \n
 Session materials: https://datatracker.ietf.org/meeting/65/session/dhc\n
 \n
 See in schedule: https://datatracker.ietf.org/meeting/65/agenda#row-65-2006-03-23-thu-0900-int-dhc\n
END:VEVENT
BEGIN:VEVENT
UID:ietf-65-10-hip
SUMMARY:hip - Host Identity Protocol
LOCATION:Cortez AB
STATUS:CONFIRMED
CLASS:PUBLIC
DTSTART;TZID=America/Chicago:20060323T090000
DTEND;TZID=America/Chicago:20060323T113000
DTSTAMP:20161222T095711Z
URL:https://datatracker.ietf.org/meeting/65/materials/agenda-65-hip
DESCRIPTION:Morning Session I\n
 \n
 Agenda https://datatracker.ietf.org/meeting/65/materials/agenda-65-hip\n
 \n
 Session materials: https://datatracker.ietf.org/meeting/65/session/hip\n
 \n
 See in schedule: https://datatracker.ietf.org/meeting/65/agenda#row-65-2006-03-23-thu-0900-int-hip\n
END:VEVENT
BEGIN:VEVENT
UID:ietf-65-3-autoconf
SUMMARY:autoconf - Ad-Hoc Network Autoconfiguration
LOCATION:Chantilly West
STATUS:CONFIRMED
CLASS:PUBLIC
DTSTART;TZID=America/Chicago:20060323T130000
DTEND;TZID=America/Chicago:20060323T150000
DTSTAMP:20161222T095711Z
URL:https://datatracker.ietf.org/meeting/65/materials/agenda-65-autoconf
DESCRIPTION:Afternoon Session I\n
 \n
 Agenda https://datatracker.ietf.org/meeting/65/materials/agenda-65-autoconf\n
 \n
 Session materials: https://datatracker.ietf.org/meeting/65/session/autoconf\n
 \n
 See in schedule: https://datatracker.ietf.org/meeting/65/agenda#row-65-2006-03-23-thu-1300-int-autoconf\n
END:VEVENT
BEGIN:VEVENT
UID:ietf-65-99-mip4
SUMMARY:mip4 - Mobility for IPv4
LOCATION:Monet Ballroom
STATUS:CONFIRMED
CLASS:PUBLIC
DTSTART;TZID=America/Chicago:20060323T151000
DTEND;TZID=America/Chicago:20060323T161000
DTSTAMP:20161222T095711Z
URL:https://datatracker.ietf.org/meeting/65/materials/agenda-65-mip4
DESCRIPTION:Afternoon Session II\n
 \n
 Agenda https://datatracker.ietf.org/meeting/65/materials/agenda-65-mip4\n
 \n
 Session materials: https://datatracker.ietf.org/meeting/65/session/mip4\n
 \n
 See in schedule: https://datatracker.ietf.org/meeting/65/agenda#row-65-2006-03-23-thu-1510-int-mip4\n
END:VEVENT
BEGIN:VEVENT
UID:ietf-65-24-6lowpan
SUMMARY:6lowpan - IPv6 over Low power WPAN
LOCATION:Monet Ballroom
STATUS:CONFIRMED
CLASS:PUBLIC
DTSTART;TZID=America/Chicago:20060324T090000
DTEND;TZID=America/Chicago:20060324T113000
DTSTAMP:20161222T095711Z
URL:https://datatracker.ietf.org/meeting/65/materials/agenda-65-6lowpan
DESCRIPTION:Morning Session I\n
 \n
 Agenda https://datatracker.ietf.org/meeting/65/materials/agenda-65-6lowpan\n
 \n
 Session materials: https://datatracker.ietf.org/meeting/65/session/6lowpan\n
 \n
 See in schedule: https://datatracker.ietf.org/meeting/65/agenda#row-65-2006-03-24-fri-0900-int-6lowpan\n
END:VEVENT
END:VCALENDAR
