BEGIN:VCALENDAR
VERSION:2.0
METHOD:PUBLISH
PRODID:-//IETF//datatracker.ietf.org ical agenda//EN
BEGIN:VTIMEZONE
TZID:America/Los_Angeles
X-LIC-LOCATION:America/Los_Angeles
BEGIN:DAYLIGHT
TZOFFSETFROM:-0800
TZOFFSETTO:-0700
TZNAME:PDT
DTSTART:20070311T020000
RRULE:FREQ=YEARLY;BYMONTH=3;BYDAY=2SU
END:DAYLIGHT
BEGIN:STANDARD
TZOFFSETFROM:-0700
TZOFFSETTO:-0800
TZNAME:PST
DTSTART:20071104T020000
RRULE:FREQ=YEARLY;BYMONTH=11;BYDAY=1SU
END:STANDARD
BEGIN:STANDARD
TZOFFSETFROM:-075258
TZOFFSETTO:-0800
TZNAME:PST
DTSTART:18831118T120702
RDATE:18831118T120702
END:STANDARD
BEGIN:DAYLIGHT
TZOFFSETFROM:-0800
TZOFFSETTO:-0700
TZNAME:PDT
DTSTART:19180331T020000
RDATE:19180331T020000
RDATE:19190330T020000
RDATE:19480314T020000
RDATE:19500430T020000
RDATE:19510429T020000
RDATE:19520427T020000
RDATE:19530426T020000
RDATE:19540425T020000
RDATE:19550424T020000
RDATE:19560429T020000
RDATE:19570428T020000
RDATE:19580427T020000
RDATE:19590426T020000
RDATE:19600424T020000
RDATE:19610430T020000
RDATE:19620429T020000
RDATE:19630428T020000
RDATE:19640426T020000
RDATE:19650425T020000
RDATE:19660424T020000
RDATE:19670430T020000
RDATE:19680428T020000
RDATE:19690427T020000
RDATE:19700426T020000
RDATE:19710425T020000
RDATE:19720430T020000
RDATE:19730429T020000
RDATE:19740106T020000
RDATE:19750223T020000
RDATE:19760425T020000
RDATE:19770424T020000
RDATE:19780430T020000
RDATE:19790429T020000
RDATE:19800427T020000
RDATE:19810426T020000
RDATE:19820425T020000
RDATE:19830424T020000
RDATE:19840429T020000
RDATE:19850428T020000
RDATE:19860427T020000
RDATE:19870405T020000
RDATE:19880403T020000
RDATE:19890402T020000
RDATE:19900401T020000
RDATE:19910407T020000
RDATE:19920405T020000
RDATE:19930404T020000
RDATE:19940403T020000
RDATE:19950402T020000
RDATE:19960407T020000
RDATE:19970406T020000
RDATE:19980405T020000
RDATE:19990404T020000
RDATE:20000402T020000
RDATE:20010401T020000
RDATE:20020407T020000
RDATE:20030406T020000
RDATE:20040404T020000
RDATE:20050403T020000
RDATE:20060402T020000
END:DAYLIGHT
BEGIN:STANDARD
TZOFFSETFROM:-0700
TZOFFSETTO:-0800
TZNAME:PST
DTSTART:19181027T020000
RDATE:19181027T020000
RDATE:19191026T020000
RDATE:19450930T020000
RDATE:19490101T020000
RDATE:19500924T020000
RDATE:19510930T020000
RDATE:19520928T020000
RDATE:19530927T020000
RDATE:19540926T020000
RDATE:19550925T020000
RDATE:19560930T020000
RDATE:19570929T020000
RDATE:19580928T020000
RDATE:19590927T020000
RDATE:19600925T020000
RDATE:19610924T020000
RDATE:19621028T020000
RDATE:19631027T020000
RDATE:19641025T020000
RDATE:19651031T020000
RDATE:19661030T020000
RDATE:19671029T020000
RDATE:19681027T020000
RDATE:19691026T020000
RDATE:19701025T020000
RDATE:19711031T020000
RDATE:19721029T020000
RDATE:19731028T020000
RDATE:19741027T020000
RDATE:19751026T020000
RDATE:19761031T020000
RDATE:19771030T020000
RDATE:19781029T020000
RDATE:19791028T020000
RDATE:19801026T020000
RDATE:19811025T020000
RDATE:19821031T020000
RDATE:19831030T020000
RDATE:19841028T020000
RDATE:19851027T020000
RDATE:19861026T020000
RDATE:19871025T020000
RDATE:19881030T020000
RDATE:19891029T020000
RDATE:19901028T020000
RDATE:19911027T020000
RDATE:19921025T020000
RDATE:19931031T020000
RDATE:19941030T020000
RDATE:19951029T020000
RDATE:19961027T020000
RDATE:19971026T020000
RDATE:19981025T020000
RDATE:19991031T020000
RDATE:20001029T020000
RDATE:20011028T020000
RDATE:20021027T020000
RDATE:20031026T020000
RDATE:20041031T020000
RDATE:20051030T020000
RDATE:20061029T020000
END:STANDARD
BEGIN:DAYLIGHT
TZOFFSETFROM:-0800
TZOFFSETTO:-0700
TZNAME:PWT
DTSTART:19420209T020000
RDATE:19420209T020000
END:DAYLIGHT
BEGIN:DAYLIGHT
TZOFFSETFROM:-0700
TZOFFSETTO:-0700
TZNAME:PPT
DTSTART:19450814T160000
RDATE:19450814T160000
END:DAYLIGHT
BEGIN:STANDARD
TZOFFSETFROM:-0800
TZOFFSETTO:-0800
TZNAME:PST
DTSTART:19460101T000000
RDATE:19460101T000000
RDATE:19670101T000000
END:STANDARD
END:VTIMEZONE
BEGIN:VEVENT
UID:ietf-67-287-pana
SUMMARY:pana - Protocol for carrying Authentication for Network Access
LOCATION:Seabreeze
STATUS:CONFIRMED
CLASS:PUBLIC
DTSTART;TZID=America/Los_Angeles:20061106T090000
DTEND;TZID=America/Los_Angeles:20061106T113000
DTSTAMP:20161222T095711Z
URL:https://datatracker.ietf.org/meeting/67/materials/agenda-67-pana
DESCRIPTION:Morning Session I\n
 \n
 Agenda https://datatracker.ietf.org/meeting/67/materials/agenda-67-pana\n
 \n
 Session materials: https://datatracker.ietf.org/meeting/67/session/pana\n
 \n
 See in schedule: https://datatracker.ietf.org/meeting/67/agenda#row-67-2006-11-06-mon-0900-int-pana\n
END:VEVENT
BEGIN:VEVENT
UID:ietf-67-353-dna
SUMMARY:dna - Detecting Network Attachment
LOCATION:Harbor Island III
STATUS:CONFIRMED
CLASS:PUBLIC
DTSTART;TZID=America/Los_Angeles:20061106T130000
DTEND;TZID=America/Los_Angeles:20061106T150000
DTSTAMP:20161222T095711Z
URL:https://datatracker.ietf.org/meeting/67/materials/agenda-67-dna
DESCRIPTION:Afternoon Session I\n
 \n
 Agenda https://datatracker.ietf.org/meeting/67/materials/agenda-67-dna\n
 \n
 Session materials: https://datatracker.ietf.org/meeting/67/session/dna\n
 \n
 See in schedule: https://datatracker.ietf.org/meeting/67/agenda#row-67-2006-11-06-mon-1300-int-dna\n
END:VEVENT
BEGIN:VEVENT
UID:ietf-67-331-intarea
SUMMARY:intarea - Internet Area Working Group
LOCATION:Grande Ballroom B
STATUS:CONFIRMED
CLASS:PUBLIC
DTSTART;TZID=America/Los_Angeles:20061106T152000
DTEND;TZID=America/Los_Angeles:20061106T172000
DTSTAMP:20161222T095711Z
URL:https://datatracker.ietf.org/meeting/67/materials/agenda-67-intarea
DESCRIPTION:Afternoon Session II\n
 \n
 Agenda https://datatracker.ietf.org/meeting/67/materials/agenda-67-intarea\n
 \n
 Session materials: https://datatracker.ietf.org/meeting/67/session/intarea\n
 \n
 See in schedule: https://datatracker.ietf.org/meeting/67/agenda#row-67-2006-11-06-mon-1520-int-intarea\n
END:VEVENT
BEGIN:VEVENT
UID:ietf-67-350-autoconf
SUMMARY:autoconf - Ad-Hoc Network Autoconfiguration
LOCATION:Seabreeze
STATUS:CONFIRMED
CLASS:PUBLIC
DTSTART;TZID=America/Los_Angeles:20061106T174000
DTEND;TZID=America/Los_Angeles:20061106T195000
DTSTAMP:20161222T095711Z
URL:https://datatracker.ietf.org/meeting/67/materials/agenda-67-autoconf
DESCRIPTION:Afternoon Session III\n
 \n
 Agenda https://datatracker.ietf.org/meeting/67/materials/agenda-67-autoconf\n
 \n
 Session materials: https://datatracker.ietf.org/meeting/67/session/autoconf\n
 \n
 See in schedule: https://datatracker.ietf.org/meeting/67/agenda#row-67-2006-11-06-mon-1740-int-autoconf\n
END:VEVENT
BEGIN:VEVENT
UID:ietf-67-363-softwire
SUMMARY:softwire - Softwires
LOCATION:Grande Ballroom B
STATUS:CONFIRMED
CLASS:PUBLIC
DTSTART;TZID=America/Los_Angeles:20061106T174000
DTEND;TZID=America/Los_Angeles:20061106T195000
DTSTAMP:20161222T095711Z
URL:https://datatracker.ietf.org/meeting/67/materials/agenda-67-softwire
DESCRIPTION:Afternoon Session III\n
 \n
 Agenda https://datatracker.ietf.org/meeting/67/materials/agenda-67-softwire\n
 \n
 Session materials: https://datatracker.ietf.org/meeting/67/session/softwire\n
 \n
 See in schedule: https://datatracker.ietf.org/meeting/67/agenda#row-67-2006-11-06-mon-1740-int-softwire\n
END:VEVENT
BEGIN:VEVENT
UID:ietf-67-340-16ng
SUMMARY:16ng - IP over IEEE 802.16 Networks
LOCATION:Grande Ballroom C
STATUS:CONFIRMED
CLASS:PUBLIC
DTSTART;TZID=America/Los_Angeles:20061107T090000
DTEND;TZID=America/Los_Angeles:20061107T113000
DTSTAMP:20161222T095711Z
URL:https://datatracker.ietf.org/meeting/67/materials/agenda-67-16ng
DESCRIPTION:Morning Session I\n
 \n
 Agenda https://datatracker.ietf.org/meeting/67/materials/agenda-67-16ng\n
 \n
 Session materials: https://datatracker.ietf.org/meeting/67/session/16ng\n
 \n
 See in schedule: https://datatracker.ietf.org/meeting/67/agenda#row-67-2006-11-07-tue-0900-int-16ng\n
END:VEVENT
BEGIN:VEVENT
UID:ietf-67-301-trill
SUMMARY:trill - Transparent Interconnection of Lots of Links
LOCATION:Harbor Island III
STATUS:CONFIRMED
CLASS:PUBLIC
DTSTART;TZID=America/Los_Angeles:20061107T090000
DTEND;TZID=America/Los_Angeles:20061107T113000
DTSTAMP:20161222T095711Z
URL:https://datatracker.ietf.org/meeting/67/materials/agenda-67-trill
DESCRIPTION:Morning Session I\n
 \n
 Agenda https://datatracker.ietf.org/meeting/67/materials/agenda-67-trill\n
 \n
 Session materials: https://datatracker.ietf.org/meeting/67/session/trill\n
 \n
 See in schedule: https://datatracker.ietf.org/meeting/67/agenda#row-67-2006-11-07-tue-0900-int-trill\n
END:VEVENT
BEGIN:VEVENT
UID:ietf-67-328-mipshop
SUMMARY:mipshop - Mobility for IP: Performance, Signaling and Handoff Optimization
LOCATION:Grande Ballroom B
STATUS:CONFIRMED
CLASS:PUBLIC
DTSTART;TZID=America/Los_Angeles:20061107T130000
DTEND;TZID=America/Los_Angeles:20061107T150000
DTSTAMP:20161222T095711Z
URL:https://datatracker.ietf.org/meeting/67/materials/agenda-67-mipshop
DESCRIPTION:Afternoon Session I\n
 \n
 Agenda https://datatracker.ietf.org/meeting/67/materials/agenda-67-mipshop\n
 \n
 Session materials: https://datatracker.ietf.org/meeting/67/session/mipshop\n
 \n
 See in schedule: https://datatracker.ietf.org/meeting/67/agenda#row-67-2006-11-07-tue-1300-int-mipshop\n
END:VEVENT
BEGIN:VEVENT
UID:ietf-67-326-dnsext
SUMMARY:dnsext - DNS Extensions
LOCATION:Harbor Island II
STATUS:CONFIRMED
CLASS:PUBLIC
DTSTART;TZID=America/Los_Angeles:20061107T152000
DTEND;TZID=America/Los_Angeles:20061107T172000
DTSTAMP:20161222T095711Z
URL:https://datatracker.ietf.org/meeting/67/materials/agenda-67-dnsext
DESCRIPTION:Afternoon Session II\n
 \n
 Agenda https://datatracker.ietf.org/meeting/67/materials/agenda-67-dnsext\n
 \n
 Session materials: https://datatracker.ietf.org/meeting/67/session/dnsext\n
 \n
 See in schedule: https://datatracker.ietf.org/meeting/67/agenda#row-67-2006-11-07-tue-1520-int-dnsext\n
END:VEVENT
BEGIN:VEVENT
UID:ietf-67-333-mip6
SUMMARY:mip6 - Mobility for IPv6
LOCATION:Harbor Island II
STATUS:CONFIRMED
CLASS:PUBLIC
DTSTART;TZID=America/Los_Angeles:20061107T174000
DTEND;TZID=America/Los_Angeles:20061107T184000
DTSTAMP:20161222T095711Z
URL:https://datatracker.ietf.org/meeting/67/materials/agenda-67-mip6
DESCRIPTION:Afternoon Session III\n
 \n
 Agenda https://datatracker.ietf.org/meeting/67/materials/agenda-67-mip6\n
 \n
 Session materials: https://datatracker.ietf.org/meeting/67/session/mip6\n
 \n
 See in schedule: https://datatracker.ietf.org/meeting/67/agenda#row-67-2006-11-07-tue-1740-int-mip6\n
END:VEVENT
BEGIN:VEVENT
UID:ietf-67-334-mip6
SUMMARY:mip6 - Mobility for IPv6
LOCATION:Harbor Island II
STATUS:CONFIRMED
CLASS:PUBLIC
DTSTART;TZID=America/Los_Angeles:20061107T185000
DTEND;TZID=America/Los_Angeles:20061107T195000
DTSTAMP:20161222T095711Z
URL:https://datatracker.ietf.org/meeting/67/materials/agenda-67-mip6
DESCRIPTION:Afternoon Session IV\n
 \n
 Agenda https://datatracker.ietf.org/meeting/67/materials/agenda-67-mip6\n
 \n
 Session materials: https://datatracker.ietf.org/meeting/67/session/mip6\n
 \n
 See in schedule: https://datatracker.ietf.org/meeting/67/agenda#row-67-2006-11-07-tue-1850-int-mip6\n
END:VEVENT
BEGIN:VEVENT
UID:ietf-67-317-dhc
SUMMARY:dhc - Dynamic Host Configuration
LOCATION:Seabreeze
STATUS:CONFIRMED
CLASS:PUBLIC
DTSTART;TZID=America/Los_Angeles:20061108T090000
DTEND;TZID=America/Los_Angeles:20061108T113000
DTSTAMP:20161222T095711Z
URL:https://datatracker.ietf.org/meeting/67/materials/agenda-67-dhc
DESCRIPTION:Morning Session I\n
 \n
 Agenda https://datatracker.ietf.org/meeting/67/materials/agenda-67-dhc\n
 \n
 Session materials: https://datatracker.ietf.org/meeting/67/session/dhc\n
 \n
 See in schedule: https://datatracker.ietf.org/meeting/67/agenda#row-67-2006-11-08-wed-0900-int-dhc\n
END:VEVENT
BEGIN:VEVENT
UID:ietf-67-329-mipshop
SUMMARY:mipshop - Mobility for IP: Performance, Signaling and Handoff Optimization
LOCATION:Harbor Island III
STATUS:CONFIRMED
CLASS:PUBLIC
DTSTART;TZID=America/Los_Angeles:20061108T130000
DTEND;TZID=America/Los_Angeles:20061108T150000
DTSTAMP:20161222T095711Z
URL:https://datatracker.ietf.org/meeting/67/materials/agenda-67-mipshop
DESCRIPTION:Afternoon Session I\n
 \n
 Agenda https://datatracker.ietf.org/meeting/67/materials/agenda-67-mipshop\n
 \n
 Session materials: https://datatracker.ietf.org/meeting/67/session/mipshop\n
 \n
 See in schedule: https://datatracker.ietf.org/meeting/67/agenda#row-67-2006-11-08-wed-1300-int-mipshop\n
END:VEVENT
BEGIN:VEVENT
UID:ietf-67-349-ntp
SUMMARY:ntp - Network Time Protocol
LOCATION:Spinnaker
STATUS:CONFIRMED
CLASS:PUBLIC
DTSTART;TZID=America/Los_Angeles:20061108T130000
DTEND;TZID=America/Los_Angeles:20061108T150000
DTSTAMP:20161222T095711Z
URL:https://datatracker.ietf.org/meeting/67/materials/agenda-67-ntp
DESCRIPTION:Afternoon Session I\n
 \n
 Agenda https://datatracker.ietf.org/meeting/67/materials/agenda-67-ntp\n
 \n
 Session materials: https://datatracker.ietf.org/meeting/67/session/ntp\n
 \n
 See in schedule: https://datatracker.ietf.org/meeting/67/agenda#row-67-2006-11-08-wed-1300-int-ntp\n
END:VEVENT
BEGIN:VEVENT
UID:ietf-67-354-6lowpan
SUMMARY:6lowpan - IPv6 over Low power WPAN
LOCATION:Spinnaker
STATUS:CONFIRMED
CLASS:PUBLIC
DTSTART;TZID=America/Los_Angeles:20061108T151000
DTEND;TZID=America/Los_Angeles:20061108T161000
DTSTAMP:20161222T095711Z
URL:https://datatracker.ietf.org/meeting/67/materials/agenda-67-6lowpan
DESCRIPTION:Afternoon Session II\n
 \n
 Agenda https://datatracker.ietf.org/meeting/67/materials/agenda-67-6lowpan\n
 \n
 Session materials: https://datatracker.ietf.org/meeting/67/session/6lowpan\n
 \n
 See in schedule: https://datatracker.ietf.org/meeting/67/agenda#row-67-2006-11-08-wed-1510-int-6lowpan\n
END:VEVENT
BEGIN:VEVENT
UID:ietf-67-339-mip4
SUMMARY:mip4 - Mobility for IPv4
LOCATION:Harbor Island I
STATUS:CONFIRMED
CLASS:PUBLIC
DTSTART;TZID=America/Los_Angeles:20061108T151000
DTEND;TZID=America/Los_Angeles:20061108T161000
DTSTAMP:20161222T095711Z
URL:https://datatracker.ietf.org/meeting/67/materials/agenda-67-mip4
DESCRIPTION:Afternoon Session II\n
 \n
 Agenda https://datatracker.ietf.org/meeting/67/materials/agenda-67-mip4\n
 \n
 Session materials: https://datatracker.ietf.org/meeting/67/session/mip4\n
 \n
 See in schedule: https://datatracker.ietf.org/meeting/67/agenda#row-67-2006-11-08-wed-1510-int-mip4\n
END:VEVENT
BEGIN:VEVENT
UID:ietf-67-280-netlmm
SUMMARY:netlmm - Network-based Localized Mobility Management
LOCATION:Grande Ballroom B
STATUS:CONFIRMED
CLASS:PUBLIC
DTSTART;TZID=America/Los_Angeles:20061109T090000
DTEND;TZID=America/Los_Angeles:20061109T113000
DTSTAMP:20161222T095711Z
URL:https://datatracker.ietf.org/meeting/67/materials/agenda-67-netlmm
DESCRIPTION:Morning Session I\n
 \n
 Agenda https://datatracker.ietf.org/meeting/67/materials/agenda-67-netlmm\n
 \n
 Session materials: https://datatracker.ietf.org/meeting/67/session/netlmm\n
 \n
 See in schedule: https://datatracker.ietf.org/meeting/67/agenda#row-67-2006-11-09-thu-0900-int-netlmm\n
END:VEVENT
BEGIN:VEVENT
UID:ietf-67-316-ancp
SUMMARY:ancp - Access Node Control Protocol
LOCATION:Harbor Island II
STATUS:CONFIRMED
CLASS:PUBLIC
DTSTART;TZID=America/Los_Angeles:20061109T130000
DTEND;TZID=America/Los_Angeles:20061109T150000
DTSTAMP:20161222T095711Z
URL:https://datatracker.ietf.org/meeting/67/materials/agenda-67-ancp
DESCRIPTION:Afternoon Session I\n
 \n
 Agenda https://datatracker.ietf.org/meeting/67/materials/agenda-67-ancp\n
 \n
 Session materials: https://datatracker.ietf.org/meeting/67/session/ancp\n
 \n
 See in schedule: https://datatracker.ietf.org/meeting/67/agenda#row-67-2006-11-09-thu-1300-int-ancp\n
END:VEVENT
BEGIN:VEVENT
UID:ietf-67-318-shim6
SUMMARY:shim6 - Site Multihoming by IPv6 Intermediation
LOCATION:Grande Ballroom A
STATUS:CONFIRMED
CLASS:PUBLIC
DTSTART;TZID=America/Los_Angeles:20061109T130000
DTEND;TZID=America/Los_Angeles:20061109T150000
DTSTAMP:20161222T095711Z
URL:https://datatracker.ietf.org/meeting/67/materials/agenda-67-shim6
DESCRIPTION:Afternoon Session I\n
 \n
 Agenda https://datatracker.ietf.org/meeting/67/materials/agenda-67-shim6\n
 \n
 Session materials: https://datatracker.ietf.org/meeting/67/session/shim6\n
 \n
 See in schedule: https://datatracker.ietf.org/meeting/67/agenda#row-67-2006-11-09-thu-1300-int-shim6\n
END:VEVENT
BEGIN:VEVENT
UID:ietf-67-346-nemo
SUMMARY:nemo - Network Mobility
LOCATION:Grande Ballroom C
STATUS:CONFIRMED
CLASS:PUBLIC
DTSTART;TZID=America/Los_Angeles:20061109T151000
DTEND;TZID=America/Los_Angeles:20061109T161000
DTSTAMP:20161222T095711Z
URL:https://datatracker.ietf.org/meeting/67/materials/agenda-67-nemo
DESCRIPTION:Afternoon Session II\n
 \n
 Agenda https://datatracker.ietf.org/meeting/67/materials/agenda-67-nemo\n
 \n
 Session materials: https://datatracker.ietf.org/meeting/67/session/nemo\n
 \n
 See in schedule: https://datatracker.ietf.org/meeting/67/agenda#row-67-2006-11-09-thu-1510-int-nemo\n
END:VEVENT
BEGIN:VEVENT
UID:ietf-67-342-monami6
SUMMARY:monami6 - Mobile Nodes and Multiple Interfaces in IPv6
LOCATION:Harbor Island II
STATUS:CONFIRMED
CLASS:PUBLIC
DTSTART;TZID=America/Los_Angeles:20061110T090000
DTEND;TZID=America/Los_Angeles:20061110T113000
DTSTAMP:20161222T095711Z
URL:https://datatracker.ietf.org/meeting/67/materials/agenda-67-monami6
DESCRIPTION:Morning Session I\n
 \n
 Agenda https://datatracker.ietf.org/meeting/67/materials/agenda-67-monami6\n
 \n
 Session materials: https://datatracker.ietf.org/meeting/67/session/monami6\n
 \n
 See in schedule: https://datatracker.ietf.org/meeting/67/agenda#row-67-2006-11-10-fri-0900-int-monami6\n
END:VEVENT
END:VCALENDAR
