BEGIN:VCALENDAR
VERSION:2.0
METHOD:PUBLISH
PRODID:-//IETF//datatracker.ietf.org ical agenda//EN
BEGIN:VTIMEZONE
TZID:America/Los_Angeles
X-LIC-LOCATION:America/Los_Angeles
BEGIN:DAYLIGHT
TZOFFSETFROM:-0800
TZOFFSETTO:-0700
TZNAME:PDT
DTSTART:20070311T020000
RRULE:FREQ=YEARLY;BYMONTH=3;BYDAY=2SU
END:DAYLIGHT
BEGIN:STANDARD
TZOFFSETFROM:-0700
TZOFFSETTO:-0800
TZNAME:PST
DTSTART:20071104T020000
RRULE:FREQ=YEARLY;BYMONTH=11;BYDAY=1SU
END:STANDARD
BEGIN:STANDARD
TZOFFSETFROM:-075258
TZOFFSETTO:-0800
TZNAME:PST
DTSTART:18831118T120702
RDATE:18831118T120702
END:STANDARD
BEGIN:DAYLIGHT
TZOFFSETFROM:-0800
TZOFFSETTO:-0700
TZNAME:PDT
DTSTART:19180331T020000
RDATE:19180331T020000
RDATE:19190330T020000
RDATE:19480314T020000
RDATE:19500430T020000
RDATE:19510429T020000
RDATE:19520427T020000
RDATE:19530426T020000
RDATE:19540425T020000
RDATE:19550424T020000
RDATE:19560429T020000
RDATE:19570428T020000
RDATE:19580427T020000
RDATE:19590426T020000
RDATE:19600424T020000
RDATE:19610430T020000
RDATE:19620429T020000
RDATE:19630428T020000
RDATE:19640426T020000
RDATE:19650425T020000
RDATE:19660424T020000
RDATE:19670430T020000
RDATE:19680428T020000
RDATE:19690427T020000
RDATE:19700426T020000
RDATE:19710425T020000
RDATE:19720430T020000
RDATE:19730429T020000
RDATE:19740106T020000
RDATE:19750223T020000
RDATE:19760425T020000
RDATE:19770424T020000
RDATE:19780430T020000
RDATE:19790429T020000
RDATE:19800427T020000
RDATE:19810426T020000
RDATE:19820425T020000
RDATE:19830424T020000
RDATE:19840429T020000
RDATE:19850428T020000
RDATE:19860427T020000
RDATE:19870405T020000
RDATE:19880403T020000
RDATE:19890402T020000
RDATE:19900401T020000
RDATE:19910407T020000
RDATE:19920405T020000
RDATE:19930404T020000
RDATE:19940403T020000
RDATE:19950402T020000
RDATE:19960407T020000
RDATE:19970406T020000
RDATE:19980405T020000
RDATE:19990404T020000
RDATE:20000402T020000
RDATE:20010401T020000
RDATE:20020407T020000
RDATE:20030406T020000
RDATE:20040404T020000
RDATE:20050403T020000
RDATE:20060402T020000
END:DAYLIGHT
BEGIN:STANDARD
TZOFFSETFROM:-0700
TZOFFSETTO:-0800
TZNAME:PST
DTSTART:19181027T020000
RDATE:19181027T020000
RDATE:19191026T020000
RDATE:19450930T020000
RDATE:19490101T020000
RDATE:19500924T020000
RDATE:19510930T020000
RDATE:19520928T020000
RDATE:19530927T020000
RDATE:19540926T020000
RDATE:19550925T020000
RDATE:19560930T020000
RDATE:19570929T020000
RDATE:19580928T020000
RDATE:19590927T020000
RDATE:19600925T020000
RDATE:19610924T020000
RDATE:19621028T020000
RDATE:19631027T020000
RDATE:19641025T020000
RDATE:19651031T020000
RDATE:19661030T020000
RDATE:19671029T020000
RDATE:19681027T020000
RDATE:19691026T020000
RDATE:19701025T020000
RDATE:19711031T020000
RDATE:19721029T020000
RDATE:19731028T020000
RDATE:19741027T020000
RDATE:19751026T020000
RDATE:19761031T020000
RDATE:19771030T020000
RDATE:19781029T020000
RDATE:19791028T020000
RDATE:19801026T020000
RDATE:19811025T020000
RDATE:19821031T020000
RDATE:19831030T020000
RDATE:19841028T020000
RDATE:19851027T020000
RDATE:19861026T020000
RDATE:19871025T020000
RDATE:19881030T020000
RDATE:19891029T020000
RDATE:19901028T020000
RDATE:19911027T020000
RDATE:19921025T020000
RDATE:19931031T020000
RDATE:19941030T020000
RDATE:19951029T020000
RDATE:19961027T020000
RDATE:19971026T020000
RDATE:19981025T020000
RDATE:19991031T020000
RDATE:20001029T020000
RDATE:20011028T020000
RDATE:20021027T020000
RDATE:20031026T020000
RDATE:20041031T020000
RDATE:20051030T020000
RDATE:20061029T020000
END:STANDARD
BEGIN:DAYLIGHT
TZOFFSETFROM:-0800
TZOFFSETTO:-0700
TZNAME:PWT
DTSTART:19420209T020000
RDATE:19420209T020000
END:DAYLIGHT
BEGIN:DAYLIGHT
TZOFFSETFROM:-0700
TZOFFSETTO:-0700
TZNAME:PPT
DTSTART:19450814T160000
RDATE:19450814T160000
END:DAYLIGHT
BEGIN:STANDARD
TZOFFSETFROM:-0800
TZOFFSETTO:-0800
TZNAME:PST
DTSTART:19460101T000000
RDATE:19460101T000000
RDATE:19670101T000000
END:STANDARD
END:VTIMEZONE
BEGIN:VEVENT
UID:ietf-67-290-ccamp
SUMMARY:ccamp - Common Control and Measurement Plane
LOCATION:Harbor Island I
STATUS:CONFIRMED
CLASS:PUBLIC
DTSTART;TZID=America/Los_Angeles:20061106T090000
DTEND;TZID=America/Los_Angeles:20061106T113000
DTSTAMP:20161222T095711Z
URL:https://datatracker.ietf.org/meeting/67/materials/agenda-67-ccamp
DESCRIPTION:Morning Session I\n
 \n
 Agenda https://datatracker.ietf.org/meeting/67/materials/agenda-67-ccamp\n
 \n
 Session materials: https://datatracker.ietf.org/meeting/67/session/ccamp\n
 \n
 See in schedule: https://datatracker.ietf.org/meeting/67/agenda#row-67-2006-11-06-mon-0900-rtg-ccamp\n
END:VEVENT
BEGIN:VEVENT
UID:ietf-67-313-manet
SUMMARY:manet - Mobile Ad-hoc Networks
LOCATION:Harbor Island III
STATUS:CONFIRMED
CLASS:PUBLIC
DTSTART;TZID=America/Los_Angeles:20061106T090000
DTEND;TZID=America/Los_Angeles:20061106T113000
DTSTAMP:20161222T095711Z
URL:https://datatracker.ietf.org/meeting/67/materials/agenda-67-manet
DESCRIPTION:Morning Session I\n
 \n
 Agenda https://datatracker.ietf.org/meeting/67/materials/agenda-67-manet\n
 \n
 Session materials: https://datatracker.ietf.org/meeting/67/session/manet\n
 \n
 See in schedule: https://datatracker.ietf.org/meeting/67/agenda#row-67-2006-11-06-mon-0900-rtg-manet\n
END:VEVENT
BEGIN:VEVENT
UID:ietf-67-355-l2vpn
SUMMARY:l2vpn - Layer 2 Virtual Private Networks
LOCATION:Grande Ballroom B
STATUS:CONFIRMED
CLASS:PUBLIC
DTSTART;TZID=America/Los_Angeles:20061106T130000
DTEND;TZID=America/Los_Angeles:20061106T150000
DTSTAMP:20161222T095711Z
URL:https://datatracker.ietf.org/meeting/67/materials/agenda-67-l2vpn
DESCRIPTION:Afternoon Session I\n
 \n
 Agenda https://datatracker.ietf.org/meeting/67/materials/agenda-67-l2vpn\n
 \n
 Session materials: https://datatracker.ietf.org/meeting/67/session/l2vpn\n
 \n
 See in schedule: https://datatracker.ietf.org/meeting/67/agenda#row-67-2006-11-06-mon-1300-rtg-l2vpn\n
END:VEVENT
BEGIN:VEVENT
UID:ietf-67-276-rtgwg
SUMMARY:rtgwg - Routing Area Working Group (Moved from Tuesday at 1300-1500)
LOCATION:Harbor Island II
STATUS:CONFIRMED
CLASS:PUBLIC
DTSTART;TZID=America/Los_Angeles:20061106T152000
DTEND;TZID=America/Los_Angeles:20061106T172000
DTSTAMP:20161222T095711Z
URL:https://datatracker.ietf.org/meeting/67/materials/agenda-67-rtgwg
DESCRIPTION:Afternoon Session II\n
 Note: Moved from Tuesday at 1300-1500\n
 \n
 Agenda https://datatracker.ietf.org/meeting/67/materials/agenda-67-rtgwg\n
 \n
 Session materials: https://datatracker.ietf.org/meeting/67/session/rtgwg\n
 \n
 See in schedule: https://datatracker.ietf.org/meeting/67/agenda#row-67-2006-11-06-mon-1520-rtg-rtgwg\n
END:VEVENT
BEGIN:VEVENT
UID:ietf-67-268-pim
SUMMARY:pim - Protocol Independent Multicast
LOCATION:Harbor Island I
STATUS:CONFIRMED
CLASS:PUBLIC
DTSTART;TZID=America/Los_Angeles:20061106T174000
DTEND;TZID=America/Los_Angeles:20061106T195000
DTSTAMP:20161222T095711Z
URL:https://datatracker.ietf.org/meeting/67/materials/agenda-67-pim
DESCRIPTION:Afternoon Session III\n
 \n
 Agenda https://datatracker.ietf.org/meeting/67/materials/agenda-67-pim\n
 \n
 Session materials: https://datatracker.ietf.org/meeting/67/session/pim\n
 \n
 See in schedule: https://datatracker.ietf.org/meeting/67/agenda#row-67-2006-11-06-mon-1740-rtg-pim\n
END:VEVENT
BEGIN:VEVENT
UID:ietf-67-272-forces
SUMMARY:forces - Forwarding and Control Element Separation (Moved from Monday at 1520-1720)
LOCATION:Harbor Island III
STATUS:CONFIRMED
CLASS:PUBLIC
DTSTART;TZID=America/Los_Angeles:20061107T130000
DTEND;TZID=America/Los_Angeles:20061107T150000
DTSTAMP:20161222T095711Z
URL:https://datatracker.ietf.org/meeting/67/materials/agenda-67-forces
DESCRIPTION:Afternoon Session I\n
 Note: Moved from Monday at 1520-1720\n
 \n
 Agenda https://datatracker.ietf.org/meeting/67/materials/agenda-67-forces\n
 \n
 Session materials: https://datatracker.ietf.org/meeting/67/session/forces\n
 \n
 See in schedule: https://datatracker.ietf.org/meeting/67/agenda#row-67-2006-11-07-tue-1300-rtg-forces\n
END:VEVENT
BEGIN:VEVENT
UID:ietf-67-358-l3vpn
SUMMARY:l3vpn - Layer 3 Virtual Private Networks
LOCATION:Grande Ballroom C
STATUS:CONFIRMED
CLASS:PUBLIC
DTSTART;TZID=America/Los_Angeles:20061107T130000
DTEND;TZID=America/Los_Angeles:20061107T150000
DTSTAMP:20161222T095711Z
URL:https://datatracker.ietf.org/meeting/67/materials/agenda-67-l3vpn
DESCRIPTION:Afternoon Session I\n
 \n
 Agenda https://datatracker.ietf.org/meeting/67/materials/agenda-67-l3vpn\n
 \n
 Session materials: https://datatracker.ietf.org/meeting/67/session/l3vpn\n
 \n
 See in schedule: https://datatracker.ietf.org/meeting/67/agenda#row-67-2006-11-07-tue-1300-rtg-l3vpn\n
END:VEVENT
BEGIN:VEVENT
UID:ietf-67-311-pce
SUMMARY:pce - Path Computation Element
LOCATION:Grande Ballroom A
STATUS:CONFIRMED
CLASS:PUBLIC
DTSTART;TZID=America/Los_Angeles:20061107T152000
DTEND;TZID=America/Los_Angeles:20061107T172000
DTSTAMP:20161222T095711Z
URL:https://datatracker.ietf.org/meeting/67/materials/agenda-67-pce
DESCRIPTION:Afternoon Session II\n
 \n
 Agenda https://datatracker.ietf.org/meeting/67/materials/agenda-67-pce\n
 \n
 Session materials: https://datatracker.ietf.org/meeting/67/session/pce\n
 \n
 See in schedule: https://datatracker.ietf.org/meeting/67/agenda#row-67-2006-11-07-tue-1520-rtg-pce\n
END:VEVENT
BEGIN:VEVENT
UID:ietf-67-297-ospf
SUMMARY:ospf - Open Shortest Path First IGP
LOCATION:Harbor Island III
STATUS:CONFIRMED
CLASS:PUBLIC
DTSTART;TZID=America/Los_Angeles:20061107T174000
DTEND;TZID=America/Los_Angeles:20061107T184000
DTSTAMP:20161222T095711Z
URL:https://datatracker.ietf.org/meeting/67/materials/agenda-67-ospf
DESCRIPTION:Afternoon Session III\n
 \n
 Agenda https://datatracker.ietf.org/meeting/67/materials/agenda-67-ospf\n
 \n
 Session materials: https://datatracker.ietf.org/meeting/67/session/ospf\n
 \n
 See in schedule: https://datatracker.ietf.org/meeting/67/agenda#row-67-2006-11-07-tue-1740-rtg-ospf\n
END:VEVENT
BEGIN:VEVENT
UID:ietf-67-314-pwe3
SUMMARY:pwe3 - Pseudowire Emulation Edge to Edge
LOCATION:Grande Ballroom A
STATUS:CONFIRMED
CLASS:PUBLIC
DTSTART;TZID=America/Los_Angeles:20061107T174000
DTEND;TZID=America/Los_Angeles:20061107T184000
DTSTAMP:20161222T095711Z
URL:https://datatracker.ietf.org/meeting/67/materials/agenda-67-pwe3
DESCRIPTION:Afternoon Session III\n
 \n
 Agenda https://datatracker.ietf.org/meeting/67/materials/agenda-67-pwe3\n
 \n
 Session materials: https://datatracker.ietf.org/meeting/67/session/pwe3\n
 \n
 See in schedule: https://datatracker.ietf.org/meeting/67/agenda#row-67-2006-11-07-tue-1740-rtg-pwe3\n
END:VEVENT
BEGIN:VEVENT
UID:ietf-67-298-ospf
SUMMARY:ospf - Open Shortest Path First IGP
LOCATION:Harbor Island III
STATUS:CONFIRMED
CLASS:PUBLIC
DTSTART;TZID=America/Los_Angeles:20061107T185000
DTEND;TZID=America/Los_Angeles:20061107T195000
DTSTAMP:20161222T095711Z
URL:https://datatracker.ietf.org/meeting/67/materials/agenda-67-ospf
DESCRIPTION:Afternoon Session IV\n
 \n
 Agenda https://datatracker.ietf.org/meeting/67/materials/agenda-67-ospf\n
 \n
 Session materials: https://datatracker.ietf.org/meeting/67/session/ospf\n
 \n
 See in schedule: https://datatracker.ietf.org/meeting/67/agenda#row-67-2006-11-07-tue-1850-rtg-ospf\n
END:VEVENT
BEGIN:VEVENT
UID:ietf-67-315-pwe3
SUMMARY:pwe3 - Pseudowire Emulation Edge to Edge
LOCATION:Grande Ballroom A
STATUS:CONFIRMED
CLASS:PUBLIC
DTSTART;TZID=America/Los_Angeles:20061107T185000
DTEND;TZID=America/Los_Angeles:20061107T195000
DTSTAMP:20161222T095711Z
URL:https://datatracker.ietf.org/meeting/67/materials/agenda-67-pwe3
DESCRIPTION:Afternoon Session IV\n
 \n
 Agenda https://datatracker.ietf.org/meeting/67/materials/agenda-67-pwe3\n
 \n
 Session materials: https://datatracker.ietf.org/meeting/67/session/pwe3\n
 \n
 See in schedule: https://datatracker.ietf.org/meeting/67/agenda#row-67-2006-11-07-tue-1850-rtg-pwe3\n
END:VEVENT
BEGIN:VEVENT
UID:ietf-67-347-mpls
SUMMARY:mpls - Multiprotocol Label Switching
LOCATION:Grande Ballroom B
STATUS:CONFIRMED
CLASS:PUBLIC
DTSTART;TZID=America/Los_Angeles:20061108T090000
DTEND;TZID=America/Los_Angeles:20061108T113000
DTSTAMP:20161222T095711Z
URL:https://datatracker.ietf.org/meeting/67/materials/agenda-67-mpls
DESCRIPTION:Morning Session I\n
 \n
 Agenda https://datatracker.ietf.org/meeting/67/materials/agenda-67-mpls\n
 \n
 Session materials: https://datatracker.ietf.org/meeting/67/session/mpls\n
 \n
 See in schedule: https://datatracker.ietf.org/meeting/67/agenda#row-67-2006-11-08-wed-0900-rtg-mpls\n
END:VEVENT
BEGIN:VEVENT
UID:ietf-67-319-sidr
SUMMARY:sidr - Secure Inter-Domain Routing
LOCATION:Harbor Island III
STATUS:CONFIRMED
CLASS:PUBLIC
DTSTART;TZID=America/Los_Angeles:20061108T090000
DTEND;TZID=America/Los_Angeles:20061108T113000
DTSTAMP:20161222T095711Z
URL:https://datatracker.ietf.org/meeting/67/materials/agenda-67-sidr
DESCRIPTION:Morning Session I\n
 \n
 Agenda https://datatracker.ietf.org/meeting/67/materials/agenda-67-sidr\n
 \n
 Session materials: https://datatracker.ietf.org/meeting/67/session/sidr\n
 \n
 See in schedule: https://datatracker.ietf.org/meeting/67/agenda#row-67-2006-11-08-wed-0900-rtg-sidr\n
END:VEVENT
BEGIN:VEVENT
UID:ietf-67-307-idr
SUMMARY:idr - Inter-Domain Routing
LOCATION:Harbor Island II
STATUS:CONFIRMED
CLASS:PUBLIC
DTSTART;TZID=America/Los_Angeles:20061108T130000
DTEND;TZID=America/Los_Angeles:20061108T150000
DTSTAMP:20161222T095711Z
URL:https://datatracker.ietf.org/meeting/67/materials/agenda-67-idr
DESCRIPTION:Afternoon Session I\n
 \n
 Agenda https://datatracker.ietf.org/meeting/67/materials/agenda-67-idr\n
 \n
 Session materials: https://datatracker.ietf.org/meeting/67/session/idr\n
 \n
 See in schedule: https://datatracker.ietf.org/meeting/67/agenda#row-67-2006-11-08-wed-1300-rtg-idr\n
END:VEVENT
BEGIN:VEVENT
UID:ietf-67-305-rtgarea
SUMMARY:rtgarea - Routing Area Open Meeting (CANCELLED)
LOCATION:Harbor Island II
STATUS:CONFIRMED
CLASS:PUBLIC
DTSTART;TZID=America/Los_Angeles:20061109T090000
DTEND;TZID=America/Los_Angeles:20061109T113000
DTSTAMP:20161222T095711Z
URL:https://datatracker.ietf.org/meeting/67/materials/agenda-67-rtgarea
DESCRIPTION:Morning Session I\n
 Note: CANCELLED\n
 \n
 Agenda https://datatracker.ietf.org/meeting/67/materials/agenda-67-rtgarea\n
 \n
 Session materials: https://datatracker.ietf.org/meeting/67/session/rtgarea\n
 \n
 See in schedule: https://datatracker.ietf.org/meeting/67/agenda#row-67-2006-11-09-thu-0900-rtg-rtgarea\n
END:VEVENT
BEGIN:VEVENT
UID:ietf-67-312-l1vpn
SUMMARY:l1vpn - Layer 1 Virtual Private Networks
LOCATION:Harbor Island I
STATUS:CONFIRMED
CLASS:PUBLIC
DTSTART;TZID=America/Los_Angeles:20061109T130000
DTEND;TZID=America/Los_Angeles:20061109T150000
DTSTAMP:20161222T095711Z
URL:https://datatracker.ietf.org/meeting/67/materials/agenda-67-l1vpn
DESCRIPTION:Afternoon Session I\n
 \n
 Agenda https://datatracker.ietf.org/meeting/67/materials/agenda-67-l1vpn\n
 \n
 Session materials: https://datatracker.ietf.org/meeting/67/session/l1vpn\n
 \n
 See in schedule: https://datatracker.ietf.org/meeting/67/agenda#row-67-2006-11-09-thu-1300-rtg-l1vpn\n
END:VEVENT
BEGIN:VEVENT
UID:ietf-67-361-isis
SUMMARY:isis - IS-IS for IP Internets (CANCELLED)
LOCATION:Harbor Island III
STATUS:CONFIRMED
CLASS:PUBLIC
DTSTART;TZID=America/Los_Angeles:20061109T151000
DTEND;TZID=America/Los_Angeles:20061109T161000
DTSTAMP:20161222T095711Z
DESCRIPTION:Afternoon Session II\n
 Note: CANCELLED\n
 \n
 Session materials: https://datatracker.ietf.org/meeting/67/session/isis\n
 \n
 See in schedule: https://datatracker.ietf.org/meeting/67/agenda#row-67-2006-11-09-thu-1510-rtg-isis\n
END:VEVENT
END:VCALENDAR
