BEGIN:VCALENDAR
VERSION:2.0
METHOD:PUBLISH
PRODID:-//IETF//datatracker.ietf.org ical agenda//EN
BEGIN:VTIMEZONE
TZID:America/Los_Angeles
X-LIC-LOCATION:America/Los_Angeles
BEGIN:DAYLIGHT
TZOFFSETFROM:-0800
TZOFFSETTO:-0700
TZNAME:PDT
DTSTART:20070311T020000
RRULE:FREQ=YEARLY;BYMONTH=3;BYDAY=2SU
END:DAYLIGHT
BEGIN:STANDARD
TZOFFSETFROM:-0700
TZOFFSETTO:-0800
TZNAME:PST
DTSTART:20071104T020000
RRULE:FREQ=YEARLY;BYMONTH=11;BYDAY=1SU
END:STANDARD
BEGIN:STANDARD
TZOFFSETFROM:-075258
TZOFFSETTO:-0800
TZNAME:PST
DTSTART:18831118T120702
RDATE:18831118T120702
END:STANDARD
BEGIN:DAYLIGHT
TZOFFSETFROM:-0800
TZOFFSETTO:-0700
TZNAME:PDT
DTSTART:19180331T020000
RDATE:19180331T020000
RDATE:19190330T020000
RDATE:19480314T020000
RDATE:19500430T020000
RDATE:19510429T020000
RDATE:19520427T020000
RDATE:19530426T020000
RDATE:19540425T020000
RDATE:19550424T020000
RDATE:19560429T020000
RDATE:19570428T020000
RDATE:19580427T020000
RDATE:19590426T020000
RDATE:19600424T020000
RDATE:19610430T020000
RDATE:19620429T020000
RDATE:19630428T020000
RDATE:19640426T020000
RDATE:19650425T020000
RDATE:19660424T020000
RDATE:19670430T020000
RDATE:19680428T020000
RDATE:19690427T020000
RDATE:19700426T020000
RDATE:19710425T020000
RDATE:19720430T020000
RDATE:19730429T020000
RDATE:19740106T020000
RDATE:19750223T020000
RDATE:19760425T020000
RDATE:19770424T020000
RDATE:19780430T020000
RDATE:19790429T020000
RDATE:19800427T020000
RDATE:19810426T020000
RDATE:19820425T020000
RDATE:19830424T020000
RDATE:19840429T020000
RDATE:19850428T020000
RDATE:19860427T020000
RDATE:19870405T020000
RDATE:19880403T020000
RDATE:19890402T020000
RDATE:19900401T020000
RDATE:19910407T020000
RDATE:19920405T020000
RDATE:19930404T020000
RDATE:19940403T020000
RDATE:19950402T020000
RDATE:19960407T020000
RDATE:19970406T020000
RDATE:19980405T020000
RDATE:19990404T020000
RDATE:20000402T020000
RDATE:20010401T020000
RDATE:20020407T020000
RDATE:20030406T020000
RDATE:20040404T020000
RDATE:20050403T020000
RDATE:20060402T020000
END:DAYLIGHT
BEGIN:STANDARD
TZOFFSETFROM:-0700
TZOFFSETTO:-0800
TZNAME:PST
DTSTART:19181027T020000
RDATE:19181027T020000
RDATE:19191026T020000
RDATE:19450930T020000
RDATE:19490101T020000
RDATE:19500924T020000
RDATE:19510930T020000
RDATE:19520928T020000
RDATE:19530927T020000
RDATE:19540926T020000
RDATE:19550925T020000
RDATE:19560930T020000
RDATE:19570929T020000
RDATE:19580928T020000
RDATE:19590927T020000
RDATE:19600925T020000
RDATE:19610924T020000
RDATE:19621028T020000
RDATE:19631027T020000
RDATE:19641025T020000
RDATE:19651031T020000
RDATE:19661030T020000
RDATE:19671029T020000
RDATE:19681027T020000
RDATE:19691026T020000
RDATE:19701025T020000
RDATE:19711031T020000
RDATE:19721029T020000
RDATE:19731028T020000
RDATE:19741027T020000
RDATE:19751026T020000
RDATE:19761031T020000
RDATE:19771030T020000
RDATE:19781029T020000
RDATE:19791028T020000
RDATE:19801026T020000
RDATE:19811025T020000
RDATE:19821031T020000
RDATE:19831030T020000
RDATE:19841028T020000
RDATE:19851027T020000
RDATE:19861026T020000
RDATE:19871025T020000
RDATE:19881030T020000
RDATE:19891029T020000
RDATE:19901028T020000
RDATE:19911027T020000
RDATE:19921025T020000
RDATE:19931031T020000
RDATE:19941030T020000
RDATE:19951029T020000
RDATE:19961027T020000
RDATE:19971026T020000
RDATE:19981025T020000
RDATE:19991031T020000
RDATE:20001029T020000
RDATE:20011028T020000
RDATE:20021027T020000
RDATE:20031026T020000
RDATE:20041031T020000
RDATE:20051030T020000
RDATE:20061029T020000
END:STANDARD
BEGIN:DAYLIGHT
TZOFFSETFROM:-0800
TZOFFSETTO:-0700
TZNAME:PWT
DTSTART:19420209T020000
RDATE:19420209T020000
END:DAYLIGHT
BEGIN:DAYLIGHT
TZOFFSETFROM:-0700
TZOFFSETTO:-0700
TZNAME:PPT
DTSTART:19450814T160000
RDATE:19450814T160000
END:DAYLIGHT
BEGIN:STANDARD
TZOFFSETFROM:-0800
TZOFFSETTO:-0800
TZNAME:PST
DTSTART:19460101T000000
RDATE:19460101T000000
RDATE:19670101T000000
END:STANDARD
END:VTIMEZONE
BEGIN:VEVENT
UID:ietf-67-365-spkm
SUMMARY:spkm - NFSv4 and Low Infrastructure Public Key Based GSS Security Mechanisms
LOCATION:Grande Ballroom B
STATUS:CONFIRMED
CLASS:PUBLIC
DTSTART;TZID=America/Los_Angeles:20061106T090000
DTEND;TZID=America/Los_Angeles:20061106T113000
DTSTAMP:20161222T095711Z
URL:https://datatracker.ietf.org/meeting/67/materials/agenda-67-spkm
DESCRIPTION:Morning Session I\n
 \n
 Agenda https://datatracker.ietf.org/meeting/67/materials/agenda-67-spkm\n
 \n
 Session materials: https://datatracker.ietf.org/meeting/67/session/spkm\n
 \n
 See in schedule: https://datatracker.ietf.org/meeting/67/agenda#row-67-2006-11-06-mon-0900-sec-spkm\n
END:VEVENT
BEGIN:VEVENT
UID:ietf-67-327-emu
SUMMARY:emu - EAP Method Update
LOCATION:Harbor Island I
STATUS:CONFIRMED
CLASS:PUBLIC
DTSTART;TZID=America/Los_Angeles:20061106T130000
DTEND;TZID=America/Los_Angeles:20061106T150000
DTSTAMP:20161222T095711Z
URL:https://datatracker.ietf.org/meeting/67/materials/agenda-67-emu
DESCRIPTION:Afternoon Session I\n
 \n
 Agenda https://datatracker.ietf.org/meeting/67/materials/agenda-67-emu\n
 \n
 Session materials: https://datatracker.ietf.org/meeting/67/session/emu\n
 \n
 See in schedule: https://datatracker.ietf.org/meeting/67/agenda#row-67-2006-11-06-mon-1300-sec-emu\n
END:VEVENT
BEGIN:VEVENT
UID:ietf-67-325-msec
SUMMARY:msec - Multicast Security
LOCATION:Harbor Island I
STATUS:CONFIRMED
CLASS:PUBLIC
DTSTART;TZID=America/Los_Angeles:20061106T152000
DTEND;TZID=America/Los_Angeles:20061106T172000
DTSTAMP:20161222T095711Z
URL:https://datatracker.ietf.org/meeting/67/materials/agenda-67-msec
DESCRIPTION:Afternoon Session II\n
 \n
 Agenda https://datatracker.ietf.org/meeting/67/materials/agenda-67-msec\n
 \n
 Session materials: https://datatracker.ietf.org/meeting/67/session/msec\n
 \n
 See in schedule: https://datatracker.ietf.org/meeting/67/agenda#row-67-2006-11-06-mon-1520-sec-msec\n
END:VEVENT
BEGIN:VEVENT
UID:ietf-67-286-btns
SUMMARY:btns - Better-Than-Nothing Security
LOCATION:Harbor Island III
STATUS:CONFIRMED
CLASS:PUBLIC
DTSTART;TZID=America/Los_Angeles:20061106T174000
DTEND;TZID=America/Los_Angeles:20061106T195000
DTSTAMP:20161222T095711Z
URL:https://datatracker.ietf.org/meeting/67/materials/agenda-67-btns
DESCRIPTION:Afternoon Session III\n
 \n
 Agenda https://datatracker.ietf.org/meeting/67/materials/agenda-67-btns\n
 \n
 Session materials: https://datatracker.ietf.org/meeting/67/session/btns\n
 \n
 See in schedule: https://datatracker.ietf.org/meeting/67/agenda#row-67-2006-11-06-mon-1740-sec-btns\n
END:VEVENT
BEGIN:VEVENT
UID:ietf-67-338-dkim
SUMMARY:dkim - Domain Keys Identified Mail
LOCATION:Grande Ballroom B
STATUS:CONFIRMED
CLASS:PUBLIC
DTSTART;TZID=America/Los_Angeles:20061107T090000
DTEND;TZID=America/Los_Angeles:20061107T113000
DTSTAMP:20161222T095711Z
URL:https://datatracker.ietf.org/meeting/67/materials/agenda-67-dkim
DESCRIPTION:Morning Session I\n
 \n
 Agenda https://datatracker.ietf.org/meeting/67/materials/agenda-67-dkim\n
 \n
 Session materials: https://datatracker.ietf.org/meeting/67/session/dkim\n
 \n
 See in schedule: https://datatracker.ietf.org/meeting/67/agenda#row-67-2006-11-07-tue-0900-sec-dkim\n
END:VEVENT
BEGIN:VEVENT
UID:ietf-67-352-krb-wg
SUMMARY:krb-wg - Kerberos
LOCATION:Seabreeze
STATUS:CONFIRMED
CLASS:PUBLIC
DTSTART;TZID=America/Los_Angeles:20061107T130000
DTEND;TZID=America/Los_Angeles:20061107T150000
DTSTAMP:20161222T095711Z
URL:https://datatracker.ietf.org/meeting/67/materials/agenda-67-krb-wg
DESCRIPTION:Afternoon Session I\n
 \n
 Agenda https://datatracker.ietf.org/meeting/67/materials/agenda-67-krb-wg\n
 \n
 Session materials: https://datatracker.ietf.org/meeting/67/session/krb-wg\n
 \n
 See in schedule: https://datatracker.ietf.org/meeting/67/agenda#row-67-2006-11-07-tue-1300-sec-krb-wg\n
END:VEVENT
BEGIN:VEVENT
UID:ietf-67-344-kitten
SUMMARY:kitten - Common Authentication Technology Next Generation
LOCATION:Seabreeze
STATUS:CONFIRMED
CLASS:PUBLIC
DTSTART;TZID=America/Los_Angeles:20061107T152000
DTEND;TZID=America/Los_Angeles:20061107T172000
DTSTAMP:20161222T095711Z
URL:https://datatracker.ietf.org/meeting/67/materials/agenda-67-kitten
DESCRIPTION:Afternoon Session II\n
 \n
 Agenda https://datatracker.ietf.org/meeting/67/materials/agenda-67-kitten\n
 \n
 Session materials: https://datatracker.ietf.org/meeting/67/session/kitten\n
 \n
 See in schedule: https://datatracker.ietf.org/meeting/67/agenda#row-67-2006-11-07-tue-1520-sec-kitten\n
END:VEVENT
BEGIN:VEVENT
UID:ietf-67-370-nea
SUMMARY:nea - Network Endpoint Assessment
LOCATION:Harbor Island I
STATUS:CONFIRMED
CLASS:PUBLIC
DTSTART;TZID=America/Los_Angeles:20061107T152000
DTEND;TZID=America/Los_Angeles:20061107T172000
DTSTAMP:20161222T095711Z
URL:https://datatracker.ietf.org/meeting/67/materials/agenda-67-nea
DESCRIPTION:Afternoon Session II\n
 \n
 Agenda https://datatracker.ietf.org/meeting/67/materials/agenda-67-nea\n
 \n
 Session materials: https://datatracker.ietf.org/meeting/67/session/nea\n
 \n
 See in schedule: https://datatracker.ietf.org/meeting/67/agenda#row-67-2006-11-07-tue-1520-sec-nea\n
END:VEVENT
BEGIN:VEVENT
UID:ietf-67-372-hokey
SUMMARY:hokey - Handover Keying
LOCATION:Harbor Island I
STATUS:CONFIRMED
CLASS:PUBLIC
DTSTART;TZID=America/Los_Angeles:20061107T174000
DTEND;TZID=America/Los_Angeles:20061107T184000
DTSTAMP:20161222T095711Z
URL:https://datatracker.ietf.org/meeting/67/materials/agenda-67-hokey
DESCRIPTION:Afternoon Session III\n
 \n
 Agenda https://datatracker.ietf.org/meeting/67/materials/agenda-67-hokey\n
 \n
 Session materials: https://datatracker.ietf.org/meeting/67/session/hokey\n
 \n
 See in schedule: https://datatracker.ietf.org/meeting/67/agenda#row-67-2006-11-07-tue-1740-sec-hokey\n
END:VEVENT
BEGIN:VEVENT
UID:ietf-67-323-sasl
SUMMARY:sasl - Simple Authentication and Security Layer
LOCATION:Spinnaker
STATUS:CONFIRMED
CLASS:PUBLIC
DTSTART;TZID=America/Los_Angeles:20061107T174000
DTEND;TZID=America/Los_Angeles:20061107T184000
DTSTAMP:20161222T095711Z
URL:https://datatracker.ietf.org/meeting/67/materials/agenda-67-sasl
DESCRIPTION:Afternoon Session III\n
 \n
 Agenda https://datatracker.ietf.org/meeting/67/materials/agenda-67-sasl\n
 \n
 Session materials: https://datatracker.ietf.org/meeting/67/session/sasl\n
 \n
 See in schedule: https://datatracker.ietf.org/meeting/67/agenda#row-67-2006-11-07-tue-1740-sec-sasl\n
END:VEVENT
BEGIN:VEVENT
UID:ietf-67-373-hokey
SUMMARY:hokey - Handover Keying
LOCATION:Harbor Island I
STATUS:CONFIRMED
CLASS:PUBLIC
DTSTART;TZID=America/Los_Angeles:20061107T185000
DTEND;TZID=America/Los_Angeles:20061107T195000
DTSTAMP:20161222T095711Z
URL:https://datatracker.ietf.org/meeting/67/materials/agenda-67-hokey
DESCRIPTION:Afternoon Session IV\n
 \n
 Agenda https://datatracker.ietf.org/meeting/67/materials/agenda-67-hokey\n
 \n
 Session materials: https://datatracker.ietf.org/meeting/67/session/hokey\n
 \n
 See in schedule: https://datatracker.ietf.org/meeting/67/agenda#row-67-2006-11-07-tue-1850-sec-hokey\n
END:VEVENT
BEGIN:VEVENT
UID:ietf-67-324-sasl
SUMMARY:sasl - Simple Authentication and Security Layer
LOCATION:Spinnaker
STATUS:CONFIRMED
CLASS:PUBLIC
DTSTART;TZID=America/Los_Angeles:20061107T185000
DTEND;TZID=America/Los_Angeles:20061107T195000
DTSTAMP:20161222T095711Z
URL:https://datatracker.ietf.org/meeting/67/materials/agenda-67-sasl
DESCRIPTION:Afternoon Session IV\n
 \n
 Agenda https://datatracker.ietf.org/meeting/67/materials/agenda-67-sasl\n
 \n
 Session materials: https://datatracker.ietf.org/meeting/67/session/sasl\n
 \n
 See in schedule: https://datatracker.ietf.org/meeting/67/agenda#row-67-2006-11-07-tue-1850-sec-sasl\n
END:VEVENT
BEGIN:VEVENT
UID:ietf-67-271-pkix
SUMMARY:pkix - Public-Key Infrastructure (X.509)
LOCATION:Harbor Island I
STATUS:CONFIRMED
CLASS:PUBLIC
DTSTART;TZID=America/Los_Angeles:20061108T130000
DTEND;TZID=America/Los_Angeles:20061108T150000
DTSTAMP:20161222T095711Z
URL:https://datatracker.ietf.org/meeting/67/materials/agenda-67-pkix
DESCRIPTION:Afternoon Session I\n
 \n
 Agenda https://datatracker.ietf.org/meeting/67/materials/agenda-67-pkix\n
 \n
 Session materials: https://datatracker.ietf.org/meeting/67/session/pkix\n
 \n
 See in schedule: https://datatracker.ietf.org/meeting/67/agenda#row-67-2006-11-08-wed-1300-sec-pkix\n
END:VEVENT
BEGIN:VEVENT
UID:ietf-67-343-smime
SUMMARY:smime - S/MIME Mail Security
LOCATION:Seabreeze
STATUS:CONFIRMED
CLASS:PUBLIC
DTSTART;TZID=America/Los_Angeles:20061108T151000
DTEND;TZID=America/Los_Angeles:20061108T161000
DTSTAMP:20161222T095711Z
URL:https://datatracker.ietf.org/meeting/67/materials/agenda-67-smime
DESCRIPTION:Afternoon Session II\n
 \n
 Agenda https://datatracker.ietf.org/meeting/67/materials/agenda-67-smime\n
 \n
 Session materials: https://datatracker.ietf.org/meeting/67/session/smime\n
 \n
 See in schedule: https://datatracker.ietf.org/meeting/67/agenda#row-67-2006-11-08-wed-1510-sec-smime\n
END:VEVENT
BEGIN:VEVENT
UID:ietf-67-384-keyprov
SUMMARY:keyprov - Provisioning of Symmetric Keys
LOCATION:Harbor Island I
STATUS:CONFIRMED
CLASS:PUBLIC
DTSTART;TZID=America/Los_Angeles:20061109T090000
DTEND;TZID=America/Los_Angeles:20061109T113000
DTSTAMP:20161222T095711Z
URL:https://datatracker.ietf.org/meeting/67/materials/agenda-67-keyprov
DESCRIPTION:Morning Session I\n
 \n
 Agenda https://datatracker.ietf.org/meeting/67/materials/agenda-67-keyprov\n
 \n
 Session materials: https://datatracker.ietf.org/meeting/67/session/keyprov\n
 \n
 See in schedule: https://datatracker.ietf.org/meeting/67/agenda#row-67-2006-11-09-thu-0900-sec-keyprov\n
END:VEVENT
BEGIN:VEVENT
UID:ietf-67-371-saag
SUMMARY:saag - Security Area Open Meeting
LOCATION:Grande Ballroom B
STATUS:CONFIRMED
CLASS:PUBLIC
DTSTART;TZID=America/Los_Angeles:20061109T130000
DTEND;TZID=America/Los_Angeles:20061109T150000
DTSTAMP:20161222T095711Z
URL:https://datatracker.ietf.org/meeting/67/materials/agenda-67-saag
DESCRIPTION:Afternoon Session I\n
 \n
 Agenda https://datatracker.ietf.org/meeting/67/materials/agenda-67-saag\n
 \n
 Session materials: https://datatracker.ietf.org/meeting/67/session/saag\n
 \n
 See in schedule: https://datatracker.ietf.org/meeting/67/agenda#row-67-2006-11-09-thu-1300-sec-saag\n
END:VEVENT
BEGIN:VEVENT
UID:ietf-67-336-tls
SUMMARY:tls - Transport Layer Security
LOCATION:Seabreeze
STATUS:CONFIRMED
CLASS:PUBLIC
DTSTART;TZID=America/Los_Angeles:20061110T090000
DTEND;TZID=America/Los_Angeles:20061110T113000
DTSTAMP:20161222T095711Z
URL:https://datatracker.ietf.org/meeting/67/materials/agenda-67-tls
DESCRIPTION:Morning Session I\n
 \n
 Agenda https://datatracker.ietf.org/meeting/67/materials/agenda-67-tls\n
 \n
 Session materials: https://datatracker.ietf.org/meeting/67/session/tls\n
 \n
 See in schedule: https://datatracker.ietf.org/meeting/67/agenda#row-67-2006-11-10-fri-0900-sec-tls\n
END:VEVENT
END:VCALENDAR
