BEGIN:VCALENDAR
VERSION:2.0
METHOD:PUBLISH
PRODID:-//IETF//datatracker.ietf.org ical agenda//EN
BEGIN:VTIMEZONE
TZID:Europe/Prague
X-LIC-LOCATION:Europe/Prague
BEGIN:DAYLIGHT
TZOFFSETFROM:+0100
TZOFFSETTO:+0200
TZNAME:CEST
DTSTART:19810329T020000
RRULE:FREQ=YEARLY;BYMONTH=3;BYDAY=-1SU
END:DAYLIGHT
BEGIN:STANDARD
TZOFFSETFROM:+0200
TZOFFSETTO:+0100
TZNAME:CET
DTSTART:19961027T030000
RRULE:FREQ=YEARLY;BYMONTH=10;BYDAY=-1SU
END:STANDARD
BEGIN:STANDARD
TZOFFSETFROM:+005744
TZOFFSETTO:+005744
TZNAME:PMT
DTSTART:18500101T000000
RDATE:18500101T000000
END:STANDARD
BEGIN:STANDARD
TZOFFSETFROM:+005744
TZOFFSETTO:+0100
TZNAME:CET
DTSTART:18911001T000000
RDATE:18911001T000000
END:STANDARD
BEGIN:DAYLIGHT
TZOFFSETFROM:+0100
TZOFFSETTO:+0200
TZNAME:CEST
DTSTART:19160430T230000
RDATE:19160430T230000
RDATE:19170416T020000
RDATE:19180415T020000
RDATE:19400401T020000
RDATE:19430329T020000
RDATE:19440403T020000
RDATE:19450408T020000
RDATE:19460506T020000
RDATE:19470420T020000
RDATE:19480418T020000
RDATE:19490409T020000
RDATE:19790401T020000
RDATE:19800406T020000
END:DAYLIGHT
BEGIN:STANDARD
TZOFFSETFROM:+0200
TZOFFSETTO:+0100
TZNAME:CET
DTSTART:19161001T010000
RDATE:19161001T010000
RDATE:19170917T030000
RDATE:19180916T030000
RDATE:19421102T030000
RDATE:19431004T030000
RDATE:19440917T030000
RDATE:19451118T030000
RDATE:19461006T030000
RDATE:19471005T030000
RDATE:19481003T030000
RDATE:19491002T030000
RDATE:19790930T030000
RDATE:19800928T030000
RDATE:19810927T030000
RDATE:19820926T030000
RDATE:19830925T030000
RDATE:19840930T030000
RDATE:19850929T030000
RDATE:19860928T030000
RDATE:19870927T030000
RDATE:19880925T030000
RDATE:19890924T030000
RDATE:19900930T030000
RDATE:19910929T030000
RDATE:19920927T030000
RDATE:19930926T030000
RDATE:19940925T030000
RDATE:19950924T030000
END:STANDARD
BEGIN:STANDARD
TZOFFSETFROM:+0100
TZOFFSETTO:+0100
TZNAME:CET
DTSTART:19790101T000000
RDATE:19790101T000000
END:STANDARD
END:VTIMEZONE
BEGIN:VEVENT
UID:ietf-68-464-apparea
SUMMARY:apparea - Applications Area Open Meeting
LOCATION:Congress I
STATUS:CONFIRMED
CLASS:PUBLIC
DTSTART;TZID=Europe/Prague:20070319T090000
DTEND;TZID=Europe/Prague:20070319T113000
DTSTAMP:20161222T095711Z
URL:https://datatracker.ietf.org/meeting/68/materials/agenda-68-apparea
DESCRIPTION:Morning Session I\n
 \n
 Agenda https://datatracker.ietf.org/meeting/68/materials/agenda-68-apparea\n
 \n
 Session materials: https://datatracker.ietf.org/meeting/68/session/apparea\n
 \n
 See in schedule: https://datatracker.ietf.org/meeting/68/agenda#row-68-2007-03-19-mon-0900-app-apparea\n
END:VEVENT
BEGIN:VEVENT
UID:ietf-68-394-sieve
SUMMARY:sieve - Sieve Mail Filtering Language
LOCATION:Karlin II
STATUS:CONFIRMED
CLASS:PUBLIC
DTSTART;TZID=Europe/Prague:20070319T130000
DTEND;TZID=Europe/Prague:20070319T150000
DTSTAMP:20161222T095711Z
URL:https://datatracker.ietf.org/meeting/68/materials/agenda-68-sieve
DESCRIPTION:Afternoon Session I\n
 \n
 Agenda https://datatracker.ietf.org/meeting/68/materials/agenda-68-sieve\n
 \n
 Session materials: https://datatracker.ietf.org/meeting/68/session/sieve\n
 \n
 See in schedule: https://datatracker.ietf.org/meeting/68/agenda#row-68-2007-03-19-mon-1300-app-sieve\n
END:VEVENT
BEGIN:VEVENT
UID:ietf-68-426-calsify
SUMMARY:calsify - Calendaring and Scheduling Standards Simplification
LOCATION:Roma/Vienna/Madrid
STATUS:CONFIRMED
CLASS:PUBLIC
DTSTART;TZID=Europe/Prague:20070319T152000
DTEND;TZID=Europe/Prague:20070319T172000
DTSTAMP:20161222T095711Z
URL:https://datatracker.ietf.org/meeting/68/materials/agenda-68-calsify
DESCRIPTION:Afternoon Session II\n
 \n
 Agenda https://datatracker.ietf.org/meeting/68/materials/agenda-68-calsify\n
 \n
 Session materials: https://datatracker.ietf.org/meeting/68/session/calsify\n
 \n
 See in schedule: https://datatracker.ietf.org/meeting/68/agenda#row-68-2007-03-19-mon-1520-app-calsify\n
END:VEVENT
BEGIN:VEVENT
UID:ietf-68-470-lemonade
SUMMARY:lemonade - Enhancements to Internet email to Support Diverse Service Environments
LOCATION:Karlin II
STATUS:CONFIRMED
CLASS:PUBLIC
DTSTART;TZID=Europe/Prague:20070319T174000
DTEND;TZID=Europe/Prague:20070319T195000
DTSTAMP:20161222T095711Z
URL:https://datatracker.ietf.org/meeting/68/materials/agenda-68-lemonade
DESCRIPTION:Afternoon Session III\n
 \n
 Agenda https://datatracker.ietf.org/meeting/68/materials/agenda-68-lemonade\n
 \n
 Session materials: https://datatracker.ietf.org/meeting/68/session/lemonade\n
 \n
 See in schedule: https://datatracker.ietf.org/meeting/68/agenda#row-68-2007-03-19-mon-1740-app-lemonade\n
END:VEVENT
BEGIN:VEVENT
UID:ietf-68-491-eai
SUMMARY:eai - Email Address Internationalization
LOCATION:Athens/Barcelona/Berlin
STATUS:CONFIRMED
CLASS:PUBLIC
DTSTART;TZID=Europe/Prague:20070320T152000
DTEND;TZID=Europe/Prague:20070320T172000
DTSTAMP:20161222T095711Z
URL:https://datatracker.ietf.org/meeting/68/materials/agenda-68-eai
DESCRIPTION:Afternoon Session II\n
 \n
 Agenda https://datatracker.ietf.org/meeting/68/materials/agenda-68-eai\n
 \n
 Session materials: https://datatracker.ietf.org/meeting/68/session/eai\n
 \n
 See in schedule: https://datatracker.ietf.org/meeting/68/agenda#row-68-2007-03-20-tue-1520-app-eai\n
END:VEVENT
BEGIN:VEVENT
UID:ietf-68-497-fsm
SUMMARY:fsm - Formal State Machines
LOCATION:Karlin I
STATUS:CONFIRMED
CLASS:PUBLIC
DTSTART;TZID=Europe/Prague:20070320T174000
DTEND;TZID=Europe/Prague:20070320T184000
DTSTAMP:20161222T095711Z
URL:https://datatracker.ietf.org/meeting/68/materials/agenda-68-fsm
DESCRIPTION:Afternoon Session III\n
 \n
 Agenda https://datatracker.ietf.org/meeting/68/materials/agenda-68-fsm\n
 \n
 Session materials: https://datatracker.ietf.org/meeting/68/session/fsm\n
 \n
 See in schedule: https://datatracker.ietf.org/meeting/68/agenda#row-68-2007-03-20-tue-1740-app-fsm\n
END:VEVENT
BEGIN:VEVENT
UID:ietf-68-413-ipdvb
SUMMARY:ipdvb - IP over DVB
LOCATION:Karlin I
STATUS:CONFIRMED
CLASS:PUBLIC
DTSTART;TZID=Europe/Prague:20070320T185000
DTEND;TZID=Europe/Prague:20070320T195000
DTSTAMP:20161222T095711Z
URL:https://datatracker.ietf.org/meeting/68/materials/agenda-68-ipdvb
DESCRIPTION:Afternoon Session IV\n
 \n
 Agenda https://datatracker.ietf.org/meeting/68/materials/agenda-68-ipdvb\n
 \n
 Session materials: https://datatracker.ietf.org/meeting/68/session/ipdvb\n
 \n
 See in schedule: https://datatracker.ietf.org/meeting/68/agenda#row-68-2007-03-20-tue-1850-app-ipdvb\n
END:VEVENT
BEGIN:VEVENT
UID:ietf-68-429-ltans
SUMMARY:ltans - Long-Term Archive and Notary Services
LOCATION:Karlin II
STATUS:CONFIRMED
CLASS:PUBLIC
DTSTART;TZID=Europe/Prague:20070320T185000
DTEND;TZID=Europe/Prague:20070320T195000
DTSTAMP:20161222T095711Z
URL:https://datatracker.ietf.org/meeting/68/materials/agenda-68-ltans
DESCRIPTION:Afternoon Session IV\n
 \n
 Agenda https://datatracker.ietf.org/meeting/68/materials/agenda-68-ltans\n
 \n
 Session materials: https://datatracker.ietf.org/meeting/68/session/ltans\n
 \n
 See in schedule: https://datatracker.ietf.org/meeting/68/agenda#row-68-2007-03-20-tue-1850-app-ltans\n
END:VEVENT
BEGIN:VEVENT
UID:ietf-68-471-lemonade
SUMMARY:lemonade - Enhancements to Internet email to Support Diverse Service Environments
LOCATION:Karlin I
STATUS:CONFIRMED
CLASS:PUBLIC
DTSTART;TZID=Europe/Prague:20070322T090000
DTEND;TZID=Europe/Prague:20070322T113000
DTSTAMP:20161222T095711Z
URL:https://datatracker.ietf.org/meeting/68/materials/agenda-68-lemonade
DESCRIPTION:Morning Session I\n
 \n
 Agenda https://datatracker.ietf.org/meeting/68/materials/agenda-68-lemonade\n
 \n
 Session materials: https://datatracker.ietf.org/meeting/68/session/lemonade\n
 \n
 See in schedule: https://datatracker.ietf.org/meeting/68/agenda#row-68-2007-03-22-thu-0900-app-lemonade\n
END:VEVENT
BEGIN:VEVENT
UID:ietf-68-430-isms
SUMMARY:isms - Integrated Security Model for SNMP
LOCATION:Roma/Vienna/Madrid
STATUS:CONFIRMED
CLASS:PUBLIC
DTSTART;TZID=Europe/Prague:20070322T151000
DTEND;TZID=Europe/Prague:20070322T161000
DTSTAMP:20161222T095710Z
URL:https://datatracker.ietf.org/meeting/68/materials/agenda-68-isms
DESCRIPTION:Afternoon Session II\n
 \n
 Agenda https://datatracker.ietf.org/meeting/68/materials/agenda-68-isms\n
 \n
 Session materials: https://datatracker.ietf.org/meeting/68/session/isms\n
 \n
 See in schedule: https://datatracker.ietf.org/meeting/68/agenda#row-68-2007-03-22-thu-1510-app-isms\n
END:VEVENT
BEGIN:VEVENT
UID:ietf-68-475-widex
SUMMARY:widex - Widget Description Exchange Service (CANCELLED)
LOCATION:Karlin II
STATUS:CONFIRMED
CLASS:PUBLIC
DTSTART;TZID=Europe/Prague:20070322T151000
DTEND;TZID=Europe/Prague:20070322T161000
DTSTAMP:20161222T095710Z
URL:https://datatracker.ietf.org/meeting/68/materials/agenda-68-widex
DESCRIPTION:Afternoon Session II\n
 Note: CANCELLED\n
 \n
 Agenda https://datatracker.ietf.org/meeting/68/materials/agenda-68-widex\n
 \n
 Session materials: https://datatracker.ietf.org/meeting/68/session/widex\n
 \n
 See in schedule: https://datatracker.ietf.org/meeting/68/agenda#row-68-2007-03-22-thu-1510-app-widex\n
END:VEVENT
END:VCALENDAR
