BEGIN:VCALENDAR
VERSION:2.0
METHOD:PUBLISH
PRODID:-//IETF//datatracker.ietf.org ical agenda//EN
BEGIN:VTIMEZONE
TZID:Europe/Prague
X-LIC-LOCATION:Europe/Prague
BEGIN:DAYLIGHT
TZOFFSETFROM:+0100
TZOFFSETTO:+0200
TZNAME:CEST
DTSTART:19810329T020000
RRULE:FREQ=YEARLY;BYMONTH=3;BYDAY=-1SU
END:DAYLIGHT
BEGIN:STANDARD
TZOFFSETFROM:+0200
TZOFFSETTO:+0100
TZNAME:CET
DTSTART:19961027T030000
RRULE:FREQ=YEARLY;BYMONTH=10;BYDAY=-1SU
END:STANDARD
BEGIN:STANDARD
TZOFFSETFROM:+005744
TZOFFSETTO:+005744
TZNAME:PMT
DTSTART:18500101T000000
RDATE:18500101T000000
END:STANDARD
BEGIN:STANDARD
TZOFFSETFROM:+005744
TZOFFSETTO:+0100
TZNAME:CET
DTSTART:18911001T000000
RDATE:18911001T000000
END:STANDARD
BEGIN:DAYLIGHT
TZOFFSETFROM:+0100
TZOFFSETTO:+0200
TZNAME:CEST
DTSTART:19160430T230000
RDATE:19160430T230000
RDATE:19170416T020000
RDATE:19180415T020000
RDATE:19400401T020000
RDATE:19430329T020000
RDATE:19440403T020000
RDATE:19450408T020000
RDATE:19460506T020000
RDATE:19470420T020000
RDATE:19480418T020000
RDATE:19490409T020000
RDATE:19790401T020000
RDATE:19800406T020000
END:DAYLIGHT
BEGIN:STANDARD
TZOFFSETFROM:+0200
TZOFFSETTO:+0100
TZNAME:CET
DTSTART:19161001T010000
RDATE:19161001T010000
RDATE:19170917T030000
RDATE:19180916T030000
RDATE:19421102T030000
RDATE:19431004T030000
RDATE:19440917T030000
RDATE:19451118T030000
RDATE:19461006T030000
RDATE:19471005T030000
RDATE:19481003T030000
RDATE:19491002T030000
RDATE:19790930T030000
RDATE:19800928T030000
RDATE:19810927T030000
RDATE:19820926T030000
RDATE:19830925T030000
RDATE:19840930T030000
RDATE:19850929T030000
RDATE:19860928T030000
RDATE:19870927T030000
RDATE:19880925T030000
RDATE:19890924T030000
RDATE:19900930T030000
RDATE:19910929T030000
RDATE:19920927T030000
RDATE:19930926T030000
RDATE:19940925T030000
RDATE:19950924T030000
END:STANDARD
BEGIN:STANDARD
TZOFFSETFROM:+0100
TZOFFSETTO:+0100
TZNAME:CET
DTSTART:19790101T000000
RDATE:19790101T000000
END:STANDARD
END:VTIMEZONE
BEGIN:VEVENT
UID:ietf-68-507-iepg
SUMMARY:IEPG Meeting
LOCATION:Congress I
STATUS:CONFIRMED
CLASS:PUBLIC
DTSTART;TZID=Europe/Prague:20070318T100000
DTEND;TZID=Europe/Prague:20070318T120000
DTSTAMP:20161222T095711Z
DESCRIPTION:IEPG Meeting\n
 \n
 Session materials: https://datatracker.ietf.org/meeting/68/session/iepg\n
 \n
 See in schedule: https://datatracker.ietf.org/meeting/68/agenda#row-68-2007-03-18-sun-1000-iepg-iepg-meeting\n
END:VEVENT
BEGIN:VEVENT
UID:ietf-68-499-edu
SUMMARY:Newcomer's Training
LOCATION:Congress I
STATUS:CONFIRMED
CLASS:PUBLIC
DTSTART;TZID=Europe/Prague:20070318T130000
DTEND;TZID=Europe/Prague:20070318T144500
DTSTAMP:20161222T095711Z
DESCRIPTION:Newcomer's Training\n
 \n
 Session materials: https://datatracker.ietf.org/meeting/68/session/edu\n
 \n
 See in schedule: https://datatracker.ietf.org/meeting/68/agenda#row-68-2007-03-18-sun-1300-edu-newcomers-training\n
END:VEVENT
BEGIN:VEVENT
UID:ietf-68-501-edu
SUMMARY:What Should Spec Writers Know about IPv6?
LOCATION:Congress III
STATUS:CONFIRMED
CLASS:PUBLIC
DTSTART;TZID=Europe/Prague:20070318T130000
DTEND;TZID=Europe/Prague:20070318T144500
DTSTAMP:20161222T095711Z
DESCRIPTION:What Should Spec Writers Know about IPv6?\n
 \n
 Session materials: https://datatracker.ietf.org/meeting/68/session/edu\n
 \n
 See in schedule: https://datatracker.ietf.org/meeting/68/agenda#row-68-2007-03-18-sun-1300-edu-what-should-spec-writers-know-about-ipv6\n
END:VEVENT
BEGIN:VEVENT
UID:ietf-68-500-edu
SUMMARY:Working Group Leadership Tutorial
LOCATION:Roma/Vienna/Madrid
STATUS:CONFIRMED
CLASS:PUBLIC
DTSTART;TZID=Europe/Prague:20070318T130000
DTEND;TZID=Europe/Prague:20070318T144500
DTSTAMP:20161222T095711Z
DESCRIPTION:Working Group Leadership Tutorial\n
 \n
 Session materials: https://datatracker.ietf.org/meeting/68/session/edu\n
 \n
 See in schedule: https://datatracker.ietf.org/meeting/68/agenda#row-68-2007-03-18-sun-1300-edu-working-group-leadership-tutorial\n
END:VEVENT
BEGIN:VEVENT
UID:ietf-68-502-edu
SUMMARY:Bringing New Work to the IETF
LOCATION:Congress III
STATUS:CONFIRMED
CLASS:PUBLIC
DTSTART;TZID=Europe/Prague:20070318T150000
DTEND;TZID=Europe/Prague:20070318T164500
DTSTAMP:20161222T095711Z
DESCRIPTION:Bringing New Work to the IETF\n
 \n
 Session materials: https://datatracker.ietf.org/meeting/68/session/edu\n
 \n
 See in schedule: https://datatracker.ietf.org/meeting/68/agenda#row-68-2007-03-18-sun-1500-edu-bringing-new-work-to-the-ietf\n
END:VEVENT
BEGIN:VEVENT
UID:ietf-68-504-edu
SUMMARY:Security Tutorial
LOCATION:Congress I
STATUS:CONFIRMED
CLASS:PUBLIC
DTSTART;TZID=Europe/Prague:20070318T150000
DTEND;TZID=Europe/Prague:20070318T164500
DTSTAMP:20161222T095711Z
DESCRIPTION:Security Tutorial\n
 \n
 Session materials: https://datatracker.ietf.org/meeting/68/session/edu\n
 \n
 See in schedule: https://datatracker.ietf.org/meeting/68/agenda#row-68-2007-03-18-sun-1500-edu-security-tutorial\n
END:VEVENT
BEGIN:VEVENT
UID:ietf-68-503-edu
SUMMARY:Writing an RFC: The Definitive Guide by the RFC Editor
LOCATION:Roma/Vienna/Madrid
STATUS:CONFIRMED
CLASS:PUBLIC
DTSTART;TZID=Europe/Prague:20070318T150000
DTEND;TZID=Europe/Prague:20070318T164500
DTSTAMP:20161222T095711Z
DESCRIPTION:Writing an RFC: The Definitive Guide by the RFC Editor\n
 \n
 Session materials: https://datatracker.ietf.org/meeting/68/session/edu\n
 \n
 See in schedule: https://datatracker.ietf.org/meeting/68/agenda#row-68-2007-03-18-sun-1500-edu-writing-an-rfc-the-definitive-guide-by-the-rfc-editor\n
END:VEVENT
BEGIN:VEVENT
UID:ietf-68-505-ietf
SUMMARY:IETF Operations and Administration Plenary
LOCATION:Congress I - III
STATUS:CONFIRMED
CLASS:PUBLIC
DTSTART;TZID=Europe/Prague:20070321T170000
DTEND;TZID=Europe/Prague:20070321T193000
DTSTAMP:20161222T095711Z
URL:https://datatracker.ietf.org/meeting/68/materials/agenda-68-ietf-ietf-operations-and-administration-plenary
DESCRIPTION:IETF Operations and Administration Plenary\n
 \n
 Agenda https://datatracker.ietf.org/meeting/68/materials/agenda-68-ietf-ietf-operations-and-administration-plenary\n
 \n
 Session materials: https://datatracker.ietf.org/meeting/68/session/ietf\n
 \n
 See in schedule: https://datatracker.ietf.org/meeting/68/agenda#row-68-2007-03-21-wed-1700-1plenary-ietf\n
END:VEVENT
BEGIN:VEVENT
UID:ietf-68-506-ietf
SUMMARY:Technical Plenary
LOCATION:Congress I - III
STATUS:CONFIRMED
CLASS:PUBLIC
DTSTART;TZID=Europe/Prague:20070322T170000
DTEND;TZID=Europe/Prague:20070322T193000
DTSTAMP:20161222T095710Z
URL:https://datatracker.ietf.org/meeting/68/materials/agenda-68-ietf-technical-plenary
DESCRIPTION:Technical Plenary\n
 \n
 Agenda https://datatracker.ietf.org/meeting/68/materials/agenda-68-ietf-technical-plenary\n
 \n
 Session materials: https://datatracker.ietf.org/meeting/68/session/ietf\n
 \n
 See in schedule: https://datatracker.ietf.org/meeting/68/agenda#row-68-2007-03-22-thu-1700-1plenary-ietf\n
END:VEVENT
END:VCALENDAR
