BEGIN:VCALENDAR
VERSION:2.0
METHOD:PUBLISH
PRODID:-//IETF//datatracker.ietf.org ical agenda//EN
BEGIN:VTIMEZONE
TZID:Europe/Prague
X-LIC-LOCATION:Europe/Prague
BEGIN:DAYLIGHT
TZOFFSETFROM:+0100
TZOFFSETTO:+0200
TZNAME:CEST
DTSTART:19810329T020000
RRULE:FREQ=YEARLY;BYMONTH=3;BYDAY=-1SU
END:DAYLIGHT
BEGIN:STANDARD
TZOFFSETFROM:+0200
TZOFFSETTO:+0100
TZNAME:CET
DTSTART:19961027T030000
RRULE:FREQ=YEARLY;BYMONTH=10;BYDAY=-1SU
END:STANDARD
BEGIN:STANDARD
TZOFFSETFROM:+005744
TZOFFSETTO:+005744
TZNAME:PMT
DTSTART:18500101T000000
RDATE:18500101T000000
END:STANDARD
BEGIN:STANDARD
TZOFFSETFROM:+005744
TZOFFSETTO:+0100
TZNAME:CET
DTSTART:18911001T000000
RDATE:18911001T000000
END:STANDARD
BEGIN:DAYLIGHT
TZOFFSETFROM:+0100
TZOFFSETTO:+0200
TZNAME:CEST
DTSTART:19160430T230000
RDATE:19160430T230000
RDATE:19170416T020000
RDATE:19180415T020000
RDATE:19400401T020000
RDATE:19430329T020000
RDATE:19440403T020000
RDATE:19450408T020000
RDATE:19460506T020000
RDATE:19470420T020000
RDATE:19480418T020000
RDATE:19490409T020000
RDATE:19790401T020000
RDATE:19800406T020000
END:DAYLIGHT
BEGIN:STANDARD
TZOFFSETFROM:+0200
TZOFFSETTO:+0100
TZNAME:CET
DTSTART:19161001T010000
RDATE:19161001T010000
RDATE:19170917T030000
RDATE:19180916T030000
RDATE:19421102T030000
RDATE:19431004T030000
RDATE:19440917T030000
RDATE:19451118T030000
RDATE:19461006T030000
RDATE:19471005T030000
RDATE:19481003T030000
RDATE:19491002T030000
RDATE:19790930T030000
RDATE:19800928T030000
RDATE:19810927T030000
RDATE:19820926T030000
RDATE:19830925T030000
RDATE:19840930T030000
RDATE:19850929T030000
RDATE:19860928T030000
RDATE:19870927T030000
RDATE:19880925T030000
RDATE:19890924T030000
RDATE:19900930T030000
RDATE:19910929T030000
RDATE:19920927T030000
RDATE:19930926T030000
RDATE:19940925T030000
RDATE:19950924T030000
END:STANDARD
BEGIN:STANDARD
TZOFFSETFROM:+0100
TZOFFSETTO:+0100
TZNAME:CET
DTSTART:19790101T000000
RDATE:19790101T000000
END:STANDARD
END:VTIMEZONE
BEGIN:VEVENT
UID:ietf-68-490-ipr
SUMMARY:ipr - Intellectual Property Rights
LOCATION:Congress I
STATUS:CONFIRMED
CLASS:PUBLIC
DTSTART;TZID=Europe/Prague:20070319T130000
DTEND;TZID=Europe/Prague:20070319T150000
DTSTAMP:20161222T095711Z
URL:https://datatracker.ietf.org/meeting/68/materials/agenda-68-ipr
DESCRIPTION:Afternoon Session I\n
 \n
 Agenda https://datatracker.ietf.org/meeting/68/materials/agenda-68-ipr\n
 \n
 Session materials: https://datatracker.ietf.org/meeting/68/session/ipr\n
 \n
 See in schedule: https://datatracker.ietf.org/meeting/68/agenda#row-68-2007-03-19-mon-1300-gen-ipr\n
END:VEVENT
BEGIN:VEVENT
UID:ietf-68-473-sip
SUMMARY:sip - Session Initiation Protocol
LOCATION:Grand Ballroom
STATUS:CONFIRMED
CLASS:PUBLIC
DTSTART;TZID=Europe/Prague:20070320T174000
DTEND;TZID=Europe/Prague:20070320T184000
DTSTAMP:20161222T095711Z
URL:https://datatracker.ietf.org/meeting/68/materials/agenda-68-sip
DESCRIPTION:Afternoon Session III\n
 \n
 Agenda https://datatracker.ietf.org/meeting/68/materials/agenda-68-sip\n
 \n
 Session materials: https://datatracker.ietf.org/meeting/68/session/sip\n
 \n
 See in schedule: https://datatracker.ietf.org/meeting/68/agenda#row-68-2007-03-20-tue-1740-gen-sip\n
END:VEVENT
BEGIN:VEVENT
UID:ietf-68-474-sip
SUMMARY:sip - Session Initiation Protocol
LOCATION:Congress II
STATUS:CONFIRMED
CLASS:PUBLIC
DTSTART;TZID=Europe/Prague:20070321T130000
DTEND;TZID=Europe/Prague:20070321T150000
DTSTAMP:20161222T095711Z
URL:https://datatracker.ietf.org/meeting/68/materials/agenda-68-sip
DESCRIPTION:Afternoon Session I\n
 \n
 Agenda https://datatracker.ietf.org/meeting/68/materials/agenda-68-sip\n
 \n
 Session materials: https://datatracker.ietf.org/meeting/68/session/sip\n
 \n
 See in schedule: https://datatracker.ietf.org/meeting/68/agenda#row-68-2007-03-21-wed-1300-gen-sip\n
END:VEVENT
END:VCALENDAR
