BEGIN:VCALENDAR
VERSION:2.0
METHOD:PUBLISH
PRODID:-//IETF//datatracker.ietf.org ical agenda//EN
BEGIN:VTIMEZONE
TZID:Europe/Prague
X-LIC-LOCATION:Europe/Prague
BEGIN:DAYLIGHT
TZOFFSETFROM:+0100
TZOFFSETTO:+0200
TZNAME:CEST
DTSTART:19810329T020000
RRULE:FREQ=YEARLY;BYMONTH=3;BYDAY=-1SU
END:DAYLIGHT
BEGIN:STANDARD
TZOFFSETFROM:+0200
TZOFFSETTO:+0100
TZNAME:CET
DTSTART:19961027T030000
RRULE:FREQ=YEARLY;BYMONTH=10;BYDAY=-1SU
END:STANDARD
BEGIN:STANDARD
TZOFFSETFROM:+005744
TZOFFSETTO:+005744
TZNAME:PMT
DTSTART:18500101T000000
RDATE:18500101T000000
END:STANDARD
BEGIN:STANDARD
TZOFFSETFROM:+005744
TZOFFSETTO:+0100
TZNAME:CET
DTSTART:18911001T000000
RDATE:18911001T000000
END:STANDARD
BEGIN:DAYLIGHT
TZOFFSETFROM:+0100
TZOFFSETTO:+0200
TZNAME:CEST
DTSTART:19160430T230000
RDATE:19160430T230000
RDATE:19170416T020000
RDATE:19180415T020000
RDATE:19400401T020000
RDATE:19430329T020000
RDATE:19440403T020000
RDATE:19450408T020000
RDATE:19460506T020000
RDATE:19470420T020000
RDATE:19480418T020000
RDATE:19490409T020000
RDATE:19790401T020000
RDATE:19800406T020000
END:DAYLIGHT
BEGIN:STANDARD
TZOFFSETFROM:+0200
TZOFFSETTO:+0100
TZNAME:CET
DTSTART:19161001T010000
RDATE:19161001T010000
RDATE:19170917T030000
RDATE:19180916T030000
RDATE:19421102T030000
RDATE:19431004T030000
RDATE:19440917T030000
RDATE:19451118T030000
RDATE:19461006T030000
RDATE:19471005T030000
RDATE:19481003T030000
RDATE:19491002T030000
RDATE:19790930T030000
RDATE:19800928T030000
RDATE:19810927T030000
RDATE:19820926T030000
RDATE:19830925T030000
RDATE:19840930T030000
RDATE:19850929T030000
RDATE:19860928T030000
RDATE:19870927T030000
RDATE:19880925T030000
RDATE:19890924T030000
RDATE:19900930T030000
RDATE:19910929T030000
RDATE:19920927T030000
RDATE:19930926T030000
RDATE:19940925T030000
RDATE:19950924T030000
END:STANDARD
BEGIN:STANDARD
TZOFFSETFROM:+0100
TZOFFSETTO:+0100
TZNAME:CET
DTSTART:19790101T000000
RDATE:19790101T000000
END:STANDARD
END:VTIMEZONE
BEGIN:VEVENT
UID:ietf-68-435-6lowpan
SUMMARY:6lowpan - IPv6 over Low power WPAN
LOCATION:Athens/Barcelona/Berlin
STATUS:CONFIRMED
CLASS:PUBLIC
DTSTART;TZID=Europe/Prague:20070319T090000
DTEND;TZID=Europe/Prague:20070319T113000
DTSTAMP:20161222T095711Z
URL:https://datatracker.ietf.org/meeting/68/materials/agenda-68-6lowpan
DESCRIPTION:Morning Session I\n
 \n
 Agenda https://datatracker.ietf.org/meeting/68/materials/agenda-68-6lowpan\n
 \n
 Session materials: https://datatracker.ietf.org/meeting/68/session/6lowpan\n
 \n
 See in schedule: https://datatracker.ietf.org/meeting/68/agenda#row-68-2007-03-19-mon-0900-int-6lowpan\n
END:VEVENT
BEGIN:VEVENT
UID:ietf-68-498-sava
SUMMARY:sava - Source Address Validation Architecture
LOCATION:Congress II
STATUS:CONFIRMED
CLASS:PUBLIC
DTSTART;TZID=Europe/Prague:20070319T130000
DTEND;TZID=Europe/Prague:20070319T150000
DTSTAMP:20161222T095711Z
URL:https://datatracker.ietf.org/meeting/68/materials/agenda-68-sava
DESCRIPTION:Afternoon Session I\n
 \n
 Agenda https://datatracker.ietf.org/meeting/68/materials/agenda-68-sava\n
 \n
 Session materials: https://datatracker.ietf.org/meeting/68/session/sava\n
 \n
 See in schedule: https://datatracker.ietf.org/meeting/68/agenda#row-68-2007-03-19-mon-1300-int-sava\n
END:VEVENT
BEGIN:VEVENT
UID:ietf-68-401-16ng
SUMMARY:16ng - IP over IEEE 802.16 Networks
LOCATION:Congress I
STATUS:CONFIRMED
CLASS:PUBLIC
DTSTART;TZID=Europe/Prague:20070319T152000
DTEND;TZID=Europe/Prague:20070319T172000
DTSTAMP:20161222T095711Z
URL:https://datatracker.ietf.org/meeting/68/materials/agenda-68-16ng
DESCRIPTION:Afternoon Session II\n
 \n
 Agenda https://datatracker.ietf.org/meeting/68/materials/agenda-68-16ng\n
 \n
 Session materials: https://datatracker.ietf.org/meeting/68/session/16ng\n
 \n
 See in schedule: https://datatracker.ietf.org/meeting/68/agenda#row-68-2007-03-19-mon-1520-int-16ng\n
END:VEVENT
BEGIN:VEVENT
UID:ietf-68-477-ntp
SUMMARY:ntp - Network Time Protocol
LOCATION:Karlin II
STATUS:CONFIRMED
CLASS:PUBLIC
DTSTART;TZID=Europe/Prague:20070319T152000
DTEND;TZID=Europe/Prague:20070319T172000
DTSTAMP:20161222T095711Z
URL:https://datatracker.ietf.org/meeting/68/materials/agenda-68-ntp
DESCRIPTION:Afternoon Session II\n
 \n
 Agenda https://datatracker.ietf.org/meeting/68/materials/agenda-68-ntp\n
 \n
 Session materials: https://datatracker.ietf.org/meeting/68/session/ntp\n
 \n
 See in schedule: https://datatracker.ietf.org/meeting/68/agenda#row-68-2007-03-19-mon-1520-int-ntp\n
END:VEVENT
BEGIN:VEVENT
UID:ietf-68-476-monami6
SUMMARY:monami6 - Mobile Nodes and Multiple Interfaces in IPv6
LOCATION:Congress II
STATUS:CONFIRMED
CLASS:PUBLIC
DTSTART;TZID=Europe/Prague:20070319T174000
DTEND;TZID=Europe/Prague:20070319T195000
DTSTAMP:20161222T095711Z
URL:https://datatracker.ietf.org/meeting/68/materials/agenda-68-monami6
DESCRIPTION:Afternoon Session III\n
 \n
 Agenda https://datatracker.ietf.org/meeting/68/materials/agenda-68-monami6\n
 \n
 Session materials: https://datatracker.ietf.org/meeting/68/session/monami6\n
 \n
 See in schedule: https://datatracker.ietf.org/meeting/68/agenda#row-68-2007-03-19-mon-1740-int-monami6\n
END:VEVENT
BEGIN:VEVENT
UID:ietf-68-494-softwire
SUMMARY:softwire - Softwires
LOCATION:Congress III
STATUS:CONFIRMED
CLASS:PUBLIC
DTSTART;TZID=Europe/Prague:20070319T174000
DTEND;TZID=Europe/Prague:20070319T195000
DTSTAMP:20161222T095711Z
URL:https://datatracker.ietf.org/meeting/68/materials/agenda-68-softwire
DESCRIPTION:Afternoon Session III\n
 \n
 Agenda https://datatracker.ietf.org/meeting/68/materials/agenda-68-softwire\n
 \n
 Session materials: https://datatracker.ietf.org/meeting/68/session/softwire\n
 \n
 See in schedule: https://datatracker.ietf.org/meeting/68/agenda#row-68-2007-03-19-mon-1740-int-softwire\n
END:VEVENT
BEGIN:VEVENT
UID:ietf-68-410-netlmm
SUMMARY:netlmm - Network-based Localized Mobility Management
LOCATION:Grand Ballroom
STATUS:CONFIRMED
CLASS:PUBLIC
DTSTART;TZID=Europe/Prague:20070320T090000
DTEND;TZID=Europe/Prague:20070320T113000
DTSTAMP:20161222T095711Z
URL:https://datatracker.ietf.org/meeting/68/materials/agenda-68-netlmm
DESCRIPTION:Morning Session I\n
 \n
 Agenda https://datatracker.ietf.org/meeting/68/materials/agenda-68-netlmm\n
 \n
 Session materials: https://datatracker.ietf.org/meeting/68/session/netlmm\n
 \n
 See in schedule: https://datatracker.ietf.org/meeting/68/agenda#row-68-2007-03-20-tue-0900-int-netlmm\n
END:VEVENT
BEGIN:VEVENT
UID:ietf-68-492-tictoc
SUMMARY:tictoc - Timing over IP Connection and Transfer of Clock
LOCATION:Congress III
STATUS:CONFIRMED
CLASS:PUBLIC
DTSTART;TZID=Europe/Prague:20070320T090000
DTEND;TZID=Europe/Prague:20070320T113000
DTSTAMP:20161222T095711Z
URL:https://datatracker.ietf.org/meeting/68/materials/agenda-68-tictoc
DESCRIPTION:Morning Session I\n
 \n
 Agenda https://datatracker.ietf.org/meeting/68/materials/agenda-68-tictoc\n
 \n
 Session materials: https://datatracker.ietf.org/meeting/68/session/tictoc\n
 \n
 See in schedule: https://datatracker.ietf.org/meeting/68/agenda#row-68-2007-03-20-tue-0900-int-tictoc\n
END:VEVENT
BEGIN:VEVENT
UID:ietf-68-424-ancp
SUMMARY:ancp - Access Node Control Protocol
LOCATION:Roma/Vienna/Madrid
STATUS:CONFIRMED
CLASS:PUBLIC
DTSTART;TZID=Europe/Prague:20070320T130000
DTEND;TZID=Europe/Prague:20070320T150000
DTSTAMP:20161222T095711Z
URL:https://datatracker.ietf.org/meeting/68/materials/agenda-68-ancp
DESCRIPTION:Afternoon Session I\n
 \n
 Agenda https://datatracker.ietf.org/meeting/68/materials/agenda-68-ancp\n
 \n
 Session materials: https://datatracker.ietf.org/meeting/68/session/ancp\n
 \n
 See in schedule: https://datatracker.ietf.org/meeting/68/agenda#row-68-2007-03-20-tue-1300-int-ancp\n
END:VEVENT
BEGIN:VEVENT
UID:ietf-68-432-mipshop
SUMMARY:mipshop - Mobility for IP: Performance, Signaling and Handoff Optimization
LOCATION:Congress II
STATUS:CONFIRMED
CLASS:PUBLIC
DTSTART;TZID=Europe/Prague:20070320T130000
DTEND;TZID=Europe/Prague:20070320T150000
DTSTAMP:20161222T095711Z
URL:https://datatracker.ietf.org/meeting/68/materials/agenda-68-mipshop
DESCRIPTION:Afternoon Session I\n
 \n
 Agenda https://datatracker.ietf.org/meeting/68/materials/agenda-68-mipshop\n
 \n
 Session materials: https://datatracker.ietf.org/meeting/68/session/mipshop\n
 \n
 See in schedule: https://datatracker.ietf.org/meeting/68/agenda#row-68-2007-03-20-tue-1300-int-mipshop\n
END:VEVENT
BEGIN:VEVENT
UID:ietf-68-461-mip6
SUMMARY:mip6 - Mobility for IPv6
LOCATION:Congress II
STATUS:CONFIRMED
CLASS:PUBLIC
DTSTART;TZID=Europe/Prague:20070320T152000
DTEND;TZID=Europe/Prague:20070320T172000
DTSTAMP:20161222T095711Z
URL:https://datatracker.ietf.org/meeting/68/materials/agenda-68-mip6
DESCRIPTION:Afternoon Session II\n
 \n
 Agenda https://datatracker.ietf.org/meeting/68/materials/agenda-68-mip6\n
 \n
 Session materials: https://datatracker.ietf.org/meeting/68/session/mip6\n
 \n
 See in schedule: https://datatracker.ietf.org/meeting/68/agenda#row-68-2007-03-20-tue-1520-int-mip6\n
END:VEVENT
BEGIN:VEVENT
UID:ietf-68-446-nemo
SUMMARY:nemo - Network Mobility
LOCATION:Congress II
STATUS:CONFIRMED
CLASS:PUBLIC
DTSTART;TZID=Europe/Prague:20070320T174000
DTEND;TZID=Europe/Prague:20070320T184000
DTSTAMP:20161222T095711Z
URL:https://datatracker.ietf.org/meeting/68/materials/agenda-68-nemo
DESCRIPTION:Afternoon Session III\n
 \n
 Agenda https://datatracker.ietf.org/meeting/68/materials/agenda-68-nemo\n
 \n
 Session materials: https://datatracker.ietf.org/meeting/68/session/nemo\n
 \n
 See in schedule: https://datatracker.ietf.org/meeting/68/agenda#row-68-2007-03-20-tue-1740-int-nemo\n
END:VEVENT
BEGIN:VEVENT
UID:ietf-68-488-dna
SUMMARY:dna - Detecting Network Attachment
LOCATION:Grand Ballroom
STATUS:CONFIRMED
CLASS:PUBLIC
DTSTART;TZID=Europe/Prague:20070320T185000
DTEND;TZID=Europe/Prague:20070320T195000
DTSTAMP:20161222T095711Z
URL:https://datatracker.ietf.org/meeting/68/materials/agenda-68-dna
DESCRIPTION:Afternoon Session IV\n
 \n
 Agenda https://datatracker.ietf.org/meeting/68/materials/agenda-68-dna\n
 \n
 Session materials: https://datatracker.ietf.org/meeting/68/session/dna\n
 \n
 See in schedule: https://datatracker.ietf.org/meeting/68/agenda#row-68-2007-03-20-tue-1850-int-dna\n
END:VEVENT
BEGIN:VEVENT
UID:ietf-68-447-nemo
SUMMARY:nemo - Network Mobility
LOCATION:Congress II
STATUS:CONFIRMED
CLASS:PUBLIC
DTSTART;TZID=Europe/Prague:20070320T185000
DTEND;TZID=Europe/Prague:20070320T195000
DTSTAMP:20161222T095711Z
URL:https://datatracker.ietf.org/meeting/68/materials/agenda-68-nemo
DESCRIPTION:Afternoon Session IV\n
 \n
 Agenda https://datatracker.ietf.org/meeting/68/materials/agenda-68-nemo\n
 \n
 Session materials: https://datatracker.ietf.org/meeting/68/session/nemo\n
 \n
 See in schedule: https://datatracker.ietf.org/meeting/68/agenda#row-68-2007-03-20-tue-1850-int-nemo\n
END:VEVENT
BEGIN:VEVENT
UID:ietf-68-480-dhc
SUMMARY:dhc - Dynamic Host Configuration
LOCATION:Karlin I
STATUS:CONFIRMED
CLASS:PUBLIC
DTSTART;TZID=Europe/Prague:20070321T090000
DTEND;TZID=Europe/Prague:20070321T113000
DTSTAMP:20161222T095711Z
URL:https://datatracker.ietf.org/meeting/68/materials/agenda-68-dhc
DESCRIPTION:Morning Session I\n
 \n
 Agenda https://datatracker.ietf.org/meeting/68/materials/agenda-68-dhc\n
 \n
 Session materials: https://datatracker.ietf.org/meeting/68/session/dhc\n
 \n
 See in schedule: https://datatracker.ietf.org/meeting/68/agenda#row-68-2007-03-21-wed-0900-int-dhc\n
END:VEVENT
BEGIN:VEVENT
UID:ietf-68-436-trill
SUMMARY:trill - Transparent Interconnection of Lots of Links
LOCATION:Roma/Vienna/Madrid
STATUS:CONFIRMED
CLASS:PUBLIC
DTSTART;TZID=Europe/Prague:20070321T090000
DTEND;TZID=Europe/Prague:20070321T113000
DTSTAMP:20161222T095711Z
URL:https://datatracker.ietf.org/meeting/68/materials/agenda-68-trill
DESCRIPTION:Morning Session I\n
 \n
 Agenda https://datatracker.ietf.org/meeting/68/materials/agenda-68-trill\n
 \n
 Session materials: https://datatracker.ietf.org/meeting/68/session/trill\n
 \n
 See in schedule: https://datatracker.ietf.org/meeting/68/agenda#row-68-2007-03-21-wed-0900-int-trill\n
END:VEVENT
BEGIN:VEVENT
UID:ietf-68-431-dnsext
SUMMARY:dnsext - DNS Extensions
LOCATION:Roma/Vienna/Madrid
STATUS:CONFIRMED
CLASS:PUBLIC
DTSTART;TZID=Europe/Prague:20070321T130000
DTEND;TZID=Europe/Prague:20070321T150000
DTSTAMP:20161222T095711Z
URL:https://datatracker.ietf.org/meeting/68/materials/agenda-68-dnsext
DESCRIPTION:Afternoon Session I\n
 \n
 Agenda https://datatracker.ietf.org/meeting/68/materials/agenda-68-dnsext\n
 \n
 Session materials: https://datatracker.ietf.org/meeting/68/session/dnsext\n
 \n
 See in schedule: https://datatracker.ietf.org/meeting/68/agenda#row-68-2007-03-21-wed-1300-int-dnsext\n
END:VEVENT
BEGIN:VEVENT
UID:ietf-68-450-mip4
SUMMARY:mip4 - Mobility for IPv4
LOCATION:Roma/Vienna/Madrid
STATUS:CONFIRMED
CLASS:PUBLIC
DTSTART;TZID=Europe/Prague:20070321T151000
DTEND;TZID=Europe/Prague:20070321T161000
DTSTAMP:20161222T095711Z
URL:https://datatracker.ietf.org/meeting/68/materials/agenda-68-mip4
DESCRIPTION:Afternoon Session II\n
 \n
 Agenda https://datatracker.ietf.org/meeting/68/materials/agenda-68-mip4\n
 \n
 Session materials: https://datatracker.ietf.org/meeting/68/session/mip4\n
 \n
 See in schedule: https://datatracker.ietf.org/meeting/68/agenda#row-68-2007-03-21-wed-1510-int-mip4\n
END:VEVENT
BEGIN:VEVENT
UID:ietf-68-460-intarea
SUMMARY:intarea - Internet Area Working Group
LOCATION:Congress II
STATUS:CONFIRMED
CLASS:PUBLIC
DTSTART;TZID=Europe/Prague:20070322T090000
DTEND;TZID=Europe/Prague:20070322T113000
DTSTAMP:20161222T095711Z
URL:https://datatracker.ietf.org/meeting/68/materials/agenda-68-intarea
DESCRIPTION:Morning Session I\n
 \n
 Agenda https://datatracker.ietf.org/meeting/68/materials/agenda-68-intarea\n
 \n
 Session materials: https://datatracker.ietf.org/meeting/68/session/intarea\n
 \n
 See in schedule: https://datatracker.ietf.org/meeting/68/agenda#row-68-2007-03-22-thu-0900-int-intarea\n
END:VEVENT
BEGIN:VEVENT
UID:ietf-68-469-autoconf
SUMMARY:autoconf - Ad-Hoc Network Autoconfiguration
LOCATION:Karlin I
STATUS:CONFIRMED
CLASS:PUBLIC
DTSTART;TZID=Europe/Prague:20070322T130000
DTEND;TZID=Europe/Prague:20070322T150000
DTSTAMP:20161222T095711Z
URL:https://datatracker.ietf.org/meeting/68/materials/agenda-68-autoconf
DESCRIPTION:Afternoon Session I\n
 \n
 Agenda https://datatracker.ietf.org/meeting/68/materials/agenda-68-autoconf\n
 \n
 Session materials: https://datatracker.ietf.org/meeting/68/session/autoconf\n
 \n
 See in schedule: https://datatracker.ietf.org/meeting/68/agenda#row-68-2007-03-22-thu-1300-int-autoconf\n
END:VEVENT
BEGIN:VEVENT
UID:ietf-68-462-pana
SUMMARY:pana - Protocol for carrying Authentication for Network Access
LOCATION:Roma/Vienna/Madrid
STATUS:CONFIRMED
CLASS:PUBLIC
DTSTART;TZID=Europe/Prague:20070322T130000
DTEND;TZID=Europe/Prague:20070322T150000
DTSTAMP:20161222T095711Z
URL:https://datatracker.ietf.org/meeting/68/materials/agenda-68-pana
DESCRIPTION:Afternoon Session I\n
 \n
 Agenda https://datatracker.ietf.org/meeting/68/materials/agenda-68-pana\n
 \n
 Session materials: https://datatracker.ietf.org/meeting/68/session/pana\n
 \n
 See in schedule: https://datatracker.ietf.org/meeting/68/agenda#row-68-2007-03-22-thu-1300-int-pana\n
END:VEVENT
BEGIN:VEVENT
UID:ietf-68-433-mipshop
SUMMARY:mipshop - Mobility for IP: Performance, Signaling and Handoff Optimization
LOCATION:Congress III
STATUS:CONFIRMED
CLASS:PUBLIC
DTSTART;TZID=Europe/Prague:20070322T151000
DTEND;TZID=Europe/Prague:20070322T161000
DTSTAMP:20161222T095710Z
URL:https://datatracker.ietf.org/meeting/68/materials/agenda-68-mipshop
DESCRIPTION:Afternoon Session II\n
 \n
 Agenda https://datatracker.ietf.org/meeting/68/materials/agenda-68-mipshop\n
 \n
 Session materials: https://datatracker.ietf.org/meeting/68/session/mipshop\n
 \n
 See in schedule: https://datatracker.ietf.org/meeting/68/agenda#row-68-2007-03-22-thu-1510-int-mipshop\n
END:VEVENT
BEGIN:VEVENT
UID:ietf-68-402-16ng
SUMMARY:16ng - IP over IEEE 802.16 Networks
LOCATION:Congress I
STATUS:CONFIRMED
CLASS:PUBLIC
DTSTART;TZID=Europe/Prague:20070323T090000
DTEND;TZID=Europe/Prague:20070323T113000
DTSTAMP:20161222T095710Z
URL:https://datatracker.ietf.org/meeting/68/materials/agenda-68-16ng
DESCRIPTION:Morning Session I\n
 \n
 Agenda https://datatracker.ietf.org/meeting/68/materials/agenda-68-16ng\n
 \n
 Session materials: https://datatracker.ietf.org/meeting/68/session/16ng\n
 \n
 See in schedule: https://datatracker.ietf.org/meeting/68/agenda#row-68-2007-03-23-fri-0900-int-16ng\n
END:VEVENT
END:VCALENDAR
