BEGIN:VCALENDAR
VERSION:2.0
METHOD:PUBLISH
PRODID:-//IETF//datatracker.ietf.org ical agenda//EN
BEGIN:VTIMEZONE
TZID:Europe/Prague
X-LIC-LOCATION:Europe/Prague
BEGIN:DAYLIGHT
TZOFFSETFROM:+0100
TZOFFSETTO:+0200
TZNAME:CEST
DTSTART:19810329T020000
RRULE:FREQ=YEARLY;BYMONTH=3;BYDAY=-1SU
END:DAYLIGHT
BEGIN:STANDARD
TZOFFSETFROM:+0200
TZOFFSETTO:+0100
TZNAME:CET
DTSTART:19961027T030000
RRULE:FREQ=YEARLY;BYMONTH=10;BYDAY=-1SU
END:STANDARD
BEGIN:STANDARD
TZOFFSETFROM:+005744
TZOFFSETTO:+005744
TZNAME:PMT
DTSTART:18500101T000000
RDATE:18500101T000000
END:STANDARD
BEGIN:STANDARD
TZOFFSETFROM:+005744
TZOFFSETTO:+0100
TZNAME:CET
DTSTART:18911001T000000
RDATE:18911001T000000
END:STANDARD
BEGIN:DAYLIGHT
TZOFFSETFROM:+0100
TZOFFSETTO:+0200
TZNAME:CEST
DTSTART:19160430T230000
RDATE:19160430T230000
RDATE:19170416T020000
RDATE:19180415T020000
RDATE:19400401T020000
RDATE:19430329T020000
RDATE:19440403T020000
RDATE:19450408T020000
RDATE:19460506T020000
RDATE:19470420T020000
RDATE:19480418T020000
RDATE:19490409T020000
RDATE:19790401T020000
RDATE:19800406T020000
END:DAYLIGHT
BEGIN:STANDARD
TZOFFSETFROM:+0200
TZOFFSETTO:+0100
TZNAME:CET
DTSTART:19161001T010000
RDATE:19161001T010000
RDATE:19170917T030000
RDATE:19180916T030000
RDATE:19421102T030000
RDATE:19431004T030000
RDATE:19440917T030000
RDATE:19451118T030000
RDATE:19461006T030000
RDATE:19471005T030000
RDATE:19481003T030000
RDATE:19491002T030000
RDATE:19790930T030000
RDATE:19800928T030000
RDATE:19810927T030000
RDATE:19820926T030000
RDATE:19830925T030000
RDATE:19840930T030000
RDATE:19850929T030000
RDATE:19860928T030000
RDATE:19870927T030000
RDATE:19880925T030000
RDATE:19890924T030000
RDATE:19900930T030000
RDATE:19910929T030000
RDATE:19920927T030000
RDATE:19930926T030000
RDATE:19940925T030000
RDATE:19950924T030000
END:STANDARD
BEGIN:STANDARD
TZOFFSETFROM:+0100
TZOFFSETTO:+0100
TZNAME:CET
DTSTART:19790101T000000
RDATE:19790101T000000
END:STANDARD
END:VTIMEZONE
BEGIN:VEVENT
UID:ietf-68-386-v6ops
SUMMARY:v6ops - IPv6 Operations
LOCATION:Congress III
STATUS:CONFIRMED
CLASS:PUBLIC
DTSTART;TZID=Europe/Prague:20070319T090000
DTEND;TZID=Europe/Prague:20070319T113000
DTSTAMP:20161222T095711Z
URL:https://datatracker.ietf.org/meeting/68/materials/agenda-68-v6ops
DESCRIPTION:Morning Session I\n
 \n
 Agenda https://datatracker.ietf.org/meeting/68/materials/agenda-68-v6ops\n
 \n
 Session materials: https://datatracker.ietf.org/meeting/68/session/v6ops\n
 \n
 See in schedule: https://datatracker.ietf.org/meeting/68/agenda#row-68-2007-03-19-mon-0900-ops-v6ops\n
END:VEVENT
BEGIN:VEVENT
UID:ietf-68-405-capwap
SUMMARY:capwap - Control And Provisioning of Wireless Access Points
LOCATION:Karlin I
STATUS:CONFIRMED
CLASS:PUBLIC
DTSTART;TZID=Europe/Prague:20070319T130000
DTEND;TZID=Europe/Prague:20070319T150000
DTSTAMP:20161222T095711Z
URL:https://datatracker.ietf.org/meeting/68/materials/agenda-68-capwap
DESCRIPTION:Afternoon Session I\n
 \n
 Agenda https://datatracker.ietf.org/meeting/68/materials/agenda-68-capwap\n
 \n
 Session materials: https://datatracker.ietf.org/meeting/68/session/capwap\n
 \n
 See in schedule: https://datatracker.ietf.org/meeting/68/agenda#row-68-2007-03-19-mon-1300-ops-capwap\n
END:VEVENT
BEGIN:VEVENT
UID:ietf-68-420-opsarea
SUMMARY:opsarea - Operations & Management Area Open Meeting
LOCATION:Grand Ballroom
STATUS:CONFIRMED
CLASS:PUBLIC
DTSTART;TZID=Europe/Prague:20070319T152000
DTEND;TZID=Europe/Prague:20070319T172000
DTSTAMP:20161222T095711Z
URL:https://datatracker.ietf.org/meeting/68/materials/agenda-68-opsarea
DESCRIPTION:Afternoon Session II\n
 \n
 Agenda https://datatracker.ietf.org/meeting/68/materials/agenda-68-opsarea\n
 \n
 Session materials: https://datatracker.ietf.org/meeting/68/session/opsarea\n
 \n
 See in schedule: https://datatracker.ietf.org/meeting/68/agenda#row-68-2007-03-19-mon-1520-ops-opsarea\n
END:VEVENT
BEGIN:VEVENT
UID:ietf-68-489-dnsop
SUMMARY:dnsop - Domain Name System Operations
LOCATION:Grand Ballroom
STATUS:CONFIRMED
CLASS:PUBLIC
DTSTART;TZID=Europe/Prague:20070319T174000
DTEND;TZID=Europe/Prague:20070319T195000
DTSTAMP:20161222T095711Z
URL:https://datatracker.ietf.org/meeting/68/materials/agenda-68-dnsop
DESCRIPTION:Afternoon Session III\n
 \n
 Agenda https://datatracker.ietf.org/meeting/68/materials/agenda-68-dnsop\n
 \n
 Session materials: https://datatracker.ietf.org/meeting/68/session/dnsop\n
 \n
 See in schedule: https://datatracker.ietf.org/meeting/68/agenda#row-68-2007-03-19-mon-1740-ops-dnsop\n
END:VEVENT
BEGIN:VEVENT
UID:ietf-68-400-netconf
SUMMARY:netconf - Network Configuration
LOCATION:Karlin I
STATUS:CONFIRMED
CLASS:PUBLIC
DTSTART;TZID=Europe/Prague:20070319T174000
DTEND;TZID=Europe/Prague:20070319T195000
DTSTAMP:20161222T095711Z
URL:https://datatracker.ietf.org/meeting/68/materials/agenda-68-netconf
DESCRIPTION:Afternoon Session III\n
 \n
 Agenda https://datatracker.ietf.org/meeting/68/materials/agenda-68-netconf\n
 \n
 Session materials: https://datatracker.ietf.org/meeting/68/session/netconf\n
 \n
 See in schedule: https://datatracker.ietf.org/meeting/68/agenda#row-68-2007-03-19-mon-1740-ops-netconf\n
END:VEVENT
BEGIN:VEVENT
UID:ietf-68-455-adslmib
SUMMARY:adslmib - ADSL MIB
LOCATION:Karlin II
STATUS:CONFIRMED
CLASS:PUBLIC
DTSTART;TZID=Europe/Prague:20070320T090000
DTEND;TZID=Europe/Prague:20070320T113000
DTSTAMP:20161222T095711Z
URL:https://datatracker.ietf.org/meeting/68/materials/agenda-68-adslmib
DESCRIPTION:Morning Session I\n
 \n
 Agenda https://datatracker.ietf.org/meeting/68/materials/agenda-68-adslmib\n
 \n
 Session materials: https://datatracker.ietf.org/meeting/68/session/adslmib\n
 \n
 See in schedule: https://datatracker.ietf.org/meeting/68/agenda#row-68-2007-03-20-tue-0900-ops-adslmib\n
END:VEVENT
BEGIN:VEVENT
UID:ietf-68-388-bmwg
SUMMARY:bmwg - Benchmarking Methodology
LOCATION:Karlin I
STATUS:CONFIRMED
CLASS:PUBLIC
DTSTART;TZID=Europe/Prague:20070320T130000
DTEND;TZID=Europe/Prague:20070320T150000
DTSTAMP:20161222T095711Z
URL:https://datatracker.ietf.org/meeting/68/materials/agenda-68-bmwg
DESCRIPTION:Afternoon Session I\n
 \n
 Agenda https://datatracker.ietf.org/meeting/68/materials/agenda-68-bmwg\n
 \n
 Session materials: https://datatracker.ietf.org/meeting/68/session/bmwg\n
 \n
 See in schedule: https://datatracker.ietf.org/meeting/68/agenda#row-68-2007-03-20-tue-1300-ops-bmwg\n
END:VEVENT
BEGIN:VEVENT
UID:ietf-68-439-ipfix
SUMMARY:ipfix - IP Flow Information Export
LOCATION:Athens/Barcelona/Berlin
STATUS:CONFIRMED
CLASS:PUBLIC
DTSTART;TZID=Europe/Prague:20070320T174000
DTEND;TZID=Europe/Prague:20070320T184000
DTSTAMP:20161222T095711Z
URL:https://datatracker.ietf.org/meeting/68/materials/agenda-68-ipfix
DESCRIPTION:Afternoon Session III\n
 \n
 Agenda https://datatracker.ietf.org/meeting/68/materials/agenda-68-ipfix\n
 \n
 Session materials: https://datatracker.ietf.org/meeting/68/session/ipfix\n
 \n
 See in schedule: https://datatracker.ietf.org/meeting/68/agenda#row-68-2007-03-20-tue-1740-ops-ipfix\n
END:VEVENT
BEGIN:VEVENT
UID:ietf-68-440-ipfix
SUMMARY:ipfix - IP Flow Information Export
LOCATION:Athens/Barcelona/Berlin
STATUS:CONFIRMED
CLASS:PUBLIC
DTSTART;TZID=Europe/Prague:20070320T185000
DTEND;TZID=Europe/Prague:20070320T195000
DTSTAMP:20161222T095711Z
URL:https://datatracker.ietf.org/meeting/68/materials/agenda-68-ipfix
DESCRIPTION:Afternoon Session IV\n
 \n
 Agenda https://datatracker.ietf.org/meeting/68/materials/agenda-68-ipfix\n
 \n
 Session materials: https://datatracker.ietf.org/meeting/68/session/ipfix\n
 \n
 See in schedule: https://datatracker.ietf.org/meeting/68/agenda#row-68-2007-03-20-tue-1850-ops-ipfix\n
END:VEVENT
BEGIN:VEVENT
UID:ietf-68-419-radext
SUMMARY:radext - RADIUS EXTensions
LOCATION:Karlin II
STATUS:CONFIRMED
CLASS:PUBLIC
DTSTART;TZID=Europe/Prague:20070321T090000
DTEND;TZID=Europe/Prague:20070321T113000
DTSTAMP:20161222T095711Z
URL:https://datatracker.ietf.org/meeting/68/materials/agenda-68-radext
DESCRIPTION:Morning Session I\n
 \n
 Agenda https://datatracker.ietf.org/meeting/68/materials/agenda-68-radext\n
 \n
 Session materials: https://datatracker.ietf.org/meeting/68/session/radext\n
 \n
 See in schedule: https://datatracker.ietf.org/meeting/68/agenda#row-68-2007-03-21-wed-0900-ops-radext\n
END:VEVENT
BEGIN:VEVENT
UID:ietf-68-421-opsarea
SUMMARY:opsarea - Operations & Management Area Open Meeting
LOCATION:Congress I
STATUS:CONFIRMED
CLASS:PUBLIC
DTSTART;TZID=Europe/Prague:20070321T130000
DTEND;TZID=Europe/Prague:20070321T150000
DTSTAMP:20161222T095711Z
URL:https://datatracker.ietf.org/meeting/68/materials/agenda-68-opsarea
DESCRIPTION:Afternoon Session I\n
 \n
 Agenda https://datatracker.ietf.org/meeting/68/materials/agenda-68-opsarea\n
 \n
 Session materials: https://datatracker.ietf.org/meeting/68/session/opsarea\n
 \n
 See in schedule: https://datatracker.ietf.org/meeting/68/agenda#row-68-2007-03-21-wed-1300-ops-opsarea\n
END:VEVENT
BEGIN:VEVENT
UID:ietf-68-422-opsarea
SUMMARY:opsarea - Operations & Management Area Open Meeting
LOCATION:Congress I
STATUS:CONFIRMED
CLASS:PUBLIC
DTSTART;TZID=Europe/Prague:20070321T151000
DTEND;TZID=Europe/Prague:20070321T161000
DTSTAMP:20161222T095711Z
URL:https://datatracker.ietf.org/meeting/68/materials/agenda-68-opsarea
DESCRIPTION:Afternoon Session II\n
 \n
 Agenda https://datatracker.ietf.org/meeting/68/materials/agenda-68-opsarea\n
 \n
 Session materials: https://datatracker.ietf.org/meeting/68/session/opsarea\n
 \n
 See in schedule: https://datatracker.ietf.org/meeting/68/agenda#row-68-2007-03-21-wed-1510-ops-opsarea\n
END:VEVENT
BEGIN:VEVENT
UID:ietf-68-457-dime
SUMMARY:dime - Diameter Maintenance and Extensions
LOCATION:Karlin II
STATUS:CONFIRMED
CLASS:PUBLIC
DTSTART;TZID=Europe/Prague:20070322T090000
DTEND;TZID=Europe/Prague:20070322T113000
DTSTAMP:20161222T095711Z
URL:https://datatracker.ietf.org/meeting/68/materials/agenda-68-dime
DESCRIPTION:Morning Session I\n
 \n
 Agenda https://datatracker.ietf.org/meeting/68/materials/agenda-68-dime\n
 \n
 Session materials: https://datatracker.ietf.org/meeting/68/session/dime\n
 \n
 See in schedule: https://datatracker.ietf.org/meeting/68/agenda#row-68-2007-03-22-thu-0900-ops-dime\n
END:VEVENT
BEGIN:VEVENT
UID:ietf-68-404-mboned
SUMMARY:mboned - MBONE Deployment
LOCATION:Grand Ballroom
STATUS:CONFIRMED
CLASS:PUBLIC
DTSTART;TZID=Europe/Prague:20070322T130000
DTEND;TZID=Europe/Prague:20070322T150000
DTSTAMP:20161222T095710Z
URL:https://datatracker.ietf.org/meeting/68/materials/agenda-68-mboned
DESCRIPTION:Afternoon Session I\n
 \n
 Agenda https://datatracker.ietf.org/meeting/68/materials/agenda-68-mboned\n
 \n
 Session materials: https://datatracker.ietf.org/meeting/68/session/mboned\n
 \n
 See in schedule: https://datatracker.ietf.org/meeting/68/agenda#row-68-2007-03-22-thu-1300-ops-mboned\n
END:VEVENT
END:VCALENDAR
