BEGIN:VCALENDAR
VERSION:2.0
METHOD:PUBLISH
PRODID:-//IETF//datatracker.ietf.org ical agenda//EN
BEGIN:VTIMEZONE
TZID:Europe/Prague
X-LIC-LOCATION:Europe/Prague
BEGIN:DAYLIGHT
TZOFFSETFROM:+0100
TZOFFSETTO:+0200
TZNAME:CEST
DTSTART:19810329T020000
RRULE:FREQ=YEARLY;BYMONTH=3;BYDAY=-1SU
END:DAYLIGHT
BEGIN:STANDARD
TZOFFSETFROM:+0200
TZOFFSETTO:+0100
TZNAME:CET
DTSTART:19961027T030000
RRULE:FREQ=YEARLY;BYMONTH=10;BYDAY=-1SU
END:STANDARD
BEGIN:STANDARD
TZOFFSETFROM:+005744
TZOFFSETTO:+005744
TZNAME:PMT
DTSTART:18500101T000000
RDATE:18500101T000000
END:STANDARD
BEGIN:STANDARD
TZOFFSETFROM:+005744
TZOFFSETTO:+0100
TZNAME:CET
DTSTART:18911001T000000
RDATE:18911001T000000
END:STANDARD
BEGIN:DAYLIGHT
TZOFFSETFROM:+0100
TZOFFSETTO:+0200
TZNAME:CEST
DTSTART:19160430T230000
RDATE:19160430T230000
RDATE:19170416T020000
RDATE:19180415T020000
RDATE:19400401T020000
RDATE:19430329T020000
RDATE:19440403T020000
RDATE:19450408T020000
RDATE:19460506T020000
RDATE:19470420T020000
RDATE:19480418T020000
RDATE:19490409T020000
RDATE:19790401T020000
RDATE:19800406T020000
END:DAYLIGHT
BEGIN:STANDARD
TZOFFSETFROM:+0200
TZOFFSETTO:+0100
TZNAME:CET
DTSTART:19161001T010000
RDATE:19161001T010000
RDATE:19170917T030000
RDATE:19180916T030000
RDATE:19421102T030000
RDATE:19431004T030000
RDATE:19440917T030000
RDATE:19451118T030000
RDATE:19461006T030000
RDATE:19471005T030000
RDATE:19481003T030000
RDATE:19491002T030000
RDATE:19790930T030000
RDATE:19800928T030000
RDATE:19810927T030000
RDATE:19820926T030000
RDATE:19830925T030000
RDATE:19840930T030000
RDATE:19850929T030000
RDATE:19860928T030000
RDATE:19870927T030000
RDATE:19880925T030000
RDATE:19890924T030000
RDATE:19900930T030000
RDATE:19910929T030000
RDATE:19920927T030000
RDATE:19930926T030000
RDATE:19940925T030000
RDATE:19950924T030000
END:STANDARD
BEGIN:STANDARD
TZOFFSETFROM:+0100
TZOFFSETTO:+0100
TZNAME:CET
DTSTART:19790101T000000
RDATE:19790101T000000
END:STANDARD
END:VTIMEZONE
BEGIN:VEVENT
UID:ietf-68-451-sipping
SUMMARY:sipping - Session Initiation Proposal Investigation
LOCATION:Congress II
STATUS:CONFIRMED
CLASS:PUBLIC
DTSTART;TZID=Europe/Prague:20070319T090000
DTEND;TZID=Europe/Prague:20070319T113000
DTSTAMP:20161222T095711Z
URL:https://datatracker.ietf.org/meeting/68/materials/agenda-68-sipping
DESCRIPTION:Morning Session I\n
 \n
 Agenda https://datatracker.ietf.org/meeting/68/materials/agenda-68-sipping\n
 \n
 Session materials: https://datatracker.ietf.org/meeting/68/session/sipping\n
 \n
 See in schedule: https://datatracker.ietf.org/meeting/68/agenda#row-68-2007-03-19-mon-0900-rai-sipping\n
END:VEVENT
BEGIN:VEVENT
UID:ietf-68-396-avt
SUMMARY:avt - Audio/Video Transport
LOCATION:Roma/Vienna/Madrid
STATUS:CONFIRMED
CLASS:PUBLIC
DTSTART;TZID=Europe/Prague:20070319T130000
DTEND;TZID=Europe/Prague:20070319T150000
DTSTAMP:20161222T095711Z
URL:https://datatracker.ietf.org/meeting/68/materials/agenda-68-avt
DESCRIPTION:Afternoon Session I\n
 \n
 Agenda https://datatracker.ietf.org/meeting/68/materials/agenda-68-avt\n
 \n
 Session materials: https://datatracker.ietf.org/meeting/68/session/avt\n
 \n
 See in schedule: https://datatracker.ietf.org/meeting/68/agenda#row-68-2007-03-19-mon-1300-rai-avt\n
END:VEVENT
BEGIN:VEVENT
UID:ietf-68-389-enum
SUMMARY:enum - Telephone Number Mapping
LOCATION:Congress III
STATUS:CONFIRMED
CLASS:PUBLIC
DTSTART;TZID=Europe/Prague:20070319T130000
DTEND;TZID=Europe/Prague:20070319T150000
DTSTAMP:20161222T095711Z
URL:https://datatracker.ietf.org/meeting/68/materials/agenda-68-enum
DESCRIPTION:Afternoon Session I\n
 \n
 Agenda https://datatracker.ietf.org/meeting/68/materials/agenda-68-enum\n
 \n
 Session materials: https://datatracker.ietf.org/meeting/68/session/enum\n
 \n
 See in schedule: https://datatracker.ietf.org/meeting/68/agenda#row-68-2007-03-19-mon-1300-rai-enum\n
END:VEVENT
BEGIN:VEVENT
UID:ietf-68-495-rtpsec
SUMMARY:rtpsec - RTP Secure Keying
LOCATION:Congress II
STATUS:CONFIRMED
CLASS:PUBLIC
DTSTART;TZID=Europe/Prague:20070319T152000
DTEND;TZID=Europe/Prague:20070319T172000
DTSTAMP:20161222T095711Z
URL:https://datatracker.ietf.org/meeting/68/materials/agenda-68-rtpsec
DESCRIPTION:Afternoon Session II\n
 \n
 Agenda https://datatracker.ietf.org/meeting/68/materials/agenda-68-rtpsec\n
 \n
 Session materials: https://datatracker.ietf.org/meeting/68/session/rtpsec\n
 \n
 See in schedule: https://datatracker.ietf.org/meeting/68/agenda#row-68-2007-03-19-mon-1520-rai-rtpsec\n
END:VEVENT
BEGIN:VEVENT
UID:ietf-68-463-mmusic
SUMMARY:mmusic - Multiparty Multimedia Session Control
LOCATION:Congress I
STATUS:CONFIRMED
CLASS:PUBLIC
DTSTART;TZID=Europe/Prague:20070319T174000
DTEND;TZID=Europe/Prague:20070319T195000
DTSTAMP:20161222T095711Z
URL:https://datatracker.ietf.org/meeting/68/materials/agenda-68-mmusic
DESCRIPTION:Afternoon Session III\n
 \n
 Agenda https://datatracker.ietf.org/meeting/68/materials/agenda-68-mmusic\n
 \n
 Session materials: https://datatracker.ietf.org/meeting/68/session/mmusic\n
 \n
 See in schedule: https://datatracker.ietf.org/meeting/68/agenda#row-68-2007-03-19-mon-1740-rai-mmusic\n
END:VEVENT
BEGIN:VEVENT
UID:ietf-68-466-speermint
SUMMARY:speermint - Session PEERing for Multimedia INTerconnect (moved from Thursday at 0900)
LOCATION:Congress I
STATUS:CONFIRMED
CLASS:PUBLIC
DTSTART;TZID=Europe/Prague:20070320T090000
DTEND;TZID=Europe/Prague:20070320T113000
DTSTAMP:20161222T095711Z
URL:https://datatracker.ietf.org/meeting/68/materials/agenda-68-speermint
DESCRIPTION:Morning Session I\n
 Note: moved from Thursday at 0900\n
 \n
 Agenda https://datatracker.ietf.org/meeting/68/materials/agenda-68-speermint\n
 \n
 Session materials: https://datatracker.ietf.org/meeting/68/session/speermint\n
 \n
 See in schedule: https://datatracker.ietf.org/meeting/68/agenda#row-68-2007-03-20-tue-0900-rai-speermint\n
END:VEVENT
BEGIN:VEVENT
UID:ietf-68-487-bliss
SUMMARY:bliss - Basic Level of Interoperability for SIP Services
LOCATION:Grand Ballroom
STATUS:CONFIRMED
CLASS:PUBLIC
DTSTART;TZID=Europe/Prague:20070320T130000
DTEND;TZID=Europe/Prague:20070320T150000
DTSTAMP:20161222T095711Z
URL:https://datatracker.ietf.org/meeting/68/materials/agenda-68-bliss
DESCRIPTION:Afternoon Session I\n
 \n
 Agenda https://datatracker.ietf.org/meeting/68/materials/agenda-68-bliss\n
 \n
 Session materials: https://datatracker.ietf.org/meeting/68/session/bliss\n
 \n
 See in schedule: https://datatracker.ietf.org/meeting/68/agenda#row-68-2007-03-20-tue-1300-rai-bliss\n
END:VEVENT
BEGIN:VEVENT
UID:ietf-68-465-xcon
SUMMARY:xcon - Centralized Conferencing
LOCATION:Congress I
STATUS:CONFIRMED
CLASS:PUBLIC
DTSTART;TZID=Europe/Prague:20070320T152000
DTEND;TZID=Europe/Prague:20070320T172000
DTSTAMP:20161222T095711Z
URL:https://datatracker.ietf.org/meeting/68/materials/agenda-68-xcon
DESCRIPTION:Afternoon Session II\n
 \n
 Agenda https://datatracker.ietf.org/meeting/68/materials/agenda-68-xcon\n
 \n
 Session materials: https://datatracker.ietf.org/meeting/68/session/xcon\n
 \n
 See in schedule: https://datatracker.ietf.org/meeting/68/agenda#row-68-2007-03-20-tue-1520-rai-xcon\n
END:VEVENT
BEGIN:VEVENT
UID:ietf-68-479-p2psip
SUMMARY:p2psip - Peer-to-Peer Session Initiation Protocol
LOCATION:Congress II
STATUS:CONFIRMED
CLASS:PUBLIC
DTSTART;TZID=Europe/Prague:20070321T090000
DTEND;TZID=Europe/Prague:20070321T113000
DTSTAMP:20161222T095711Z
URL:https://datatracker.ietf.org/meeting/68/materials/agenda-68-p2psip
DESCRIPTION:Morning Session I\n
 \n
 Agenda https://datatracker.ietf.org/meeting/68/materials/agenda-68-p2psip\n
 \n
 Session materials: https://datatracker.ietf.org/meeting/68/session/p2psip\n
 \n
 See in schedule: https://datatracker.ietf.org/meeting/68/agenda#row-68-2007-03-21-wed-0900-rai-p2psip\n
END:VEVENT
BEGIN:VEVENT
UID:ietf-68-397-avt
SUMMARY:avt - Audio/Video Transport
LOCATION:Grand Ballroom
STATUS:CONFIRMED
CLASS:PUBLIC
DTSTART;TZID=Europe/Prague:20070321T151000
DTEND;TZID=Europe/Prague:20070321T161000
DTSTAMP:20161222T095711Z
URL:https://datatracker.ietf.org/meeting/68/materials/agenda-68-avt
DESCRIPTION:Afternoon Session II\n
 \n
 Agenda https://datatracker.ietf.org/meeting/68/materials/agenda-68-avt\n
 \n
 Session materials: https://datatracker.ietf.org/meeting/68/session/avt\n
 \n
 See in schedule: https://datatracker.ietf.org/meeting/68/agenda#row-68-2007-03-21-wed-1510-rai-avt\n
END:VEVENT
BEGIN:VEVENT
UID:ietf-68-449-geopriv
SUMMARY:geopriv - Geographic Location/Privacy (moved from Tuesday at 0900)
LOCATION:Congress I
STATUS:CONFIRMED
CLASS:PUBLIC
DTSTART;TZID=Europe/Prague:20070322T090000
DTEND;TZID=Europe/Prague:20070322T113000
DTSTAMP:20161222T095711Z
URL:https://datatracker.ietf.org/meeting/68/materials/agenda-68-geopriv
DESCRIPTION:Morning Session I\n
 Note: moved from Tuesday at 0900\n
 \n
 Agenda https://datatracker.ietf.org/meeting/68/materials/agenda-68-geopriv\n
 \n
 Session materials: https://datatracker.ietf.org/meeting/68/session/geopriv\n
 \n
 See in schedule: https://datatracker.ietf.org/meeting/68/agenda#row-68-2007-03-22-thu-0900-rai-geopriv\n
END:VEVENT
BEGIN:VEVENT
UID:ietf-68-438-mediactrl
SUMMARY:mediactrl - Media Server Control
LOCATION:Karlin II
STATUS:CONFIRMED
CLASS:PUBLIC
DTSTART;TZID=Europe/Prague:20070322T130000
DTEND;TZID=Europe/Prague:20070322T150000
DTSTAMP:20161222T095711Z
URL:https://datatracker.ietf.org/meeting/68/materials/agenda-68-mediactrl
DESCRIPTION:Afternoon Session I\n
 \n
 Agenda https://datatracker.ietf.org/meeting/68/materials/agenda-68-mediactrl\n
 \n
 Session materials: https://datatracker.ietf.org/meeting/68/session/mediactrl\n
 \n
 See in schedule: https://datatracker.ietf.org/meeting/68/agenda#row-68-2007-03-22-thu-1300-rai-mediactrl\n
END:VEVENT
BEGIN:VEVENT
UID:ietf-68-409-simple
SUMMARY:simple - SIP for Instant Messaging and Presence Leveraging Extensions
LOCATION:Congress I
STATUS:CONFIRMED
CLASS:PUBLIC
DTSTART;TZID=Europe/Prague:20070322T130000
DTEND;TZID=Europe/Prague:20070322T150000
DTSTAMP:20161222T095711Z
URL:https://datatracker.ietf.org/meeting/68/materials/agenda-68-simple
DESCRIPTION:Afternoon Session I\n
 \n
 Agenda https://datatracker.ietf.org/meeting/68/materials/agenda-68-simple\n
 \n
 Session materials: https://datatracker.ietf.org/meeting/68/session/simple\n
 \n
 See in schedule: https://datatracker.ietf.org/meeting/68/agenda#row-68-2007-03-22-thu-1300-rai-simple\n
END:VEVENT
BEGIN:VEVENT
UID:ietf-68-399-ecrit
SUMMARY:ecrit - Emergency Context Resolution with Internet Technologies
LOCATION:Congress I
STATUS:CONFIRMED
CLASS:PUBLIC
DTSTART;TZID=Europe/Prague:20070322T151000
DTEND;TZID=Europe/Prague:20070322T161000
DTSTAMP:20161222T095710Z
URL:https://datatracker.ietf.org/meeting/68/materials/agenda-68-ecrit
DESCRIPTION:Afternoon Session II\n
 \n
 Agenda https://datatracker.ietf.org/meeting/68/materials/agenda-68-ecrit\n
 \n
 Session materials: https://datatracker.ietf.org/meeting/68/session/ecrit\n
 \n
 See in schedule: https://datatracker.ietf.org/meeting/68/agenda#row-68-2007-03-22-thu-1510-rai-ecrit\n
END:VEVENT
BEGIN:VEVENT
UID:ietf-68-452-sipping
SUMMARY:sipping - Session Initiation Proposal Investigation
LOCATION:Congress II
STATUS:CONFIRMED
CLASS:PUBLIC
DTSTART;TZID=Europe/Prague:20070323T090000
DTEND;TZID=Europe/Prague:20070323T113000
DTSTAMP:20161222T095710Z
URL:https://datatracker.ietf.org/meeting/68/materials/agenda-68-sipping
DESCRIPTION:Morning Session I\n
 \n
 Agenda https://datatracker.ietf.org/meeting/68/materials/agenda-68-sipping\n
 \n
 Session materials: https://datatracker.ietf.org/meeting/68/session/sipping\n
 \n
 See in schedule: https://datatracker.ietf.org/meeting/68/agenda#row-68-2007-03-23-fri-0900-rai-sipping\n
END:VEVENT
END:VCALENDAR
