BEGIN:VCALENDAR
VERSION:2.0
METHOD:PUBLISH
PRODID:-//IETF//datatracker.ietf.org ical agenda//EN
BEGIN:VTIMEZONE
TZID:Europe/Prague
X-LIC-LOCATION:Europe/Prague
BEGIN:DAYLIGHT
TZOFFSETFROM:+0100
TZOFFSETTO:+0200
TZNAME:CEST
DTSTART:19810329T020000
RRULE:FREQ=YEARLY;BYMONTH=3;BYDAY=-1SU
END:DAYLIGHT
BEGIN:STANDARD
TZOFFSETFROM:+0200
TZOFFSETTO:+0100
TZNAME:CET
DTSTART:19961027T030000
RRULE:FREQ=YEARLY;BYMONTH=10;BYDAY=-1SU
END:STANDARD
BEGIN:STANDARD
TZOFFSETFROM:+005744
TZOFFSETTO:+005744
TZNAME:PMT
DTSTART:18500101T000000
RDATE:18500101T000000
END:STANDARD
BEGIN:STANDARD
TZOFFSETFROM:+005744
TZOFFSETTO:+0100
TZNAME:CET
DTSTART:18911001T000000
RDATE:18911001T000000
END:STANDARD
BEGIN:DAYLIGHT
TZOFFSETFROM:+0100
TZOFFSETTO:+0200
TZNAME:CEST
DTSTART:19160430T230000
RDATE:19160430T230000
RDATE:19170416T020000
RDATE:19180415T020000
RDATE:19400401T020000
RDATE:19430329T020000
RDATE:19440403T020000
RDATE:19450408T020000
RDATE:19460506T020000
RDATE:19470420T020000
RDATE:19480418T020000
RDATE:19490409T020000
RDATE:19790401T020000
RDATE:19800406T020000
END:DAYLIGHT
BEGIN:STANDARD
TZOFFSETFROM:+0200
TZOFFSETTO:+0100
TZNAME:CET
DTSTART:19161001T010000
RDATE:19161001T010000
RDATE:19170917T030000
RDATE:19180916T030000
RDATE:19421102T030000
RDATE:19431004T030000
RDATE:19440917T030000
RDATE:19451118T030000
RDATE:19461006T030000
RDATE:19471005T030000
RDATE:19481003T030000
RDATE:19491002T030000
RDATE:19790930T030000
RDATE:19800928T030000
RDATE:19810927T030000
RDATE:19820926T030000
RDATE:19830925T030000
RDATE:19840930T030000
RDATE:19850929T030000
RDATE:19860928T030000
RDATE:19870927T030000
RDATE:19880925T030000
RDATE:19890924T030000
RDATE:19900930T030000
RDATE:19910929T030000
RDATE:19920927T030000
RDATE:19930926T030000
RDATE:19940925T030000
RDATE:19950924T030000
END:STANDARD
BEGIN:STANDARD
TZOFFSETFROM:+0100
TZOFFSETTO:+0100
TZNAME:CET
DTSTART:19790101T000000
RDATE:19790101T000000
END:STANDARD
END:VTIMEZONE
BEGIN:VEVENT
UID:ietf-68-416-ccamp
SUMMARY:ccamp - Common Control and Measurement Plane
LOCATION:Grand Ballroom
STATUS:CONFIRMED
CLASS:PUBLIC
DTSTART;TZID=Europe/Prague:20070319T090000
DTEND;TZID=Europe/Prague:20070319T113000
DTSTAMP:20161222T095711Z
URL:https://datatracker.ietf.org/meeting/68/materials/agenda-68-ccamp
DESCRIPTION:Morning Session I\n
 \n
 Agenda https://datatracker.ietf.org/meeting/68/materials/agenda-68-ccamp\n
 \n
 Session materials: https://datatracker.ietf.org/meeting/68/session/ccamp\n
 \n
 See in schedule: https://datatracker.ietf.org/meeting/68/agenda#row-68-2007-03-19-mon-0900-rtg-ccamp\n
END:VEVENT
BEGIN:VEVENT
UID:ietf-68-395-sidr
SUMMARY:sidr - Secure Inter-Domain Routing
LOCATION:Grand Ballroom
STATUS:CONFIRMED
CLASS:PUBLIC
DTSTART;TZID=Europe/Prague:20070319T130000
DTEND;TZID=Europe/Prague:20070319T150000
DTSTAMP:20161222T095711Z
URL:https://datatracker.ietf.org/meeting/68/materials/agenda-68-sidr
DESCRIPTION:Afternoon Session I\n
 \n
 Agenda https://datatracker.ietf.org/meeting/68/materials/agenda-68-sidr\n
 \n
 Session materials: https://datatracker.ietf.org/meeting/68/session/sidr\n
 \n
 See in schedule: https://datatracker.ietf.org/meeting/68/agenda#row-68-2007-03-19-mon-1300-rtg-sidr\n
END:VEVENT
BEGIN:VEVENT
UID:ietf-68-403-ospf
SUMMARY:ospf - Open Shortest Path First IGP
LOCATION:Congress III
STATUS:CONFIRMED
CLASS:PUBLIC
DTSTART;TZID=Europe/Prague:20070319T152000
DTEND;TZID=Europe/Prague:20070319T172000
DTSTAMP:20161222T095711Z
URL:https://datatracker.ietf.org/meeting/68/materials/agenda-68-ospf
DESCRIPTION:Afternoon Session II\n
 \n
 Agenda https://datatracker.ietf.org/meeting/68/materials/agenda-68-ospf\n
 \n
 Session materials: https://datatracker.ietf.org/meeting/68/session/ospf\n
 \n
 See in schedule: https://datatracker.ietf.org/meeting/68/agenda#row-68-2007-03-19-mon-1520-rtg-ospf\n
END:VEVENT
BEGIN:VEVENT
UID:ietf-68-423-l1vpn
SUMMARY:l1vpn - Layer 1 Virtual Private Networks
LOCATION:Athens/Barcelona/Berlin
STATUS:CONFIRMED
CLASS:PUBLIC
DTSTART;TZID=Europe/Prague:20070320T090000
DTEND;TZID=Europe/Prague:20070320T113000
DTSTAMP:20161222T095711Z
URL:https://datatracker.ietf.org/meeting/68/materials/agenda-68-l1vpn
DESCRIPTION:Morning Session I\n
 \n
 Agenda https://datatracker.ietf.org/meeting/68/materials/agenda-68-l1vpn\n
 \n
 Session materials: https://datatracker.ietf.org/meeting/68/session/l1vpn\n
 \n
 See in schedule: https://datatracker.ietf.org/meeting/68/agenda#row-68-2007-03-20-tue-0900-rtg-l1vpn\n
END:VEVENT
BEGIN:VEVENT
UID:ietf-68-417-ccamp
SUMMARY:ccamp - Common Control and Measurement Plane
LOCATION:Congress III
STATUS:CONFIRMED
CLASS:PUBLIC
DTSTART;TZID=Europe/Prague:20070320T130000
DTEND;TZID=Europe/Prague:20070320T150000
DTSTAMP:20161222T095711Z
URL:https://datatracker.ietf.org/meeting/68/materials/agenda-68-ccamp
DESCRIPTION:Afternoon Session I\n
 \n
 Agenda https://datatracker.ietf.org/meeting/68/materials/agenda-68-ccamp\n
 \n
 Session materials: https://datatracker.ietf.org/meeting/68/session/ccamp\n
 \n
 See in schedule: https://datatracker.ietf.org/meeting/68/agenda#row-68-2007-03-20-tue-1300-rtg-ccamp\n
END:VEVENT
BEGIN:VEVENT
UID:ietf-68-398-forces
SUMMARY:forces - Forwarding and Control Element Separation
LOCATION:Karlin I
STATUS:CONFIRMED
CLASS:PUBLIC
DTSTART;TZID=Europe/Prague:20070320T152000
DTEND;TZID=Europe/Prague:20070320T172000
DTSTAMP:20161222T095711Z
URL:https://datatracker.ietf.org/meeting/68/materials/agenda-68-forces
DESCRIPTION:Afternoon Session II\n
 \n
 Agenda https://datatracker.ietf.org/meeting/68/materials/agenda-68-forces\n
 \n
 Session materials: https://datatracker.ietf.org/meeting/68/session/forces\n
 \n
 See in schedule: https://datatracker.ietf.org/meeting/68/agenda#row-68-2007-03-20-tue-1520-rtg-forces\n
END:VEVENT
BEGIN:VEVENT
UID:ietf-68-425-pwe3
SUMMARY:pwe3 - Pseudowire Emulation Edge to Edge
LOCATION:Grand Ballroom
STATUS:CONFIRMED
CLASS:PUBLIC
DTSTART;TZID=Europe/Prague:20070320T152000
DTEND;TZID=Europe/Prague:20070320T172000
DTSTAMP:20161222T095711Z
URL:https://datatracker.ietf.org/meeting/68/materials/agenda-68-pwe3
DESCRIPTION:Afternoon Session II\n
 \n
 Agenda https://datatracker.ietf.org/meeting/68/materials/agenda-68-pwe3\n
 \n
 Session materials: https://datatracker.ietf.org/meeting/68/session/pwe3\n
 \n
 See in schedule: https://datatracker.ietf.org/meeting/68/agenda#row-68-2007-03-20-tue-1520-rtg-pwe3\n
END:VEVENT
BEGIN:VEVENT
UID:ietf-68-406-pim
SUMMARY:pim - Protocol Independent Multicast
LOCATION:Roma/Vienna/Madrid
STATUS:CONFIRMED
CLASS:PUBLIC
DTSTART;TZID=Europe/Prague:20070320T174000
DTEND;TZID=Europe/Prague:20070320T184000
DTSTAMP:20161222T095711Z
URL:https://datatracker.ietf.org/meeting/68/materials/agenda-68-pim
DESCRIPTION:Afternoon Session III\n
 \n
 Agenda https://datatracker.ietf.org/meeting/68/materials/agenda-68-pim\n
 \n
 Session materials: https://datatracker.ietf.org/meeting/68/session/pim\n
 \n
 See in schedule: https://datatracker.ietf.org/meeting/68/agenda#row-68-2007-03-20-tue-1740-rtg-pim\n
END:VEVENT
BEGIN:VEVENT
UID:ietf-68-496-bfd
SUMMARY:bfd - Bidirectional Forwarding Detection
LOCATION:Congress I
STATUS:CONFIRMED
CLASS:PUBLIC
DTSTART;TZID=Europe/Prague:20070320T185000
DTEND;TZID=Europe/Prague:20070320T195000
DTSTAMP:20161222T095711Z
URL:https://datatracker.ietf.org/meeting/68/materials/agenda-68-bfd
DESCRIPTION:Afternoon Session IV\n
 \n
 Agenda https://datatracker.ietf.org/meeting/68/materials/agenda-68-bfd\n
 \n
 Session materials: https://datatracker.ietf.org/meeting/68/session/bfd\n
 \n
 See in schedule: https://datatracker.ietf.org/meeting/68/agenda#row-68-2007-03-20-tue-1850-rtg-bfd\n
END:VEVENT
BEGIN:VEVENT
UID:ietf-68-415-idr
SUMMARY:idr - Inter-Domain Routing
LOCATION:Athens/Barcelona/Berlin
STATUS:CONFIRMED
CLASS:PUBLIC
DTSTART;TZID=Europe/Prague:20070321T090000
DTEND;TZID=Europe/Prague:20070321T113000
DTSTAMP:20161222T095711Z
URL:https://datatracker.ietf.org/meeting/68/materials/agenda-68-idr
DESCRIPTION:Morning Session I\n
 \n
 Agenda https://datatracker.ietf.org/meeting/68/materials/agenda-68-idr\n
 \n
 Session materials: https://datatracker.ietf.org/meeting/68/session/idr\n
 \n
 See in schedule: https://datatracker.ietf.org/meeting/68/agenda#row-68-2007-03-21-wed-0900-rtg-idr\n
END:VEVENT
BEGIN:VEVENT
UID:ietf-68-454-manet
SUMMARY:manet - Mobile Ad-hoc Networks
LOCATION:Athens/Barcelona/Berlin
STATUS:CONFIRMED
CLASS:PUBLIC
DTSTART;TZID=Europe/Prague:20070321T130000
DTEND;TZID=Europe/Prague:20070321T150000
DTSTAMP:20161222T095711Z
URL:https://datatracker.ietf.org/meeting/68/materials/agenda-68-manet
DESCRIPTION:Afternoon Session I\n
 \n
 Agenda https://datatracker.ietf.org/meeting/68/materials/agenda-68-manet\n
 \n
 Session materials: https://datatracker.ietf.org/meeting/68/session/manet\n
 \n
 See in schedule: https://datatracker.ietf.org/meeting/68/agenda#row-68-2007-03-21-wed-1300-rtg-manet\n
END:VEVENT
BEGIN:VEVENT
UID:ietf-68-414-pce
SUMMARY:pce - Path Computation Element
LOCATION:Congress III
STATUS:CONFIRMED
CLASS:PUBLIC
DTSTART;TZID=Europe/Prague:20070321T130000
DTEND;TZID=Europe/Prague:20070321T150000
DTSTAMP:20161222T095711Z
URL:https://datatracker.ietf.org/meeting/68/materials/agenda-68-pce
DESCRIPTION:Afternoon Session I\n
 \n
 Agenda https://datatracker.ietf.org/meeting/68/materials/agenda-68-pce\n
 \n
 Session materials: https://datatracker.ietf.org/meeting/68/session/pce\n
 \n
 See in schedule: https://datatracker.ietf.org/meeting/68/agenda#row-68-2007-03-21-wed-1300-rtg-pce\n
END:VEVENT
BEGIN:VEVENT
UID:ietf-68-493-isis
SUMMARY:isis - IS-IS for IP Internets
LOCATION:Congress III
STATUS:CONFIRMED
CLASS:PUBLIC
DTSTART;TZID=Europe/Prague:20070321T151000
DTEND;TZID=Europe/Prague:20070321T161000
DTSTAMP:20161222T095711Z
URL:https://datatracker.ietf.org/meeting/68/materials/agenda-68-isis
DESCRIPTION:Afternoon Session II\n
 \n
 Agenda https://datatracker.ietf.org/meeting/68/materials/agenda-68-isis\n
 \n
 Session materials: https://datatracker.ietf.org/meeting/68/session/isis\n
 \n
 See in schedule: https://datatracker.ietf.org/meeting/68/agenda#row-68-2007-03-21-wed-1510-rtg-isis\n
END:VEVENT
BEGIN:VEVENT
UID:ietf-68-478-l2vpn
SUMMARY:l2vpn - Layer 2 Virtual Private Networks
LOCATION:Congress II
STATUS:CONFIRMED
CLASS:PUBLIC
DTSTART;TZID=Europe/Prague:20070321T151000
DTEND;TZID=Europe/Prague:20070321T161000
DTSTAMP:20161222T095711Z
URL:https://datatracker.ietf.org/meeting/68/materials/agenda-68-l2vpn
DESCRIPTION:Afternoon Session II\n
 \n
 Agenda https://datatracker.ietf.org/meeting/68/materials/agenda-68-l2vpn\n
 \n
 Session materials: https://datatracker.ietf.org/meeting/68/session/l2vpn\n
 \n
 See in schedule: https://datatracker.ietf.org/meeting/68/agenda#row-68-2007-03-21-wed-1510-rtg-l2vpn\n
END:VEVENT
BEGIN:VEVENT
UID:ietf-68-427-mpls
SUMMARY:mpls - Multiprotocol Label Switching
LOCATION:Congress III
STATUS:CONFIRMED
CLASS:PUBLIC
DTSTART;TZID=Europe/Prague:20070322T090000
DTEND;TZID=Europe/Prague:20070322T113000
DTSTAMP:20161222T095711Z
URL:https://datatracker.ietf.org/meeting/68/materials/agenda-68-mpls
DESCRIPTION:Morning Session I\n
 \n
 Agenda https://datatracker.ietf.org/meeting/68/materials/agenda-68-mpls\n
 \n
 Session materials: https://datatracker.ietf.org/meeting/68/session/mpls\n
 \n
 See in schedule: https://datatracker.ietf.org/meeting/68/agenda#row-68-2007-03-22-thu-0900-rtg-mpls\n
END:VEVENT
BEGIN:VEVENT
UID:ietf-68-445-rtgarea
SUMMARY:rtgarea - Routing Area Open Meeting
LOCATION:Congress III
STATUS:CONFIRMED
CLASS:PUBLIC
DTSTART;TZID=Europe/Prague:20070322T130000
DTEND;TZID=Europe/Prague:20070322T150000
DTSTAMP:20161222T095711Z
URL:https://datatracker.ietf.org/meeting/68/materials/agenda-68-rtgarea
DESCRIPTION:Afternoon Session I\n
 \n
 Agenda https://datatracker.ietf.org/meeting/68/materials/agenda-68-rtgarea\n
 \n
 Session materials: https://datatracker.ietf.org/meeting/68/session/rtgarea\n
 \n
 See in schedule: https://datatracker.ietf.org/meeting/68/agenda#row-68-2007-03-22-thu-1300-rtg-rtgarea\n
END:VEVENT
BEGIN:VEVENT
UID:ietf-68-485-l3vpn
SUMMARY:l3vpn - Layer 3 Virtual Private Networks
LOCATION:Grand Ballroom
STATUS:CONFIRMED
CLASS:PUBLIC
DTSTART;TZID=Europe/Prague:20070322T151000
DTEND;TZID=Europe/Prague:20070322T161000
DTSTAMP:20161222T095710Z
URL:https://datatracker.ietf.org/meeting/68/materials/agenda-68-l3vpn
DESCRIPTION:Afternoon Session II\n
 \n
 Agenda https://datatracker.ietf.org/meeting/68/materials/agenda-68-l3vpn\n
 \n
 Session materials: https://datatracker.ietf.org/meeting/68/session/l3vpn\n
 \n
 See in schedule: https://datatracker.ietf.org/meeting/68/agenda#row-68-2007-03-22-thu-1510-rtg-l3vpn\n
END:VEVENT
END:VCALENDAR
