BEGIN:VCALENDAR
VERSION:2.0
METHOD:PUBLISH
PRODID:-//IETF//datatracker.ietf.org ical agenda//EN
BEGIN:VTIMEZONE
TZID:Europe/Prague
X-LIC-LOCATION:Europe/Prague
BEGIN:DAYLIGHT
TZOFFSETFROM:+0100
TZOFFSETTO:+0200
TZNAME:CEST
DTSTART:19810329T020000
RRULE:FREQ=YEARLY;BYMONTH=3;BYDAY=-1SU
END:DAYLIGHT
BEGIN:STANDARD
TZOFFSETFROM:+0200
TZOFFSETTO:+0100
TZNAME:CET
DTSTART:19961027T030000
RRULE:FREQ=YEARLY;BYMONTH=10;BYDAY=-1SU
END:STANDARD
BEGIN:STANDARD
TZOFFSETFROM:+005744
TZOFFSETTO:+005744
TZNAME:PMT
DTSTART:18500101T000000
RDATE:18500101T000000
END:STANDARD
BEGIN:STANDARD
TZOFFSETFROM:+005744
TZOFFSETTO:+0100
TZNAME:CET
DTSTART:18911001T000000
RDATE:18911001T000000
END:STANDARD
BEGIN:DAYLIGHT
TZOFFSETFROM:+0100
TZOFFSETTO:+0200
TZNAME:CEST
DTSTART:19160430T230000
RDATE:19160430T230000
RDATE:19170416T020000
RDATE:19180415T020000
RDATE:19400401T020000
RDATE:19430329T020000
RDATE:19440403T020000
RDATE:19450408T020000
RDATE:19460506T020000
RDATE:19470420T020000
RDATE:19480418T020000
RDATE:19490409T020000
RDATE:19790401T020000
RDATE:19800406T020000
END:DAYLIGHT
BEGIN:STANDARD
TZOFFSETFROM:+0200
TZOFFSETTO:+0100
TZNAME:CET
DTSTART:19161001T010000
RDATE:19161001T010000
RDATE:19170917T030000
RDATE:19180916T030000
RDATE:19421102T030000
RDATE:19431004T030000
RDATE:19440917T030000
RDATE:19451118T030000
RDATE:19461006T030000
RDATE:19471005T030000
RDATE:19481003T030000
RDATE:19491002T030000
RDATE:19790930T030000
RDATE:19800928T030000
RDATE:19810927T030000
RDATE:19820926T030000
RDATE:19830925T030000
RDATE:19840930T030000
RDATE:19850929T030000
RDATE:19860928T030000
RDATE:19870927T030000
RDATE:19880925T030000
RDATE:19890924T030000
RDATE:19900930T030000
RDATE:19910929T030000
RDATE:19920927T030000
RDATE:19930926T030000
RDATE:19940925T030000
RDATE:19950924T030000
END:STANDARD
BEGIN:STANDARD
TZOFFSETFROM:+0100
TZOFFSETTO:+0100
TZNAME:CET
DTSTART:19790101T000000
RDATE:19790101T000000
END:STANDARD
END:VTIMEZONE
BEGIN:VEVENT
UID:ietf-68-390-nfsv4
SUMMARY:nfsv4 - Network File System Version 4
LOCATION:Karlin II
STATUS:CONFIRMED
CLASS:PUBLIC
DTSTART;TZID=Europe/Prague:20070319T090000
DTEND;TZID=Europe/Prague:20070319T113000
DTSTAMP:20161222T095711Z
URL:https://datatracker.ietf.org/meeting/68/materials/agenda-68-nfsv4
DESCRIPTION:Morning Session I\n
 \n
 Agenda https://datatracker.ietf.org/meeting/68/materials/agenda-68-nfsv4\n
 \n
 Session materials: https://datatracker.ietf.org/meeting/68/session/nfsv4\n
 \n
 See in schedule: https://datatracker.ietf.org/meeting/68/agenda#row-68-2007-03-19-mon-0900-tsv-nfsv4\n
END:VEVENT
BEGIN:VEVENT
UID:ietf-68-482-pcn
SUMMARY:pcn - Congestion and Pre-Congestion Notification
LOCATION:Athens/Barcelona/Berlin
STATUS:CONFIRMED
CLASS:PUBLIC
DTSTART;TZID=Europe/Prague:20070319T174000
DTEND;TZID=Europe/Prague:20070319T195000
DTSTAMP:20161222T095711Z
URL:https://datatracker.ietf.org/meeting/68/materials/agenda-68-pcn
DESCRIPTION:Afternoon Session III\n
 \n
 Agenda https://datatracker.ietf.org/meeting/68/materials/agenda-68-pcn\n
 \n
 Session materials: https://datatracker.ietf.org/meeting/68/session/pcn\n
 \n
 See in schedule: https://datatracker.ietf.org/meeting/68/agenda#row-68-2007-03-19-mon-1740-tsv-pcn\n
END:VEVENT
BEGIN:VEVENT
UID:ietf-68-456-nsis
SUMMARY:nsis - Next Steps in Signaling
LOCATION:Congress II
STATUS:CONFIRMED
CLASS:PUBLIC
DTSTART;TZID=Europe/Prague:20070320T090000
DTEND;TZID=Europe/Prague:20070320T113000
DTSTAMP:20161222T095711Z
URL:https://datatracker.ietf.org/meeting/68/materials/agenda-68-nsis
DESCRIPTION:Morning Session I\n
 \n
 Agenda https://datatracker.ietf.org/meeting/68/materials/agenda-68-nsis\n
 \n
 Session materials: https://datatracker.ietf.org/meeting/68/session/nsis\n
 \n
 See in schedule: https://datatracker.ietf.org/meeting/68/agenda#row-68-2007-03-20-tue-0900-tsv-nsis\n
END:VEVENT
BEGIN:VEVENT
UID:ietf-68-412-dccp
SUMMARY:dccp - Datagram Congestion Control Protocol
LOCATION:Athens/Barcelona/Berlin
STATUS:CONFIRMED
CLASS:PUBLIC
DTSTART;TZID=Europe/Prague:20070320T130000
DTEND;TZID=Europe/Prague:20070320T150000
DTSTAMP:20161222T095711Z
URL:https://datatracker.ietf.org/meeting/68/materials/agenda-68-dccp
DESCRIPTION:Afternoon Session I\n
 \n
 Agenda https://datatracker.ietf.org/meeting/68/materials/agenda-68-dccp\n
 \n
 Session materials: https://datatracker.ietf.org/meeting/68/session/dccp\n
 \n
 See in schedule: https://datatracker.ietf.org/meeting/68/agenda#row-68-2007-03-20-tue-1300-tsv-dccp\n
END:VEVENT
BEGIN:VEVENT
UID:ietf-68-443-tsvarea
SUMMARY:tsvarea - Transport Area Open Meeting
LOCATION:Congress III
STATUS:CONFIRMED
CLASS:PUBLIC
DTSTART;TZID=Europe/Prague:20070320T152000
DTEND;TZID=Europe/Prague:20070320T172000
DTSTAMP:20161222T095711Z
URL:https://datatracker.ietf.org/meeting/68/materials/agenda-68-tsvarea
DESCRIPTION:Afternoon Session II\n
 \n
 Agenda https://datatracker.ietf.org/meeting/68/materials/agenda-68-tsvarea\n
 \n
 Session materials: https://datatracker.ietf.org/meeting/68/session/tsvarea\n
 \n
 See in schedule: https://datatracker.ietf.org/meeting/68/agenda#row-68-2007-03-20-tue-1520-tsv-tsvarea\n
END:VEVENT
BEGIN:VEVENT
UID:ietf-68-472-tcpm
SUMMARY:tcpm - TCP Maintenance and Minor Extensions
LOCATION:Congress III
STATUS:CONFIRMED
CLASS:PUBLIC
DTSTART;TZID=Europe/Prague:20070320T174000
DTEND;TZID=Europe/Prague:20070320T184000
DTSTAMP:20161222T095711Z
URL:https://datatracker.ietf.org/meeting/68/materials/agenda-68-tcpm
DESCRIPTION:Afternoon Session III\n
 \n
 Agenda https://datatracker.ietf.org/meeting/68/materials/agenda-68-tcpm\n
 \n
 Session materials: https://datatracker.ietf.org/meeting/68/session/tcpm\n
 \n
 See in schedule: https://datatracker.ietf.org/meeting/68/agenda#row-68-2007-03-20-tue-1740-tsv-tcpm\n
END:VEVENT
BEGIN:VEVENT
UID:ietf-68-448-fecframe
SUMMARY:fecframe - FEC Framework
LOCATION:Roma/Vienna/Madrid
STATUS:CONFIRMED
CLASS:PUBLIC
DTSTART;TZID=Europe/Prague:20070320T185000
DTEND;TZID=Europe/Prague:20070320T195000
DTSTAMP:20161222T095711Z
URL:https://datatracker.ietf.org/meeting/68/materials/agenda-68-fecframe
DESCRIPTION:Afternoon Session IV\n
 \n
 Agenda https://datatracker.ietf.org/meeting/68/materials/agenda-68-fecframe\n
 \n
 Session materials: https://datatracker.ietf.org/meeting/68/session/fecframe\n
 \n
 See in schedule: https://datatracker.ietf.org/meeting/68/agenda#row-68-2007-03-20-tue-1850-tsv-fecframe\n
END:VEVENT
BEGIN:VEVENT
UID:ietf-68-441-tsvwg
SUMMARY:tsvwg - Transport Area Working Group
LOCATION:Congress III
STATUS:CONFIRMED
CLASS:PUBLIC
DTSTART;TZID=Europe/Prague:20070321T090000
DTEND;TZID=Europe/Prague:20070321T113000
DTSTAMP:20161222T095711Z
URL:https://datatracker.ietf.org/meeting/68/materials/agenda-68-tsvwg
DESCRIPTION:Morning Session I\n
 \n
 Agenda https://datatracker.ietf.org/meeting/68/materials/agenda-68-tsvwg\n
 \n
 Session materials: https://datatracker.ietf.org/meeting/68/session/tsvwg\n
 \n
 See in schedule: https://datatracker.ietf.org/meeting/68/agenda#row-68-2007-03-21-wed-0900-tsv-tsvwg\n
END:VEVENT
BEGIN:VEVENT
UID:ietf-68-393-ippm
SUMMARY:ippm - IP Performance Metrics
LOCATION:Karlin I
STATUS:CONFIRMED
CLASS:PUBLIC
DTSTART;TZID=Europe/Prague:20070321T130000
DTEND;TZID=Europe/Prague:20070321T150000
DTSTAMP:20161222T095711Z
URL:https://datatracker.ietf.org/meeting/68/materials/agenda-68-ippm
DESCRIPTION:Afternoon Session I\n
 \n
 Agenda https://datatracker.ietf.org/meeting/68/materials/agenda-68-ippm\n
 \n
 Session materials: https://datatracker.ietf.org/meeting/68/session/ippm\n
 \n
 See in schedule: https://datatracker.ietf.org/meeting/68/agenda#row-68-2007-03-21-wed-1300-tsv-ippm\n
END:VEVENT
BEGIN:VEVENT
UID:ietf-68-434-rmt
SUMMARY:rmt - Reliable Multicast Transport
LOCATION:Grand Ballroom
STATUS:CONFIRMED
CLASS:PUBLIC
DTSTART;TZID=Europe/Prague:20070321T130000
DTEND;TZID=Europe/Prague:20070321T150000
DTSTAMP:20161222T095711Z
URL:https://datatracker.ietf.org/meeting/68/materials/agenda-68-rmt
DESCRIPTION:Afternoon Session I\n
 \n
 Agenda https://datatracker.ietf.org/meeting/68/materials/agenda-68-rmt\n
 \n
 Session materials: https://datatracker.ietf.org/meeting/68/session/rmt\n
 \n
 See in schedule: https://datatracker.ietf.org/meeting/68/agenda#row-68-2007-03-21-wed-1300-tsv-rmt\n
END:VEVENT
BEGIN:VEVENT
UID:ietf-68-437-behave
SUMMARY:behave - Behavior Engineering for Hindrance Avoidance
LOCATION:Congress II
STATUS:CONFIRMED
CLASS:PUBLIC
DTSTART;TZID=Europe/Prague:20070322T130000
DTEND;TZID=Europe/Prague:20070322T150000
DTSTAMP:20161222T095711Z
URL:https://datatracker.ietf.org/meeting/68/materials/agenda-68-behave
DESCRIPTION:Afternoon Session I\n
 \n
 Agenda https://datatracker.ietf.org/meeting/68/materials/agenda-68-behave\n
 \n
 Session materials: https://datatracker.ietf.org/meeting/68/session/behave\n
 \n
 See in schedule: https://datatracker.ietf.org/meeting/68/agenda#row-68-2007-03-22-thu-1300-tsv-behave\n
END:VEVENT
BEGIN:VEVENT
UID:ietf-68-442-tsvwg
SUMMARY:tsvwg - Transport Area Working Group
LOCATION:Congress II
STATUS:CONFIRMED
CLASS:PUBLIC
DTSTART;TZID=Europe/Prague:20070322T151000
DTEND;TZID=Europe/Prague:20070322T161000
DTSTAMP:20161222T095710Z
URL:https://datatracker.ietf.org/meeting/68/materials/agenda-68-tsvwg
DESCRIPTION:Afternoon Session II\n
 \n
 Agenda https://datatracker.ietf.org/meeting/68/materials/agenda-68-tsvwg\n
 \n
 Session materials: https://datatracker.ietf.org/meeting/68/session/tsvwg\n
 \n
 See in schedule: https://datatracker.ietf.org/meeting/68/agenda#row-68-2007-03-22-thu-1510-tsv-tsvwg\n
END:VEVENT
END:VCALENDAR
