BEGIN:VCALENDAR
VERSION:2.0
METHOD:PUBLISH
PRODID:-//IETF//datatracker.ietf.org ical agenda//EN
BEGIN:VTIMEZONE
TZID:America/Chicago
X-LIC-LOCATION:America/Chicago
BEGIN:DAYLIGHT
TZOFFSETFROM:-0600
TZOFFSETTO:-0500
TZNAME:CDT
DTSTART:20070311T020000
RRULE:FREQ=YEARLY;BYMONTH=3;BYDAY=2SU
END:DAYLIGHT
BEGIN:STANDARD
TZOFFSETFROM:-0500
TZOFFSETTO:-0600
TZNAME:CST
DTSTART:20071104T020000
RRULE:FREQ=YEARLY;BYMONTH=11;BYDAY=1SU
END:STANDARD
BEGIN:STANDARD
TZOFFSETFROM:-055036
TZOFFSETTO:-0600
TZNAME:CST
DTSTART:18831118T120924
RDATE:18831118T120924
END:STANDARD
BEGIN:DAYLIGHT
TZOFFSETFROM:-0600
TZOFFSETTO:-0500
TZNAME:CDT
DTSTART:19180331T020000
RDATE:19180331T020000
RDATE:19190330T020000
RDATE:19200613T020000
RDATE:19210327T020000
RDATE:19220430T020000
RDATE:19230429T020000
RDATE:19240427T020000
RDATE:19250426T020000
RDATE:19260425T020000
RDATE:19270424T020000
RDATE:19280429T020000
RDATE:19290428T020000
RDATE:19300427T020000
RDATE:19310426T020000
RDATE:19320424T020000
RDATE:19330430T020000
RDATE:19340429T020000
RDATE:19350428T020000
RDATE:19370425T020000
RDATE:19380424T020000
RDATE:19390430T020000
RDATE:19400428T020000
RDATE:19410427T020000
RDATE:19460428T020000
RDATE:19470427T020000
RDATE:19480425T020000
RDATE:19490424T020000
RDATE:19500430T020000
RDATE:19510429T020000
RDATE:19520427T020000
RDATE:19530426T020000
RDATE:19540425T020000
RDATE:19550424T020000
RDATE:19560429T020000
RDATE:19570428T020000
RDATE:19580427T020000
RDATE:19590426T020000
RDATE:19600424T020000
RDATE:19610430T020000
RDATE:19620429T020000
RDATE:19630428T020000
RDATE:19640426T020000
RDATE:19650425T020000
RDATE:19660424T020000
RDATE:19670430T020000
RDATE:19680428T020000
RDATE:19690427T020000
RDATE:19700426T020000
RDATE:19710425T020000
RDATE:19720430T020000
RDATE:19730429T020000
RDATE:19740106T020000
RDATE:19750223T020000
RDATE:19760425T020000
RDATE:19770424T020000
RDATE:19780430T020000
RDATE:19790429T020000
RDATE:19800427T020000
RDATE:19810426T020000
RDATE:19820425T020000
RDATE:19830424T020000
RDATE:19840429T020000
RDATE:19850428T020000
RDATE:19860427T020000
RDATE:19870405T020000
RDATE:19880403T020000
RDATE:19890402T020000
RDATE:19900401T020000
RDATE:19910407T020000
RDATE:19920405T020000
RDATE:19930404T020000
RDATE:19940403T020000
RDATE:19950402T020000
RDATE:19960407T020000
RDATE:19970406T020000
RDATE:19980405T020000
RDATE:19990404T020000
RDATE:20000402T020000
RDATE:20010401T020000
RDATE:20020407T020000
RDATE:20030406T020000
RDATE:20040404T020000
RDATE:20050403T020000
RDATE:20060402T020000
END:DAYLIGHT
BEGIN:STANDARD
TZOFFSETFROM:-0500
TZOFFSETTO:-0600
TZNAME:CST
DTSTART:19181027T020000
RDATE:19181027T020000
RDATE:19191026T020000
RDATE:19201031T020000
RDATE:19211030T020000
RDATE:19220924T020000
RDATE:19230930T020000
RDATE:19240928T020000
RDATE:19250927T020000
RDATE:19260926T020000
RDATE:19270925T020000
RDATE:19280930T020000
RDATE:19290929T020000
RDATE:19300928T020000
RDATE:19310927T020000
RDATE:19320925T020000
RDATE:19330924T020000
RDATE:19340930T020000
RDATE:19350929T020000
RDATE:19361115T020000
RDATE:19370926T020000
RDATE:19380925T020000
RDATE:19390924T020000
RDATE:19400929T020000
RDATE:19410928T020000
RDATE:19450930T020000
RDATE:19460929T020000
RDATE:19470928T020000
RDATE:19480926T020000
RDATE:19490925T020000
RDATE:19500924T020000
RDATE:19510930T020000
RDATE:19520928T020000
RDATE:19530927T020000
RDATE:19540926T020000
RDATE:19551030T020000
RDATE:19561028T020000
RDATE:19571027T020000
RDATE:19581026T020000
RDATE:19591025T020000
RDATE:19601030T020000
RDATE:19611029T020000
RDATE:19621028T020000
RDATE:19631027T020000
RDATE:19641025T020000
RDATE:19651031T020000
RDATE:19661030T020000
RDATE:19671029T020000
RDATE:19681027T020000
RDATE:19691026T020000
RDATE:19701025T020000
RDATE:19711031T020000
RDATE:19721029T020000
RDATE:19731028T020000
RDATE:19741027T020000
RDATE:19751026T020000
RDATE:19761031T020000
RDATE:19771030T020000
RDATE:19781029T020000
RDATE:19791028T020000
RDATE:19801026T020000
RDATE:19811025T020000
RDATE:19821031T020000
RDATE:19831030T020000
RDATE:19841028T020000
RDATE:19851027T020000
RDATE:19861026T020000
RDATE:19871025T020000
RDATE:19881030T020000
RDATE:19891029T020000
RDATE:19901028T020000
RDATE:19911027T020000
RDATE:19921025T020000
RDATE:19931031T020000
RDATE:19941030T020000
RDATE:19951029T020000
RDATE:19961027T020000
RDATE:19971026T020000
RDATE:19981025T020000
RDATE:19991031T020000
RDATE:20001029T020000
RDATE:20011028T020000
RDATE:20021027T020000
RDATE:20031026T020000
RDATE:20041031T020000
RDATE:20051030T020000
RDATE:20061029T020000
END:STANDARD
BEGIN:STANDARD
TZOFFSETFROM:-0600
TZOFFSETTO:-0600
TZNAME:CST
DTSTART:19200101T000000
RDATE:19200101T000000
RDATE:19420101T000000
RDATE:19460101T000000
RDATE:19670101T000000
END:STANDARD
BEGIN:STANDARD
TZOFFSETFROM:-0600
TZOFFSETTO:-0500
TZNAME:EST
DTSTART:19360301T020000
RDATE:19360301T020000
END:STANDARD
BEGIN:DAYLIGHT
TZOFFSETFROM:-0600
TZOFFSETTO:-0500
TZNAME:CWT
DTSTART:19420209T020000
RDATE:19420209T020000
END:DAYLIGHT
BEGIN:DAYLIGHT
TZOFFSETFROM:-0500
TZOFFSETTO:-0500
TZNAME:CPT
DTSTART:19450814T180000
RDATE:19450814T180000
END:DAYLIGHT
END:VTIMEZONE
BEGIN:VEVENT
UID:ietf-69-551-dhc
SUMMARY:dhc - Dynamic Host Configuration
LOCATION:Adams
STATUS:CONFIRMED
CLASS:PUBLIC
DTSTART;TZID=America/Chicago:20070723T090000
DTEND;TZID=America/Chicago:20070723T113000
DTSTAMP:20161222T095710Z
URL:https://datatracker.ietf.org/meeting/69/materials/agenda-69-dhc
DESCRIPTION:Morning Session I\n
 \n
 Agenda https://datatracker.ietf.org/meeting/69/materials/agenda-69-dhc\n
 \n
 Session materials: https://datatracker.ietf.org/meeting/69/session/dhc\n
 \n
 See in schedule: https://datatracker.ietf.org/meeting/69/agenda#row-69-2007-07-23-mon-0900-int-dhc\n
END:VEVENT
BEGIN:VEVENT
UID:ietf-69-593-autoconf
SUMMARY:autoconf - Ad-Hoc Network Autoconfiguration
LOCATION:Salon 2
STATUS:CONFIRMED
CLASS:PUBLIC
DTSTART;TZID=America/Chicago:20070723T130000
DTEND;TZID=America/Chicago:20070723T150000
DTSTAMP:20161222T095710Z
URL:https://datatracker.ietf.org/meeting/69/materials/agenda-69-autoconf
DESCRIPTION:Afternoon Session I\n
 \n
 Agenda https://datatracker.ietf.org/meeting/69/materials/agenda-69-autoconf\n
 \n
 Session materials: https://datatracker.ietf.org/meeting/69/session/autoconf\n
 \n
 See in schedule: https://datatracker.ietf.org/meeting/69/agenda#row-69-2007-07-23-mon-1300-int-autoconf\n
END:VEVENT
BEGIN:VEVENT
UID:ietf-69-564-intarea
SUMMARY:intarea - Internet Area Working Group
LOCATION:Red Lacquer
STATUS:CONFIRMED
CLASS:PUBLIC
DTSTART;TZID=America/Chicago:20070723T152000
DTEND;TZID=America/Chicago:20070723T172000
DTSTAMP:20161222T095710Z
URL:https://datatracker.ietf.org/meeting/69/materials/agenda-69-intarea
DESCRIPTION:Afternoon Session II\n
 \n
 Agenda https://datatracker.ietf.org/meeting/69/materials/agenda-69-intarea\n
 \n
 Session materials: https://datatracker.ietf.org/meeting/69/session/intarea\n
 \n
 See in schedule: https://datatracker.ietf.org/meeting/69/agenda#row-69-2007-07-23-mon-1520-int-intarea\n
END:VEVENT
BEGIN:VEVENT
UID:ietf-69-559-16ng
SUMMARY:16ng - IP over IEEE 802.16 Networks
LOCATION:Monroe
STATUS:CONFIRMED
CLASS:PUBLIC
DTSTART;TZID=America/Chicago:20070723T174000
DTEND;TZID=America/Chicago:20070723T195000
DTSTAMP:20161222T095710Z
URL:https://datatracker.ietf.org/meeting/69/materials/agenda-69-16ng
DESCRIPTION:Afternoon Session III\n
 \n
 Agenda https://datatracker.ietf.org/meeting/69/materials/agenda-69-16ng\n
 \n
 Session materials: https://datatracker.ietf.org/meeting/69/session/16ng\n
 \n
 See in schedule: https://datatracker.ietf.org/meeting/69/agenda#row-69-2007-07-23-mon-1740-int-16ng\n
END:VEVENT
BEGIN:VEVENT
UID:ietf-69-571-ntp
SUMMARY:ntp - Network Time Protocol
LOCATION:Salon 2
STATUS:CONFIRMED
CLASS:PUBLIC
DTSTART;TZID=America/Chicago:20070723T174000
DTEND;TZID=America/Chicago:20070723T195000
DTSTAMP:20161222T095710Z
URL:https://datatracker.ietf.org/meeting/69/materials/agenda-69-ntp
DESCRIPTION:Afternoon Session III\n
 \n
 Agenda https://datatracker.ietf.org/meeting/69/materials/agenda-69-ntp\n
 \n
 Session materials: https://datatracker.ietf.org/meeting/69/session/ntp\n
 \n
 See in schedule: https://datatracker.ietf.org/meeting/69/agenda#row-69-2007-07-23-mon-1740-int-ntp\n
END:VEVENT
BEGIN:VEVENT
UID:ietf-69-576-6lowpan
SUMMARY:6lowpan - IPv6 over Low power WPAN
LOCATION:Crystal
STATUS:CONFIRMED
CLASS:PUBLIC
DTSTART;TZID=America/Chicago:20070724T090000
DTEND;TZID=America/Chicago:20070724T113000
DTSTAMP:20161222T095710Z
URL:https://datatracker.ietf.org/meeting/69/materials/agenda-69-6lowpan
DESCRIPTION:Morning Session I\n
 \n
 Agenda https://datatracker.ietf.org/meeting/69/materials/agenda-69-6lowpan\n
 \n
 Session materials: https://datatracker.ietf.org/meeting/69/session/6lowpan\n
 \n
 See in schedule: https://datatracker.ietf.org/meeting/69/agenda#row-69-2007-07-24-tue-0900-int-6lowpan\n
END:VEVENT
BEGIN:VEVENT
UID:ietf-69-608-netlmm
SUMMARY:netlmm - Network-based Localized Mobility Management
LOCATION:State Ballroom
STATUS:CONFIRMED
CLASS:PUBLIC
DTSTART;TZID=America/Chicago:20070724T090000
DTEND;TZID=America/Chicago:20070724T113000
DTSTAMP:20161222T095710Z
URL:https://datatracker.ietf.org/meeting/69/materials/agenda-69-netlmm
DESCRIPTION:Morning Session I\n
 \n
 Agenda https://datatracker.ietf.org/meeting/69/materials/agenda-69-netlmm\n
 \n
 Session materials: https://datatracker.ietf.org/meeting/69/session/netlmm\n
 \n
 See in schedule: https://datatracker.ietf.org/meeting/69/agenda#row-69-2007-07-24-tue-0900-int-netlmm\n
END:VEVENT
BEGIN:VEVENT
UID:ietf-69-583-mipshop
SUMMARY:mipshop - Mobility for IP: Performance, Signaling and Handoff Optimization
LOCATION:Monroe
STATUS:CONFIRMED
CLASS:PUBLIC
DTSTART;TZID=America/Chicago:20070724T130000
DTEND;TZID=America/Chicago:20070724T150000
DTSTAMP:20161222T095710Z
URL:https://datatracker.ietf.org/meeting/69/materials/agenda-69-mipshop
DESCRIPTION:Afternoon Session I\n
 \n
 Agenda https://datatracker.ietf.org/meeting/69/materials/agenda-69-mipshop\n
 \n
 Session materials: https://datatracker.ietf.org/meeting/69/session/mipshop\n
 \n
 See in schedule: https://datatracker.ietf.org/meeting/69/agenda#row-69-2007-07-24-tue-1300-int-mipshop\n
END:VEVENT
BEGIN:VEVENT
UID:ietf-69-580-ancp
SUMMARY:ancp - Access Node Control Protocol
LOCATION:Salon 3
STATUS:CONFIRMED
CLASS:PUBLIC
DTSTART;TZID=America/Chicago:20070724T152000
DTEND;TZID=America/Chicago:20070724T172000
DTSTAMP:20161222T095710Z
URL:https://datatracker.ietf.org/meeting/69/materials/agenda-69-ancp
DESCRIPTION:Afternoon Session II\n
 \n
 Agenda https://datatracker.ietf.org/meeting/69/materials/agenda-69-ancp\n
 \n
 Session materials: https://datatracker.ietf.org/meeting/69/session/ancp\n
 \n
 See in schedule: https://datatracker.ietf.org/meeting/69/agenda#row-69-2007-07-24-tue-1520-int-ancp\n
END:VEVENT
BEGIN:VEVENT
UID:ietf-69-612-mip6
SUMMARY:mip6 - Mobility for IPv6
LOCATION:Grand Ballroom
STATUS:CONFIRMED
CLASS:PUBLIC
DTSTART;TZID=America/Chicago:20070724T152000
DTEND;TZID=America/Chicago:20070724T172000
DTSTAMP:20161222T095710Z
URL:https://datatracker.ietf.org/meeting/69/materials/agenda-69-mip6
DESCRIPTION:Afternoon Session II\n
 \n
 Agenda https://datatracker.ietf.org/meeting/69/materials/agenda-69-mip6\n
 \n
 Session materials: https://datatracker.ietf.org/meeting/69/session/mip6\n
 \n
 See in schedule: https://datatracker.ietf.org/meeting/69/agenda#row-69-2007-07-24-tue-1520-int-mip6\n
END:VEVENT
BEGIN:VEVENT
UID:ietf-69-594-pana
SUMMARY:pana - Protocol for carrying Authentication for Network Access
LOCATION:State Ballroom
STATUS:CONFIRMED
CLASS:PUBLIC
DTSTART;TZID=America/Chicago:20070724T174000
DTEND;TZID=America/Chicago:20070724T184000
DTSTAMP:20161222T095710Z
URL:https://datatracker.ietf.org/meeting/69/materials/agenda-69-pana
DESCRIPTION:Afternoon Session III\n
 \n
 Agenda https://datatracker.ietf.org/meeting/69/materials/agenda-69-pana\n
 \n
 Session materials: https://datatracker.ietf.org/meeting/69/session/pana\n
 \n
 See in schedule: https://datatracker.ietf.org/meeting/69/agenda#row-69-2007-07-24-tue-1740-int-pana\n
END:VEVENT
BEGIN:VEVENT
UID:ietf-69-597-monami6
SUMMARY:monami6 - Mobile Nodes and Multiple Interfaces in IPv6
LOCATION:Grand Ballroom
STATUS:CONFIRMED
CLASS:PUBLIC
DTSTART;TZID=America/Chicago:20070725T130000
DTEND;TZID=America/Chicago:20070725T150000
DTSTAMP:20161222T095710Z
URL:https://datatracker.ietf.org/meeting/69/materials/agenda-69-monami6
DESCRIPTION:Afternoon Session I\n
 \n
 Agenda https://datatracker.ietf.org/meeting/69/materials/agenda-69-monami6\n
 \n
 Session materials: https://datatracker.ietf.org/meeting/69/session/monami6\n
 \n
 See in schedule: https://datatracker.ietf.org/meeting/69/agenda#row-69-2007-07-25-wed-1300-int-monami6\n
END:VEVENT
BEGIN:VEVENT
UID:ietf-69-560-trill
SUMMARY:trill - Transparent Interconnection of Lots of Links
LOCATION:Adams
STATUS:CONFIRMED
CLASS:PUBLIC
DTSTART;TZID=America/Chicago:20070725T130000
DTEND;TZID=America/Chicago:20070725T150000
DTSTAMP:20161222T095710Z
URL:https://datatracker.ietf.org/meeting/69/materials/agenda-69-trill
DESCRIPTION:Afternoon Session I\n
 \n
 Agenda https://datatracker.ietf.org/meeting/69/materials/agenda-69-trill\n
 \n
 Session materials: https://datatracker.ietf.org/meeting/69/session/trill\n
 \n
 See in schedule: https://datatracker.ietf.org/meeting/69/agenda#row-69-2007-07-25-wed-1300-int-trill\n
END:VEVENT
BEGIN:VEVENT
UID:ietf-69-595-mip4
SUMMARY:mip4 - Mobility for IPv4
LOCATION:Adams
STATUS:CONFIRMED
CLASS:PUBLIC
DTSTART;TZID=America/Chicago:20070725T151000
DTEND;TZID=America/Chicago:20070725T161000
DTSTAMP:20161222T095710Z
URL:https://datatracker.ietf.org/meeting/69/materials/agenda-69-mip4
DESCRIPTION:Afternoon Session II\n
 \n
 Agenda https://datatracker.ietf.org/meeting/69/materials/agenda-69-mip4\n
 \n
 Session materials: https://datatracker.ietf.org/meeting/69/session/mip4\n
 \n
 See in schedule: https://datatracker.ietf.org/meeting/69/agenda#row-69-2007-07-25-wed-1510-int-mip4\n
END:VEVENT
BEGIN:VEVENT
UID:ietf-69-618-softwire
SUMMARY:softwire - Softwires
LOCATION:Red Lacquer
STATUS:CONFIRMED
CLASS:PUBLIC
DTSTART;TZID=America/Chicago:20070725T151000
DTEND;TZID=America/Chicago:20070725T161000
DTSTAMP:20161222T095710Z
URL:https://datatracker.ietf.org/meeting/69/materials/agenda-69-softwire
DESCRIPTION:Afternoon Session II\n
 \n
 Agenda https://datatracker.ietf.org/meeting/69/materials/agenda-69-softwire\n
 \n
 Session materials: https://datatracker.ietf.org/meeting/69/session/softwire\n
 \n
 See in schedule: https://datatracker.ietf.org/meeting/69/agenda#row-69-2007-07-25-wed-1510-int-softwire\n
END:VEVENT
BEGIN:VEVENT
UID:ietf-69-617-nemo
SUMMARY:nemo - Network Mobility
LOCATION:Monroe
STATUS:CONFIRMED
CLASS:PUBLIC
DTSTART;TZID=America/Chicago:20070726T090000
DTEND;TZID=America/Chicago:20070726T113000
DTSTAMP:20161222T095710Z
URL:https://datatracker.ietf.org/meeting/69/materials/agenda-69-nemo
DESCRIPTION:Morning Session I\n
 \n
 Agenda https://datatracker.ietf.org/meeting/69/materials/agenda-69-nemo\n
 \n
 Session materials: https://datatracker.ietf.org/meeting/69/session/nemo\n
 \n
 See in schedule: https://datatracker.ietf.org/meeting/69/agenda#row-69-2007-07-26-thu-0900-int-nemo\n
END:VEVENT
BEGIN:VEVENT
UID:ietf-69-561-trill
SUMMARY:trill - Transparent Interconnection of Lots of Links
LOCATION:Crystal
STATUS:CONFIRMED
CLASS:PUBLIC
DTSTART;TZID=America/Chicago:20070726T090000
DTEND;TZID=America/Chicago:20070726T113000
DTSTAMP:20161222T095710Z
URL:https://datatracker.ietf.org/meeting/69/materials/agenda-69-trill
DESCRIPTION:Morning Session I\n
 \n
 Agenda https://datatracker.ietf.org/meeting/69/materials/agenda-69-trill\n
 \n
 Session materials: https://datatracker.ietf.org/meeting/69/session/trill\n
 \n
 See in schedule: https://datatracker.ietf.org/meeting/69/agenda#row-69-2007-07-26-thu-0900-int-trill\n
END:VEVENT
BEGIN:VEVENT
UID:ietf-69-592-autoconf
SUMMARY:autoconf - Ad-Hoc Network Autoconfiguration
LOCATION:Salon 2
STATUS:CONFIRMED
CLASS:PUBLIC
DTSTART;TZID=America/Chicago:20070726T130000
DTEND;TZID=America/Chicago:20070726T150000
DTSTAMP:20161222T095710Z
URL:https://datatracker.ietf.org/meeting/69/materials/agenda-69-autoconf
DESCRIPTION:Afternoon Session I\n
 \n
 Agenda https://datatracker.ietf.org/meeting/69/materials/agenda-69-autoconf\n
 \n
 Session materials: https://datatracker.ietf.org/meeting/69/session/autoconf\n
 \n
 See in schedule: https://datatracker.ietf.org/meeting/69/agenda#row-69-2007-07-26-thu-1300-int-autoconf\n
END:VEVENT
END:VCALENDAR
