BEGIN:VCALENDAR
VERSION:2.0
METHOD:PUBLISH
PRODID:-//IETF//datatracker.ietf.org ical agenda//EN
BEGIN:VTIMEZONE
TZID:America/Vancouver
X-LIC-LOCATION:America/Vancouver
BEGIN:DAYLIGHT
TZOFFSETFROM:-0800
TZOFFSETTO:-0700
TZNAME:PDT
DTSTART:20070311T020000
RRULE:FREQ=YEARLY;BYMONTH=3;BYDAY=2SU
END:DAYLIGHT
BEGIN:STANDARD
TZOFFSETFROM:-0700
TZOFFSETTO:-0800
TZNAME:PST
DTSTART:20071104T020000
RRULE:FREQ=YEARLY;BYMONTH=11;BYDAY=1SU
END:STANDARD
BEGIN:STANDARD
TZOFFSETFROM:-081228
TZOFFSETTO:-0800
TZNAME:PST
DTSTART:18840101T000000
RDATE:18840101T000000
END:STANDARD
BEGIN:DAYLIGHT
TZOFFSETFROM:-0800
TZOFFSETTO:-0700
TZNAME:PDT
DTSTART:19180414T020000
RDATE:19180414T020000
RDATE:19460428T020000
RDATE:19470427T020000
RDATE:19480425T020000
RDATE:19490424T020000
RDATE:19500430T020000
RDATE:19510429T020000
RDATE:19520427T020000
RDATE:19530426T020000
RDATE:19540425T020000
RDATE:19550424T020000
RDATE:19560429T020000
RDATE:19570428T020000
RDATE:19580427T020000
RDATE:19590426T020000
RDATE:19600424T020000
RDATE:19610430T020000
RDATE:19620429T020000
RDATE:19630428T020000
RDATE:19640426T020000
RDATE:19650425T020000
RDATE:19660424T020000
RDATE:19670430T020000
RDATE:19680428T020000
RDATE:19690427T020000
RDATE:19700426T020000
RDATE:19710425T020000
RDATE:19720430T020000
RDATE:19730429T020000
RDATE:19740428T020000
RDATE:19750427T020000
RDATE:19760425T020000
RDATE:19770424T020000
RDATE:19780430T020000
RDATE:19790429T020000
RDATE:19800427T020000
RDATE:19810426T020000
RDATE:19820425T020000
RDATE:19830424T020000
RDATE:19840429T020000
RDATE:19850428T020000
RDATE:19860427T020000
RDATE:19870405T020000
RDATE:19880403T020000
RDATE:19890402T020000
RDATE:19900401T020000
RDATE:19910407T020000
RDATE:19920405T020000
RDATE:19930404T020000
RDATE:19940403T020000
RDATE:19950402T020000
RDATE:19960407T020000
RDATE:19970406T020000
RDATE:19980405T020000
RDATE:19990404T020000
RDATE:20000402T020000
RDATE:20010401T020000
RDATE:20020407T020000
RDATE:20030406T020000
RDATE:20040404T020000
RDATE:20050403T020000
RDATE:20060402T020000
END:DAYLIGHT
BEGIN:STANDARD
TZOFFSETFROM:-0700
TZOFFSETTO:-0800
TZNAME:PST
DTSTART:19181027T020000
RDATE:19181027T020000
RDATE:19450930T020000
RDATE:19461013T020000
RDATE:19470928T020000
RDATE:19480926T020000
RDATE:19490925T020000
RDATE:19500924T020000
RDATE:19510930T020000
RDATE:19520928T020000
RDATE:19530927T020000
RDATE:19540926T020000
RDATE:19550925T020000
RDATE:19560930T020000
RDATE:19570929T020000
RDATE:19580928T020000
RDATE:19590927T020000
RDATE:19600925T020000
RDATE:19610924T020000
RDATE:19621028T020000
RDATE:19631027T020000
RDATE:19641025T020000
RDATE:19651031T020000
RDATE:19661030T020000
RDATE:19671029T020000
RDATE:19681027T020000
RDATE:19691026T020000
RDATE:19701025T020000
RDATE:19711031T020000
RDATE:19721029T020000
RDATE:19731028T020000
RDATE:19741027T020000
RDATE:19751026T020000
RDATE:19761031T020000
RDATE:19771030T020000
RDATE:19781029T020000
RDATE:19791028T020000
RDATE:19801026T020000
RDATE:19811025T020000
RDATE:19821031T020000
RDATE:19831030T020000
RDATE:19841028T020000
RDATE:19851027T020000
RDATE:19861026T020000
RDATE:19871025T020000
RDATE:19881030T020000
RDATE:19891029T020000
RDATE:19901028T020000
RDATE:19911027T020000
RDATE:19921025T020000
RDATE:19931031T020000
RDATE:19941030T020000
RDATE:19951029T020000
RDATE:19961027T020000
RDATE:19971026T020000
RDATE:19981025T020000
RDATE:19991031T020000
RDATE:20001029T020000
RDATE:20011028T020000
RDATE:20021027T020000
RDATE:20031026T020000
RDATE:20041031T020000
RDATE:20051030T020000
RDATE:20061029T020000
END:STANDARD
BEGIN:DAYLIGHT
TZOFFSETFROM:-0800
TZOFFSETTO:-0700
TZNAME:PWT
DTSTART:19420209T020000
RDATE:19420209T020000
END:DAYLIGHT
BEGIN:DAYLIGHT
TZOFFSETFROM:-0700
TZOFFSETTO:-0700
TZNAME:PPT
DTSTART:19450814T160000
RDATE:19450814T160000
END:DAYLIGHT
BEGIN:STANDARD
TZOFFSETFROM:-0800
TZOFFSETTO:-0800
TZNAME:PST
DTSTART:19870101T000000
RDATE:19870101T000000
END:STANDARD
END:VTIMEZONE
BEGIN:VEVENT
UID:ietf-70-724-softwire
SUMMARY:softwire - Softwires
LOCATION:Salon D/E
STATUS:CONFIRMED
CLASS:PUBLIC
DTSTART;TZID=America/Vancouver:20071203T090000
DTEND;TZID=America/Vancouver:20071203T113000
DTSTAMP:20161222T095710Z
URL:https://datatracker.ietf.org/meeting/70/materials/agenda-70-softwire
DESCRIPTION:Morning Session I\n
 \n
 Agenda https://datatracker.ietf.org/meeting/70/materials/agenda-70-softwire\n
 \n
 Session materials: https://datatracker.ietf.org/meeting/70/session/softwire\n
 \n
 See in schedule: https://datatracker.ietf.org/meeting/70/agenda#row-70-2007-12-03-mon-0900-int-softwire\n
END:VEVENT
BEGIN:VEVENT
UID:ietf-70-735-netlmm
SUMMARY:netlmm - Network-based Localized Mobility Management
LOCATION:Salon F
STATUS:CONFIRMED
CLASS:PUBLIC
DTSTART;TZID=America/Vancouver:20071203T130000
DTEND;TZID=America/Vancouver:20071203T150000
DTSTAMP:20161222T095710Z
URL:https://datatracker.ietf.org/meeting/70/materials/agenda-70-netlmm
DESCRIPTION:Afternoon Session I\n
 \n
 Agenda https://datatracker.ietf.org/meeting/70/materials/agenda-70-netlmm\n
 \n
 Session materials: https://datatracker.ietf.org/meeting/70/session/netlmm\n
 \n
 See in schedule: https://datatracker.ietf.org/meeting/70/agenda#row-70-2007-12-03-mon-1300-int-netlmm\n
END:VEVENT
BEGIN:VEVENT
UID:ietf-70-718-autoconf
SUMMARY:autoconf - Ad-Hoc Network Autoconfiguration
LOCATION:Salon F
STATUS:CONFIRMED
CLASS:PUBLIC
DTSTART;TZID=America/Vancouver:20071203T174000
DTEND;TZID=America/Vancouver:20071203T195000
DTSTAMP:20161222T095710Z
URL:https://datatracker.ietf.org/meeting/70/materials/agenda-70-autoconf
DESCRIPTION:Afternoon Session III\n
 \n
 Agenda https://datatracker.ietf.org/meeting/70/materials/agenda-70-autoconf\n
 \n
 Session materials: https://datatracker.ietf.org/meeting/70/session/autoconf\n
 \n
 See in schedule: https://datatracker.ietf.org/meeting/70/agenda#row-70-2007-12-03-mon-1740-int-autoconf\n
END:VEVENT
BEGIN:VEVENT
UID:ietf-70-697-ntp
SUMMARY:ntp - Network Time Protocol
LOCATION:Oak
STATUS:CONFIRMED
CLASS:PUBLIC
DTSTART;TZID=America/Vancouver:20071203T174000
DTEND;TZID=America/Vancouver:20071203T195000
DTSTAMP:20161222T095710Z
URL:https://datatracker.ietf.org/meeting/70/materials/agenda-70-ntp
DESCRIPTION:Afternoon Session III\n
 \n
 Agenda https://datatracker.ietf.org/meeting/70/materials/agenda-70-ntp\n
 \n
 Session materials: https://datatracker.ietf.org/meeting/70/session/ntp\n
 \n
 See in schedule: https://datatracker.ietf.org/meeting/70/agenda#row-70-2007-12-03-mon-1740-int-ntp\n
END:VEVENT
BEGIN:VEVENT
UID:ietf-70-755-mext
SUMMARY:mext - Mobility EXTensions for IPv6
LOCATION:Salon A
STATUS:CONFIRMED
CLASS:PUBLIC
DTSTART;TZID=America/Vancouver:20071204T090000
DTEND;TZID=America/Vancouver:20071204T113000
DTSTAMP:20161222T095710Z
URL:https://datatracker.ietf.org/meeting/70/materials/agenda-70-mext
DESCRIPTION:Morning Session I\n
 \n
 Agenda https://datatracker.ietf.org/meeting/70/materials/agenda-70-mext\n
 \n
 Session materials: https://datatracker.ietf.org/meeting/70/session/mext\n
 \n
 See in schedule: https://datatracker.ietf.org/meeting/70/agenda#row-70-2007-12-04-tue-0900-int-mext\n
END:VEVENT
BEGIN:VEVENT
UID:ietf-70-745-tictoc
SUMMARY:tictoc - Timing over IP Connection and Transfer of Clock
LOCATION:Salon 3
STATUS:CONFIRMED
CLASS:PUBLIC
DTSTART;TZID=America/Vancouver:20071204T090000
DTEND;TZID=America/Vancouver:20071204T113000
DTSTAMP:20161222T095710Z
URL:https://datatracker.ietf.org/meeting/70/materials/agenda-70-tictoc
DESCRIPTION:Morning Session I\n
 \n
 Agenda https://datatracker.ietf.org/meeting/70/materials/agenda-70-tictoc\n
 \n
 Session materials: https://datatracker.ietf.org/meeting/70/session/tictoc\n
 \n
 See in schedule: https://datatracker.ietf.org/meeting/70/agenda#row-70-2007-12-04-tue-0900-int-tictoc\n
END:VEVENT
BEGIN:VEVENT
UID:ietf-70-669-trill
SUMMARY:trill - Transparent Interconnection of Lots of Links
LOCATION:Salon 1
STATUS:CONFIRMED
CLASS:PUBLIC
DTSTART;TZID=America/Vancouver:20071204T090000
DTEND;TZID=America/Vancouver:20071204T113000
DTSTAMP:20161222T095710Z
URL:https://datatracker.ietf.org/meeting/70/materials/agenda-70-trill
DESCRIPTION:Morning Session I\n
 \n
 Agenda https://datatracker.ietf.org/meeting/70/materials/agenda-70-trill\n
 \n
 Session materials: https://datatracker.ietf.org/meeting/70/session/trill\n
 \n
 See in schedule: https://datatracker.ietf.org/meeting/70/agenda#row-70-2007-12-04-tue-0900-int-trill\n
END:VEVENT
BEGIN:VEVENT
UID:ietf-70-685-dhc
SUMMARY:dhc - Dynamic Host Configuration
LOCATION:Salon 1
STATUS:CONFIRMED
CLASS:PUBLIC
DTSTART;TZID=America/Vancouver:20071204T130000
DTEND;TZID=America/Vancouver:20071204T150000
DTSTAMP:20161222T095710Z
URL:https://datatracker.ietf.org/meeting/70/materials/agenda-70-dhc
DESCRIPTION:Afternoon Session I\n
 \n
 Agenda https://datatracker.ietf.org/meeting/70/materials/agenda-70-dhc\n
 \n
 Session materials: https://datatracker.ietf.org/meeting/70/session/dhc\n
 \n
 See in schedule: https://datatracker.ietf.org/meeting/70/agenda#row-70-2007-12-04-tue-1300-int-dhc\n
END:VEVENT
BEGIN:VEVENT
UID:ietf-70-709-intarea
SUMMARY:intarea - Internet Area Working Group
LOCATION:Salon D/E
STATUS:CONFIRMED
CLASS:PUBLIC
DTSTART;TZID=America/Vancouver:20071204T152000
DTEND;TZID=America/Vancouver:20071204T172000
DTSTAMP:20161222T095710Z
URL:https://datatracker.ietf.org/meeting/70/materials/agenda-70-intarea
DESCRIPTION:Afternoon Session II\n
 \n
 Agenda https://datatracker.ietf.org/meeting/70/materials/agenda-70-intarea\n
 \n
 Session materials: https://datatracker.ietf.org/meeting/70/session/intarea\n
 \n
 See in schedule: https://datatracker.ietf.org/meeting/70/agenda#row-70-2007-12-04-tue-1520-int-intarea\n
END:VEVENT
BEGIN:VEVENT
UID:ietf-70-678-16ng
SUMMARY:16ng - IP over IEEE 802.16 Networks
LOCATION:Salon 1
STATUS:CONFIRMED
CLASS:PUBLIC
DTSTART;TZID=America/Vancouver:20071204T174000
DTEND;TZID=America/Vancouver:20071204T184000
DTSTAMP:20161222T095710Z
URL:https://datatracker.ietf.org/meeting/70/materials/agenda-70-16ng
DESCRIPTION:Afternoon Session III\n
 \n
 Agenda https://datatracker.ietf.org/meeting/70/materials/agenda-70-16ng\n
 \n
 Session materials: https://datatracker.ietf.org/meeting/70/session/16ng\n
 \n
 See in schedule: https://datatracker.ietf.org/meeting/70/agenda#row-70-2007-12-04-tue-1740-int-16ng\n
END:VEVENT
BEGIN:VEVENT
UID:ietf-70-677-hip
SUMMARY:hip - Host Identity Protocol
LOCATION:Salon F
STATUS:CONFIRMED
CLASS:PUBLIC
DTSTART;TZID=America/Vancouver:20071204T185000
DTEND;TZID=America/Vancouver:20071204T195000
DTSTAMP:20161222T095710Z
URL:https://datatracker.ietf.org/meeting/70/materials/agenda-70-hip
DESCRIPTION:Afternoon Session IV\n
 \n
 Agenda https://datatracker.ietf.org/meeting/70/materials/agenda-70-hip\n
 \n
 Session materials: https://datatracker.ietf.org/meeting/70/session/hip\n
 \n
 See in schedule: https://datatracker.ietf.org/meeting/70/agenda#row-70-2007-12-04-tue-1850-int-hip\n
END:VEVENT
BEGIN:VEVENT
UID:ietf-70-712-mip4
SUMMARY:mip4 - Mobility for IPv4
LOCATION:Salon A
STATUS:CONFIRMED
CLASS:PUBLIC
DTSTART;TZID=America/Vancouver:20071204T185000
DTEND;TZID=America/Vancouver:20071204T195000
DTSTAMP:20161222T095710Z
URL:https://datatracker.ietf.org/meeting/70/materials/agenda-70-mip4
DESCRIPTION:Afternoon Session IV\n
 \n
 Agenda https://datatracker.ietf.org/meeting/70/materials/agenda-70-mip4\n
 \n
 Session materials: https://datatracker.ietf.org/meeting/70/session/mip4\n
 \n
 See in schedule: https://datatracker.ietf.org/meeting/70/agenda#row-70-2007-12-04-tue-1850-int-mip4\n
END:VEVENT
BEGIN:VEVENT
UID:ietf-70-699-6man
SUMMARY:6man - IPv6 Maintenance
LOCATION:Salon 2
STATUS:CONFIRMED
CLASS:PUBLIC
DTSTART;TZID=America/Vancouver:20071205T090000
DTEND;TZID=America/Vancouver:20071205T113000
DTSTAMP:20161222T095710Z
URL:https://datatracker.ietf.org/meeting/70/materials/agenda-70-6man
DESCRIPTION:Morning Session I\n
 \n
 Agenda https://datatracker.ietf.org/meeting/70/materials/agenda-70-6man\n
 \n
 Session materials: https://datatracker.ietf.org/meeting/70/session/6man\n
 \n
 See in schedule: https://datatracker.ietf.org/meeting/70/agenda#row-70-2007-12-05-wed-0900-int-6man\n
END:VEVENT
BEGIN:VEVENT
UID:ietf-70-644-6lowpan
SUMMARY:6lowpan - IPv6 over Low power WPAN
LOCATION:Salon 3
STATUS:CONFIRMED
CLASS:PUBLIC
DTSTART;TZID=America/Vancouver:20071205T130000
DTEND;TZID=America/Vancouver:20071205T150000
DTSTAMP:20161222T095710Z
URL:https://datatracker.ietf.org/meeting/70/materials/agenda-70-6lowpan
DESCRIPTION:Afternoon Session I\n
 \n
 Agenda https://datatracker.ietf.org/meeting/70/materials/agenda-70-6lowpan\n
 \n
 Session materials: https://datatracker.ietf.org/meeting/70/session/6lowpan\n
 \n
 See in schedule: https://datatracker.ietf.org/meeting/70/agenda#row-70-2007-12-05-wed-1300-int-6lowpan\n
END:VEVENT
BEGIN:VEVENT
UID:ietf-70-668-mipshop
SUMMARY:mipshop - Mobility for IP: Performance, Signaling and Handoff Optimization
LOCATION:Salon F
STATUS:CONFIRMED
CLASS:PUBLIC
DTSTART;TZID=America/Vancouver:20071205T130000
DTEND;TZID=America/Vancouver:20071205T150000
DTSTAMP:20161222T095710Z
URL:https://datatracker.ietf.org/meeting/70/materials/agenda-70-mipshop
DESCRIPTION:Afternoon Session I\n
 \n
 Agenda https://datatracker.ietf.org/meeting/70/materials/agenda-70-mipshop\n
 \n
 Session materials: https://datatracker.ietf.org/meeting/70/session/mipshop\n
 \n
 See in schedule: https://datatracker.ietf.org/meeting/70/agenda#row-70-2007-12-05-wed-1300-int-mipshop\n
END:VEVENT
BEGIN:VEVENT
UID:ietf-70-706-pana
SUMMARY:pana - Protocol for carrying Authentication for Network Access
LOCATION:Salon 2
STATUS:CONFIRMED
CLASS:PUBLIC
DTSTART;TZID=America/Vancouver:20071205T151000
DTEND;TZID=America/Vancouver:20071205T161000
DTSTAMP:20161222T095710Z
URL:https://datatracker.ietf.org/meeting/70/materials/agenda-70-pana
DESCRIPTION:Afternoon Session II\n
 \n
 Agenda https://datatracker.ietf.org/meeting/70/materials/agenda-70-pana\n
 \n
 Session materials: https://datatracker.ietf.org/meeting/70/session/pana\n
 \n
 See in schedule: https://datatracker.ietf.org/meeting/70/agenda#row-70-2007-12-05-wed-1510-int-pana\n
END:VEVENT
BEGIN:VEVENT
UID:ietf-70-742-savi
SUMMARY:savi - Source Address Validation Improvements
LOCATION:Salon A
STATUS:CONFIRMED
CLASS:PUBLIC
DTSTART;TZID=America/Vancouver:20071205T151000
DTEND;TZID=America/Vancouver:20071205T161000
DTSTAMP:20161222T095710Z
URL:https://datatracker.ietf.org/meeting/70/materials/agenda-70-savi
DESCRIPTION:Afternoon Session II\n
 \n
 Agenda https://datatracker.ietf.org/meeting/70/materials/agenda-70-savi\n
 \n
 Session materials: https://datatracker.ietf.org/meeting/70/session/savi\n
 \n
 See in schedule: https://datatracker.ietf.org/meeting/70/agenda#row-70-2007-12-05-wed-1510-int-savi\n
END:VEVENT
BEGIN:VEVENT
UID:ietf-70-739-csi
SUMMARY:csi - Cga & Send maIntenance
LOCATION:Salon D/E
STATUS:CONFIRMED
CLASS:PUBLIC
DTSTART;TZID=America/Vancouver:20071206T090000
DTEND;TZID=America/Vancouver:20071206T113000
DTSTAMP:20161222T095710Z
URL:https://datatracker.ietf.org/meeting/70/materials/agenda-70-csi
DESCRIPTION:Morning Session I\n
 \n
 Agenda https://datatracker.ietf.org/meeting/70/materials/agenda-70-csi\n
 \n
 Session materials: https://datatracker.ietf.org/meeting/70/session/csi\n
 \n
 See in schedule: https://datatracker.ietf.org/meeting/70/agenda#row-70-2007-12-06-thu-0900-int-csi\n
END:VEVENT
BEGIN:VEVENT
UID:ietf-70-679-ancp
SUMMARY:ancp - Access Node Control Protocol
LOCATION:Salon 1
STATUS:CONFIRMED
CLASS:PUBLIC
DTSTART;TZID=America/Vancouver:20071206T130000
DTEND;TZID=America/Vancouver:20071206T150000
DTSTAMP:20161222T095710Z
URL:https://datatracker.ietf.org/meeting/70/materials/agenda-70-ancp
DESCRIPTION:Afternoon Session I\n
 \n
 Agenda https://datatracker.ietf.org/meeting/70/materials/agenda-70-ancp\n
 \n
 Session materials: https://datatracker.ietf.org/meeting/70/session/ancp\n
 \n
 See in schedule: https://datatracker.ietf.org/meeting/70/agenda#row-70-2007-12-06-thu-1300-int-ancp\n
END:VEVENT
BEGIN:VEVENT
UID:ietf-70-711-mip4
SUMMARY:mip4 - Mobility for IPv4
LOCATION:Oak
STATUS:CONFIRMED
CLASS:PUBLIC
DTSTART;TZID=America/Vancouver:20071206T151000
DTEND;TZID=America/Vancouver:20071206T161000
DTSTAMP:20161222T095710Z
URL:https://datatracker.ietf.org/meeting/70/materials/agenda-70-mip4
DESCRIPTION:Afternoon Session II\n
 \n
 Agenda https://datatracker.ietf.org/meeting/70/materials/agenda-70-mip4\n
 \n
 Session materials: https://datatracker.ietf.org/meeting/70/session/mip4\n
 \n
 See in schedule: https://datatracker.ietf.org/meeting/70/agenda#row-70-2007-12-06-thu-1510-int-mip4\n
END:VEVENT
BEGIN:VEVENT
UID:ietf-70-756-mext
SUMMARY:mext - Mobility EXTensions for IPv6
LOCATION:Salon 3
STATUS:CONFIRMED
CLASS:PUBLIC
DTSTART;TZID=America/Vancouver:20071207T090000
DTEND;TZID=America/Vancouver:20071207T113000
DTSTAMP:20161222T095710Z
DESCRIPTION:Morning Session I\n
 \n
 Session materials: https://datatracker.ietf.org/meeting/70/session/mext\n
 \n
 See in schedule: https://datatracker.ietf.org/meeting/70/agenda#row-70-2007-12-07-fri-0900-int-mext\n
END:VEVENT
END:VCALENDAR
