BEGIN:VCALENDAR
VERSION:2.0
METHOD:PUBLISH
PRODID:-//IETF//datatracker.ietf.org ical agenda//EN
BEGIN:VTIMEZONE
TZID:America/Vancouver
X-LIC-LOCATION:America/Vancouver
BEGIN:DAYLIGHT
TZOFFSETFROM:-0800
TZOFFSETTO:-0700
TZNAME:PDT
DTSTART:20070311T020000
RRULE:FREQ=YEARLY;BYMONTH=3;BYDAY=2SU
END:DAYLIGHT
BEGIN:STANDARD
TZOFFSETFROM:-0700
TZOFFSETTO:-0800
TZNAME:PST
DTSTART:20071104T020000
RRULE:FREQ=YEARLY;BYMONTH=11;BYDAY=1SU
END:STANDARD
BEGIN:STANDARD
TZOFFSETFROM:-081228
TZOFFSETTO:-0800
TZNAME:PST
DTSTART:18840101T000000
RDATE:18840101T000000
END:STANDARD
BEGIN:DAYLIGHT
TZOFFSETFROM:-0800
TZOFFSETTO:-0700
TZNAME:PDT
DTSTART:19180414T020000
RDATE:19180414T020000
RDATE:19460428T020000
RDATE:19470427T020000
RDATE:19480425T020000
RDATE:19490424T020000
RDATE:19500430T020000
RDATE:19510429T020000
RDATE:19520427T020000
RDATE:19530426T020000
RDATE:19540425T020000
RDATE:19550424T020000
RDATE:19560429T020000
RDATE:19570428T020000
RDATE:19580427T020000
RDATE:19590426T020000
RDATE:19600424T020000
RDATE:19610430T020000
RDATE:19620429T020000
RDATE:19630428T020000
RDATE:19640426T020000
RDATE:19650425T020000
RDATE:19660424T020000
RDATE:19670430T020000
RDATE:19680428T020000
RDATE:19690427T020000
RDATE:19700426T020000
RDATE:19710425T020000
RDATE:19720430T020000
RDATE:19730429T020000
RDATE:19740428T020000
RDATE:19750427T020000
RDATE:19760425T020000
RDATE:19770424T020000
RDATE:19780430T020000
RDATE:19790429T020000
RDATE:19800427T020000
RDATE:19810426T020000
RDATE:19820425T020000
RDATE:19830424T020000
RDATE:19840429T020000
RDATE:19850428T020000
RDATE:19860427T020000
RDATE:19870405T020000
RDATE:19880403T020000
RDATE:19890402T020000
RDATE:19900401T020000
RDATE:19910407T020000
RDATE:19920405T020000
RDATE:19930404T020000
RDATE:19940403T020000
RDATE:19950402T020000
RDATE:19960407T020000
RDATE:19970406T020000
RDATE:19980405T020000
RDATE:19990404T020000
RDATE:20000402T020000
RDATE:20010401T020000
RDATE:20020407T020000
RDATE:20030406T020000
RDATE:20040404T020000
RDATE:20050403T020000
RDATE:20060402T020000
END:DAYLIGHT
BEGIN:STANDARD
TZOFFSETFROM:-0700
TZOFFSETTO:-0800
TZNAME:PST
DTSTART:19181027T020000
RDATE:19181027T020000
RDATE:19450930T020000
RDATE:19461013T020000
RDATE:19470928T020000
RDATE:19480926T020000
RDATE:19490925T020000
RDATE:19500924T020000
RDATE:19510930T020000
RDATE:19520928T020000
RDATE:19530927T020000
RDATE:19540926T020000
RDATE:19550925T020000
RDATE:19560930T020000
RDATE:19570929T020000
RDATE:19580928T020000
RDATE:19590927T020000
RDATE:19600925T020000
RDATE:19610924T020000
RDATE:19621028T020000
RDATE:19631027T020000
RDATE:19641025T020000
RDATE:19651031T020000
RDATE:19661030T020000
RDATE:19671029T020000
RDATE:19681027T020000
RDATE:19691026T020000
RDATE:19701025T020000
RDATE:19711031T020000
RDATE:19721029T020000
RDATE:19731028T020000
RDATE:19741027T020000
RDATE:19751026T020000
RDATE:19761031T020000
RDATE:19771030T020000
RDATE:19781029T020000
RDATE:19791028T020000
RDATE:19801026T020000
RDATE:19811025T020000
RDATE:19821031T020000
RDATE:19831030T020000
RDATE:19841028T020000
RDATE:19851027T020000
RDATE:19861026T020000
RDATE:19871025T020000
RDATE:19881030T020000
RDATE:19891029T020000
RDATE:19901028T020000
RDATE:19911027T020000
RDATE:19921025T020000
RDATE:19931031T020000
RDATE:19941030T020000
RDATE:19951029T020000
RDATE:19961027T020000
RDATE:19971026T020000
RDATE:19981025T020000
RDATE:19991031T020000
RDATE:20001029T020000
RDATE:20011028T020000
RDATE:20021027T020000
RDATE:20031026T020000
RDATE:20041031T020000
RDATE:20051030T020000
RDATE:20061029T020000
END:STANDARD
BEGIN:DAYLIGHT
TZOFFSETFROM:-0800
TZOFFSETTO:-0700
TZNAME:PWT
DTSTART:19420209T020000
RDATE:19420209T020000
END:DAYLIGHT
BEGIN:DAYLIGHT
TZOFFSETFROM:-0700
TZOFFSETTO:-0700
TZNAME:PPT
DTSTART:19450814T160000
RDATE:19450814T160000
END:DAYLIGHT
BEGIN:STANDARD
TZOFFSETFROM:-0800
TZOFFSETTO:-0800
TZNAME:PST
DTSTART:19870101T000000
RDATE:19870101T000000
END:STANDARD
END:VTIMEZONE
BEGIN:VEVENT
UID:ietf-70-658-mediactrl
SUMMARY:mediactrl - Media Server Control
LOCATION:Cypress
STATUS:CONFIRMED
CLASS:PUBLIC
DTSTART;TZID=America/Vancouver:20071203T090000
DTEND;TZID=America/Vancouver:20071203T113000
DTSTAMP:20161222T095710Z
URL:https://datatracker.ietf.org/meeting/70/materials/agenda-70-mediactrl
DESCRIPTION:Morning Session I\n
 \n
 Agenda https://datatracker.ietf.org/meeting/70/materials/agenda-70-mediactrl\n
 \n
 Session materials: https://datatracker.ietf.org/meeting/70/session/mediactrl\n
 \n
 See in schedule: https://datatracker.ietf.org/meeting/70/agenda#row-70-2007-12-03-mon-0900-rai-mediactrl\n
END:VEVENT
BEGIN:VEVENT
UID:ietf-70-657-speermint
SUMMARY:speermint - Session PEERing for Multimedia INTerconnect
LOCATION:Salon A
STATUS:CONFIRMED
CLASS:PUBLIC
DTSTART;TZID=America/Vancouver:20071203T130000
DTEND;TZID=America/Vancouver:20071203T150000
DTSTAMP:20161222T095710Z
URL:https://datatracker.ietf.org/meeting/70/materials/agenda-70-speermint
DESCRIPTION:Afternoon Session I\n
 \n
 Agenda https://datatracker.ietf.org/meeting/70/materials/agenda-70-speermint\n
 \n
 Session materials: https://datatracker.ietf.org/meeting/70/session/speermint\n
 \n
 See in schedule: https://datatracker.ietf.org/meeting/70/agenda#row-70-2007-12-03-mon-1300-rai-speermint\n
END:VEVENT
BEGIN:VEVENT
UID:ietf-70-664-avt
SUMMARY:avt - Audio/Video Transport
LOCATION:Salon 2
STATUS:CONFIRMED
CLASS:PUBLIC
DTSTART;TZID=America/Vancouver:20071203T152000
DTEND;TZID=America/Vancouver:20071203T172000
DTSTAMP:20161222T095710Z
URL:https://datatracker.ietf.org/meeting/70/materials/agenda-70-avt
DESCRIPTION:Afternoon Session II\n
 \n
 Agenda https://datatracker.ietf.org/meeting/70/materials/agenda-70-avt\n
 \n
 Session materials: https://datatracker.ietf.org/meeting/70/session/avt\n
 \n
 See in schedule: https://datatracker.ietf.org/meeting/70/agenda#row-70-2007-12-03-mon-1520-rai-avt\n
END:VEVENT
BEGIN:VEVENT
UID:ietf-70-676-sipping
SUMMARY:sipping - Session Initiation Proposal Investigation
LOCATION:Salon D/E
STATUS:CONFIRMED
CLASS:PUBLIC
DTSTART;TZID=America/Vancouver:20071204T090000
DTEND;TZID=America/Vancouver:20071204T113000
DTSTAMP:20161222T095710Z
URL:https://datatracker.ietf.org/meeting/70/materials/agenda-70-sipping
DESCRIPTION:Morning Session I\n
 \n
 Agenda https://datatracker.ietf.org/meeting/70/materials/agenda-70-sipping\n
 \n
 Session materials: https://datatracker.ietf.org/meeting/70/session/sipping\n
 \n
 See in schedule: https://datatracker.ietf.org/meeting/70/agenda#row-70-2007-12-04-tue-0900-rai-sipping\n
END:VEVENT
BEGIN:VEVENT
UID:ietf-70-729-mmusic
SUMMARY:mmusic - Multiparty Multimedia Session Control
LOCATION:Salon F
STATUS:CONFIRMED
CLASS:PUBLIC
DTSTART;TZID=America/Vancouver:20071204T130000
DTEND;TZID=America/Vancouver:20071204T150000
DTSTAMP:20161222T095710Z
URL:https://datatracker.ietf.org/meeting/70/materials/agenda-70-mmusic
DESCRIPTION:Afternoon Session I\n
 \n
 Agenda https://datatracker.ietf.org/meeting/70/materials/agenda-70-mmusic\n
 \n
 Session materials: https://datatracker.ietf.org/meeting/70/session/mmusic\n
 \n
 See in schedule: https://datatracker.ietf.org/meeting/70/agenda#row-70-2007-12-04-tue-1300-rai-mmusic\n
END:VEVENT
BEGIN:VEVENT
UID:ietf-70-653-enum
SUMMARY:enum - Telephone Number Mapping
LOCATION:Salon A
STATUS:CONFIRMED
CLASS:PUBLIC
DTSTART;TZID=America/Vancouver:20071204T130000
DTEND;TZID=America/Vancouver:20071204T150000
DTSTAMP:20161222T095710Z
URL:https://datatracker.ietf.org/meeting/70/materials/agenda-70-enum
DESCRIPTION:Afternoon Session I\n
 \n
 Agenda https://datatracker.ietf.org/meeting/70/materials/agenda-70-enum\n
 \n
 Session materials: https://datatracker.ietf.org/meeting/70/session/enum\n
 \n
 See in schedule: https://datatracker.ietf.org/meeting/70/agenda#row-70-2007-12-04-tue-1300-rai-enum\n
END:VEVENT
BEGIN:VEVENT
UID:ietf-70-720-ecrit
SUMMARY:ecrit - Emergency Context Resolution with Internet Technologies
LOCATION:Salon 3
STATUS:CONFIRMED
CLASS:PUBLIC
DTSTART;TZID=America/Vancouver:20071204T152000
DTEND;TZID=America/Vancouver:20071204T172000
DTSTAMP:20161222T095710Z
URL:https://datatracker.ietf.org/meeting/70/materials/agenda-70-ecrit
DESCRIPTION:Afternoon Session II\n
 \n
 Agenda https://datatracker.ietf.org/meeting/70/materials/agenda-70-ecrit\n
 \n
 Session materials: https://datatracker.ietf.org/meeting/70/session/ecrit\n
 \n
 See in schedule: https://datatracker.ietf.org/meeting/70/agenda#row-70-2007-12-04-tue-1520-rai-ecrit\n
END:VEVENT
BEGIN:VEVENT
UID:ietf-70-659-xcon
SUMMARY:xcon - Centralized Conferencing
LOCATION:Cypress
STATUS:CONFIRMED
CLASS:PUBLIC
DTSTART;TZID=America/Vancouver:20071204T174000
DTEND;TZID=America/Vancouver:20071204T184000
DTSTAMP:20161222T095710Z
URL:https://datatracker.ietf.org/meeting/70/materials/agenda-70-xcon
DESCRIPTION:Afternoon Session III\n
 \n
 Agenda https://datatracker.ietf.org/meeting/70/materials/agenda-70-xcon\n
 \n
 Session materials: https://datatracker.ietf.org/meeting/70/session/xcon\n
 \n
 See in schedule: https://datatracker.ietf.org/meeting/70/agenda#row-70-2007-12-04-tue-1740-rai-xcon\n
END:VEVENT
BEGIN:VEVENT
UID:ietf-70-665-avt
SUMMARY:avt - Audio/Video Transport
LOCATION:Salon 3
STATUS:CONFIRMED
CLASS:PUBLIC
DTSTART;TZID=America/Vancouver:20071204T185000
DTEND;TZID=America/Vancouver:20071204T195000
DTSTAMP:20161222T095710Z
URL:https://datatracker.ietf.org/meeting/70/materials/agenda-70-avt
DESCRIPTION:Afternoon Session IV\n
 \n
 Agenda https://datatracker.ietf.org/meeting/70/materials/agenda-70-avt\n
 \n
 Session materials: https://datatracker.ietf.org/meeting/70/session/avt\n
 \n
 See in schedule: https://datatracker.ietf.org/meeting/70/agenda#row-70-2007-12-04-tue-1850-rai-avt\n
END:VEVENT
BEGIN:VEVENT
UID:ietf-70-667-p2psip
SUMMARY:p2psip - Peer-to-Peer Session Initiation Protocol
LOCATION:Salon D/E
STATUS:CONFIRMED
CLASS:PUBLIC
DTSTART;TZID=America/Vancouver:20071205T130000
DTEND;TZID=America/Vancouver:20071205T150000
DTSTAMP:20161222T095710Z
URL:https://datatracker.ietf.org/meeting/70/materials/agenda-70-p2psip
DESCRIPTION:Afternoon Session I\n
 \n
 Agenda https://datatracker.ietf.org/meeting/70/materials/agenda-70-p2psip\n
 \n
 Session materials: https://datatracker.ietf.org/meeting/70/session/p2psip\n
 \n
 See in schedule: https://datatracker.ietf.org/meeting/70/agenda#row-70-2007-12-05-wed-1300-rai-p2psip\n
END:VEVENT
BEGIN:VEVENT
UID:ietf-70-695-simple
SUMMARY:simple - SIP for Instant Messaging and Presence Leveraging Extensions
LOCATION:Salon 3
STATUS:CONFIRMED
CLASS:PUBLIC
DTSTART;TZID=America/Vancouver:20071205T151000
DTEND;TZID=America/Vancouver:20071205T161000
DTSTAMP:20161222T095710Z
URL:https://datatracker.ietf.org/meeting/70/materials/agenda-70-simple
DESCRIPTION:Afternoon Session II\n
 \n
 Agenda https://datatracker.ietf.org/meeting/70/materials/agenda-70-simple\n
 \n
 Session materials: https://datatracker.ietf.org/meeting/70/session/simple\n
 \n
 See in schedule: https://datatracker.ietf.org/meeting/70/agenda#row-70-2007-12-05-wed-1510-rai-simple\n
END:VEVENT
BEGIN:VEVENT
UID:ietf-70-730-mmusic
SUMMARY:mmusic - Multiparty Multimedia Session Control
LOCATION:Salon 3
STATUS:CONFIRMED
CLASS:PUBLIC
DTSTART;TZID=America/Vancouver:20071206T090000
DTEND;TZID=America/Vancouver:20071206T113000
DTSTAMP:20161222T095710Z
URL:https://datatracker.ietf.org/meeting/70/materials/agenda-70-mmusic
DESCRIPTION:Morning Session I\n
 \n
 Agenda https://datatracker.ietf.org/meeting/70/materials/agenda-70-mmusic\n
 \n
 Session materials: https://datatracker.ietf.org/meeting/70/session/mmusic\n
 \n
 See in schedule: https://datatracker.ietf.org/meeting/70/agenda#row-70-2007-12-06-thu-0900-rai-mmusic\n
END:VEVENT
BEGIN:VEVENT
UID:ietf-70-675-bliss
SUMMARY:bliss - Basic Level of Interoperability for SIP Services
LOCATION:Salon 2
STATUS:CONFIRMED
CLASS:PUBLIC
DTSTART;TZID=America/Vancouver:20071206T130000
DTEND;TZID=America/Vancouver:20071206T150000
DTSTAMP:20161222T095710Z
URL:https://datatracker.ietf.org/meeting/70/materials/agenda-70-bliss
DESCRIPTION:Afternoon Session I\n
 \n
 Agenda https://datatracker.ietf.org/meeting/70/materials/agenda-70-bliss\n
 \n
 Session materials: https://datatracker.ietf.org/meeting/70/session/bliss\n
 \n
 See in schedule: https://datatracker.ietf.org/meeting/70/agenda#row-70-2007-12-06-thu-1300-rai-bliss\n
END:VEVENT
BEGIN:VEVENT
UID:ietf-70-740-peppermint
SUMMARY:peppermint - Provisioning Extensions in Peering Registries for Multimedia INTerconnection
LOCATION:Salon 2
STATUS:CONFIRMED
CLASS:PUBLIC
DTSTART;TZID=America/Vancouver:20071206T151000
DTEND;TZID=America/Vancouver:20071206T161000
DTSTAMP:20161222T095710Z
URL:https://datatracker.ietf.org/meeting/70/materials/agenda-70-peppermint
DESCRIPTION:Afternoon Session II\n
 \n
 Agenda https://datatracker.ietf.org/meeting/70/materials/agenda-70-peppermint\n
 \n
 Session materials: https://datatracker.ietf.org/meeting/70/session/peppermint\n
 \n
 See in schedule: https://datatracker.ietf.org/meeting/70/agenda#row-70-2007-12-06-thu-1510-rai-peppermint\n
END:VEVENT
BEGIN:VEVENT
UID:ietf-70-696-geopriv
SUMMARY:geopriv - Geographic Location/Privacy
LOCATION:Salon 1
STATUS:CONFIRMED
CLASS:PUBLIC
DTSTART;TZID=America/Vancouver:20071207T090000
DTEND;TZID=America/Vancouver:20071207T113000
DTSTAMP:20161222T095710Z
URL:https://datatracker.ietf.org/meeting/70/materials/agenda-70-geopriv
DESCRIPTION:Morning Session I\n
 \n
 Agenda https://datatracker.ietf.org/meeting/70/materials/agenda-70-geopriv\n
 \n
 Session materials: https://datatracker.ietf.org/meeting/70/session/geopriv\n
 \n
 See in schedule: https://datatracker.ietf.org/meeting/70/agenda#row-70-2007-12-07-fri-0900-rai-geopriv\n
END:VEVENT
END:VCALENDAR
