BEGIN:VCALENDAR
VERSION:2.0
METHOD:PUBLISH
PRODID:-//IETF//datatracker.ietf.org ical agenda//EN
BEGIN:VTIMEZONE
TZID:America/New_York
X-LIC-LOCATION:America/New_York
BEGIN:DAYLIGHT
TZOFFSETFROM:-0500
TZOFFSETTO:-0400
TZNAME:EDT
DTSTART:20070311T020000
RRULE:FREQ=YEARLY;BYMONTH=3;BYDAY=2SU
END:DAYLIGHT
BEGIN:STANDARD
TZOFFSETFROM:-0400
TZOFFSETTO:-0500
TZNAME:EST
DTSTART:20071104T020000
RRULE:FREQ=YEARLY;BYMONTH=11;BYDAY=1SU
END:STANDARD
BEGIN:STANDARD
TZOFFSETFROM:-045602
TZOFFSETTO:-0500
TZNAME:EST
DTSTART:18831118T120358
RDATE:18831118T120358
END:STANDARD
BEGIN:DAYLIGHT
TZOFFSETFROM:-0500
TZOFFSETTO:-0400
TZNAME:EDT
DTSTART:19180331T020000
RDATE:19180331T020000
RDATE:19190330T020000
RDATE:19200328T020000
RDATE:19210424T020000
RDATE:19220430T020000
RDATE:19230429T020000
RDATE:19240427T020000
RDATE:19250426T020000
RDATE:19260425T020000
RDATE:19270424T020000
RDATE:19280429T020000
RDATE:19290428T020000
RDATE:19300427T020000
RDATE:19310426T020000
RDATE:19320424T020000
RDATE:19330430T020000
RDATE:19340429T020000
RDATE:19350428T020000
RDATE:19360426T020000
RDATE:19370425T020000
RDATE:19380424T020000
RDATE:19390430T020000
RDATE:19400428T020000
RDATE:19410427T020000
RDATE:19460428T020000
RDATE:19470427T020000
RDATE:19480425T020000
RDATE:19490424T020000
RDATE:19500430T020000
RDATE:19510429T020000
RDATE:19520427T020000
RDATE:19530426T020000
RDATE:19540425T020000
RDATE:19550424T020000
RDATE:19560429T020000
RDATE:19570428T020000
RDATE:19580427T020000
RDATE:19590426T020000
RDATE:19600424T020000
RDATE:19610430T020000
RDATE:19620429T020000
RDATE:19630428T020000
RDATE:19640426T020000
RDATE:19650425T020000
RDATE:19660424T020000
RDATE:19670430T020000
RDATE:19680428T020000
RDATE:19690427T020000
RDATE:19700426T020000
RDATE:19710425T020000
RDATE:19720430T020000
RDATE:19730429T020000
RDATE:19740106T020000
RDATE:19750223T020000
RDATE:19760425T020000
RDATE:19770424T020000
RDATE:19780430T020000
RDATE:19790429T020000
RDATE:19800427T020000
RDATE:19810426T020000
RDATE:19820425T020000
RDATE:19830424T020000
RDATE:19840429T020000
RDATE:19850428T020000
RDATE:19860427T020000
RDATE:19870405T020000
RDATE:19880403T020000
RDATE:19890402T020000
RDATE:19900401T020000
RDATE:19910407T020000
RDATE:19920405T020000
RDATE:19930404T020000
RDATE:19940403T020000
RDATE:19950402T020000
RDATE:19960407T020000
RDATE:19970406T020000
RDATE:19980405T020000
RDATE:19990404T020000
RDATE:20000402T020000
RDATE:20010401T020000
RDATE:20020407T020000
RDATE:20030406T020000
RDATE:20040404T020000
RDATE:20050403T020000
RDATE:20060402T020000
END:DAYLIGHT
BEGIN:STANDARD
TZOFFSETFROM:-0400
TZOFFSETTO:-0500
TZNAME:EST
DTSTART:19181027T020000
RDATE:19181027T020000
RDATE:19191026T020000
RDATE:19201031T020000
RDATE:19210925T020000
RDATE:19220924T020000
RDATE:19230930T020000
RDATE:19240928T020000
RDATE:19250927T020000
RDATE:19260926T020000
RDATE:19270925T020000
RDATE:19280930T020000
RDATE:19290929T020000
RDATE:19300928T020000
RDATE:19310927T020000
RDATE:19320925T020000
RDATE:19330924T020000
RDATE:19340930T020000
RDATE:19350929T020000
RDATE:19360927T020000
RDATE:19370926T020000
RDATE:19380925T020000
RDATE:19390924T020000
RDATE:19400929T020000
RDATE:19410928T020000
RDATE:19450930T020000
RDATE:19460929T020000
RDATE:19470928T020000
RDATE:19480926T020000
RDATE:19490925T020000
RDATE:19500924T020000
RDATE:19510930T020000
RDATE:19520928T020000
RDATE:19530927T020000
RDATE:19540926T020000
RDATE:19551030T020000
RDATE:19561028T020000
RDATE:19571027T020000
RDATE:19581026T020000
RDATE:19591025T020000
RDATE:19601030T020000
RDATE:19611029T020000
RDATE:19621028T020000
RDATE:19631027T020000
RDATE:19641025T020000
RDATE:19651031T020000
RDATE:19661030T020000
RDATE:19671029T020000
RDATE:19681027T020000
RDATE:19691026T020000
RDATE:19701025T020000
RDATE:19711031T020000
RDATE:19721029T020000
RDATE:19731028T020000
RDATE:19741027T020000
RDATE:19751026T020000
RDATE:19761031T020000
RDATE:19771030T020000
RDATE:19781029T020000
RDATE:19791028T020000
RDATE:19801026T020000
RDATE:19811025T020000
RDATE:19821031T020000
RDATE:19831030T020000
RDATE:19841028T020000
RDATE:19851027T020000
RDATE:19861026T020000
RDATE:19871025T020000
RDATE:19881030T020000
RDATE:19891029T020000
RDATE:19901028T020000
RDATE:19911027T020000
RDATE:19921025T020000
RDATE:19931031T020000
RDATE:19941030T020000
RDATE:19951029T020000
RDATE:19961027T020000
RDATE:19971026T020000
RDATE:19981025T020000
RDATE:19991031T020000
RDATE:20001029T020000
RDATE:20011028T020000
RDATE:20021027T020000
RDATE:20031026T020000
RDATE:20041031T020000
RDATE:20051030T020000
RDATE:20061029T020000
END:STANDARD
BEGIN:STANDARD
TZOFFSETFROM:-0500
TZOFFSETTO:-0500
TZNAME:EST
DTSTART:19200101T000000
RDATE:19200101T000000
RDATE:19420101T000000
RDATE:19460101T000000
RDATE:19670101T000000
END:STANDARD
BEGIN:DAYLIGHT
TZOFFSETFROM:-0500
TZOFFSETTO:-0400
TZNAME:EWT
DTSTART:19420209T020000
RDATE:19420209T020000
END:DAYLIGHT
BEGIN:DAYLIGHT
TZOFFSETFROM:-0400
TZOFFSETTO:-0400
TZNAME:EPT
DTSTART:19450814T190000
RDATE:19450814T190000
END:DAYLIGHT
END:VTIMEZONE
BEGIN:VEVENT
UID:ietf-71-798-trill
SUMMARY:trill - Transparent Interconnection of Lots of Links
LOCATION:Franklin 13
STATUS:CONFIRMED
CLASS:PUBLIC
DTSTART;TZID=America/New_York:20080310T090000
DTEND;TZID=America/New_York:20080310T113000
DTSTAMP:20161222T095710Z
URL:https://datatracker.ietf.org/meeting/71/materials/agenda-71-trill
DESCRIPTION:Morning Session I\n
 \n
 Agenda https://datatracker.ietf.org/meeting/71/materials/agenda-71-trill\n
 \n
 Session materials: https://datatracker.ietf.org/meeting/71/session/trill\n
 \n
 See in schedule: https://datatracker.ietf.org/meeting/71/agenda#row-71-2008-03-10-mon-0900-int-trill\n
END:VEVENT
BEGIN:VEVENT
UID:ietf-71-775-shim6
SUMMARY:shim6 - Site Multihoming by IPv6 Intermediation
LOCATION:Franklin 13
STATUS:CONFIRMED
CLASS:PUBLIC
DTSTART;TZID=America/New_York:20080310T130000
DTEND;TZID=America/New_York:20080310T150000
DTSTAMP:20161222T095710Z
URL:https://datatracker.ietf.org/meeting/71/materials/agenda-71-shim6
DESCRIPTION:Afternoon Session I\n
 \n
 Agenda https://datatracker.ietf.org/meeting/71/materials/agenda-71-shim6\n
 \n
 Session materials: https://datatracker.ietf.org/meeting/71/session/shim6\n
 \n
 See in schedule: https://datatracker.ietf.org/meeting/71/agenda#row-71-2008-03-10-mon-1300-int-shim6\n
END:VEVENT
BEGIN:VEVENT
UID:ietf-71-868-softwire
SUMMARY:softwire - Softwires
LOCATION:Franklin 11/12
STATUS:CONFIRMED
CLASS:PUBLIC
DTSTART;TZID=America/New_York:20080310T130000
DTEND;TZID=America/New_York:20080310T150000
DTSTAMP:20161222T095710Z
URL:https://datatracker.ietf.org/meeting/71/materials/agenda-71-softwire
DESCRIPTION:Afternoon Session I\n
 \n
 Agenda https://datatracker.ietf.org/meeting/71/materials/agenda-71-softwire\n
 \n
 Session materials: https://datatracker.ietf.org/meeting/71/session/softwire\n
 \n
 See in schedule: https://datatracker.ietf.org/meeting/71/agenda#row-71-2008-03-10-mon-1300-int-softwire\n
END:VEVENT
BEGIN:VEVENT
UID:ietf-71-850-dhc
SUMMARY:dhc - Dynamic Host Configuration
LOCATION:Franklin 11/12
STATUS:CONFIRMED
CLASS:PUBLIC
DTSTART;TZID=America/New_York:20080310T152000
DTEND;TZID=America/New_York:20080310T172000
DTSTAMP:20161222T095710Z
URL:https://datatracker.ietf.org/meeting/71/materials/agenda-71-dhc
DESCRIPTION:Afternoon Session II\n
 \n
 Agenda https://datatracker.ietf.org/meeting/71/materials/agenda-71-dhc\n
 \n
 Session materials: https://datatracker.ietf.org/meeting/71/session/dhc\n
 \n
 See in schedule: https://datatracker.ietf.org/meeting/71/agenda#row-71-2008-03-10-mon-1520-int-dhc\n
END:VEVENT
BEGIN:VEVENT
UID:ietf-71-793-csi
SUMMARY:csi - Cga & Send maIntenance
LOCATION:Franklin 11/12
STATUS:CONFIRMED
CLASS:PUBLIC
DTSTART;TZID=America/New_York:20080310T174000
DTEND;TZID=America/New_York:20080310T195000
DTSTAMP:20161222T095710Z
URL:https://datatracker.ietf.org/meeting/71/materials/agenda-71-csi
DESCRIPTION:Afternoon Session III\n
 \n
 Agenda https://datatracker.ietf.org/meeting/71/materials/agenda-71-csi\n
 \n
 Session materials: https://datatracker.ietf.org/meeting/71/session/csi\n
 \n
 See in schedule: https://datatracker.ietf.org/meeting/71/agenda#row-71-2008-03-10-mon-1740-int-csi\n
END:VEVENT
BEGIN:VEVENT
UID:ietf-71-833-6lowpan
SUMMARY:6lowpan - IPv6 over Low power WPAN
LOCATION:Franklin 5
STATUS:CONFIRMED
CLASS:PUBLIC
DTSTART;TZID=America/New_York:20080311T090000
DTEND;TZID=America/New_York:20080311T113000
DTSTAMP:20161222T095710Z
URL:https://datatracker.ietf.org/meeting/71/materials/agenda-71-6lowpan
DESCRIPTION:Morning Session I\n
 \n
 Agenda https://datatracker.ietf.org/meeting/71/materials/agenda-71-6lowpan\n
 \n
 Session materials: https://datatracker.ietf.org/meeting/71/session/6lowpan\n
 \n
 See in schedule: https://datatracker.ietf.org/meeting/71/agenda#row-71-2008-03-11-tue-0900-int-6lowpan\n
END:VEVENT
BEGIN:VEVENT
UID:ietf-71-842-netlmm
SUMMARY:netlmm - Network-based Localized Mobility Management
LOCATION:Franklin 3/4
STATUS:CONFIRMED
CLASS:PUBLIC
DTSTART;TZID=America/New_York:20080311T090000
DTEND;TZID=America/New_York:20080311T113000
DTSTAMP:20161222T095710Z
URL:https://datatracker.ietf.org/meeting/71/materials/agenda-71-netlmm
DESCRIPTION:Morning Session I\n
 \n
 Agenda https://datatracker.ietf.org/meeting/71/materials/agenda-71-netlmm\n
 \n
 Session materials: https://datatracker.ietf.org/meeting/71/session/netlmm\n
 \n
 See in schedule: https://datatracker.ietf.org/meeting/71/agenda#row-71-2008-03-11-tue-0900-int-netlmm\n
END:VEVENT
BEGIN:VEVENT
UID:ietf-71-762-autoconf
SUMMARY:autoconf - Ad-Hoc Network Autoconfiguration
LOCATION:Franklin 11/12
STATUS:CONFIRMED
CLASS:PUBLIC
DTSTART;TZID=America/New_York:20080311T130000
DTEND;TZID=America/New_York:20080311T150000
DTSTAMP:20161222T095710Z
URL:https://datatracker.ietf.org/meeting/71/materials/agenda-71-autoconf
DESCRIPTION:Afternoon Session I\n
 \n
 Agenda https://datatracker.ietf.org/meeting/71/materials/agenda-71-autoconf\n
 \n
 Session materials: https://datatracker.ietf.org/meeting/71/session/autoconf\n
 \n
 See in schedule: https://datatracker.ietf.org/meeting/71/agenda#row-71-2008-03-11-tue-1300-int-autoconf\n
END:VEVENT
BEGIN:VEVENT
UID:ietf-71-808-dnsext
SUMMARY:dnsext - DNS Extensions
LOCATION:Franklin 3/4
STATUS:CONFIRMED
CLASS:PUBLIC
DTSTART;TZID=America/New_York:20080311T130000
DTEND;TZID=America/New_York:20080311T150000
DTSTAMP:20161222T095710Z
URL:https://datatracker.ietf.org/meeting/71/materials/agenda-71-dnsext
DESCRIPTION:Afternoon Session I\n
 \n
 Agenda https://datatracker.ietf.org/meeting/71/materials/agenda-71-dnsext\n
 \n
 Session materials: https://datatracker.ietf.org/meeting/71/session/dnsext\n
 \n
 See in schedule: https://datatracker.ietf.org/meeting/71/agenda#row-71-2008-03-11-tue-1300-int-dnsext\n
END:VEVENT
BEGIN:VEVENT
UID:ietf-71-784-intarea
SUMMARY:intarea - Internet Area Working Group
LOCATION:Franklin 1/2
STATUS:CONFIRMED
CLASS:PUBLIC
DTSTART;TZID=America/New_York:20080311T152000
DTEND;TZID=America/New_York:20080311T172000
DTSTAMP:20161222T095710Z
URL:https://datatracker.ietf.org/meeting/71/materials/agenda-71-intarea
DESCRIPTION:Afternoon Session II\n
 \n
 Agenda https://datatracker.ietf.org/meeting/71/materials/agenda-71-intarea\n
 \n
 Session materials: https://datatracker.ietf.org/meeting/71/session/intarea\n
 \n
 See in schedule: https://datatracker.ietf.org/meeting/71/agenda#row-71-2008-03-11-tue-1520-int-intarea\n
END:VEVENT
BEGIN:VEVENT
UID:ietf-71-768-ancp
SUMMARY:ancp - Access Node Control Protocol
LOCATION:Salon J
STATUS:CONFIRMED
CLASS:PUBLIC
DTSTART;TZID=America/New_York:20080311T174000
DTEND;TZID=America/New_York:20080311T184000
DTSTAMP:20161222T095710Z
URL:https://datatracker.ietf.org/meeting/71/materials/agenda-71-ancp
DESCRIPTION:Afternoon Session III\n
 \n
 Agenda https://datatracker.ietf.org/meeting/71/materials/agenda-71-ancp\n
 \n
 Session materials: https://datatracker.ietf.org/meeting/71/session/ancp\n
 \n
 See in schedule: https://datatracker.ietf.org/meeting/71/agenda#row-71-2008-03-11-tue-1740-int-ancp\n
END:VEVENT
BEGIN:VEVENT
UID:ietf-71-785-16ng
SUMMARY:16ng - IP over IEEE 802.16 Networks
LOCATION:Franklin 3/4
STATUS:CONFIRMED
CLASS:PUBLIC
DTSTART;TZID=America/New_York:20080311T185000
DTEND;TZID=America/New_York:20080311T195000
DTSTAMP:20161222T095710Z
URL:https://datatracker.ietf.org/meeting/71/materials/agenda-71-16ng
DESCRIPTION:Afternoon Session IV\n
 \n
 Agenda https://datatracker.ietf.org/meeting/71/materials/agenda-71-16ng\n
 \n
 Session materials: https://datatracker.ietf.org/meeting/71/session/16ng\n
 \n
 See in schedule: https://datatracker.ietf.org/meeting/71/agenda#row-71-2008-03-11-tue-1850-int-16ng\n
END:VEVENT
BEGIN:VEVENT
UID:ietf-71-769-ancp
SUMMARY:ancp - Access Node Control Protocol
LOCATION:Salon J
STATUS:CONFIRMED
CLASS:PUBLIC
DTSTART;TZID=America/New_York:20080311T185000
DTEND;TZID=America/New_York:20080311T195000
DTSTAMP:20161222T095710Z
URL:https://datatracker.ietf.org/meeting/71/materials/agenda-71-ancp
DESCRIPTION:Afternoon Session IV\n
 \n
 Agenda https://datatracker.ietf.org/meeting/71/materials/agenda-71-ancp\n
 \n
 Session materials: https://datatracker.ietf.org/meeting/71/session/ancp\n
 \n
 See in schedule: https://datatracker.ietf.org/meeting/71/agenda#row-71-2008-03-11-tue-1850-int-ancp\n
END:VEVENT
BEGIN:VEVENT
UID:ietf-71-828-6man
SUMMARY:6man - IPv6 Maintenance
LOCATION:Franklin 13
STATUS:CONFIRMED
CLASS:PUBLIC
DTSTART;TZID=America/New_York:20080312T090000
DTEND;TZID=America/New_York:20080312T113000
DTSTAMP:20161222T095710Z
URL:https://datatracker.ietf.org/meeting/71/materials/agenda-71-6man
DESCRIPTION:Morning Session I\n
 \n
 Agenda https://datatracker.ietf.org/meeting/71/materials/agenda-71-6man\n
 \n
 Session materials: https://datatracker.ietf.org/meeting/71/session/6man\n
 \n
 See in schedule: https://datatracker.ietf.org/meeting/71/agenda#row-71-2008-03-12-wed-0900-int-6man\n
END:VEVENT
BEGIN:VEVENT
UID:ietf-71-791-mext
SUMMARY:mext - Mobility EXTensions for IPv6
LOCATION:Franklin 1/2
STATUS:CONFIRMED
CLASS:PUBLIC
DTSTART;TZID=America/New_York:20080312T090000
DTEND;TZID=America/New_York:20080312T113000
DTSTAMP:20161222T095710Z
URL:https://datatracker.ietf.org/meeting/71/materials/agenda-71-mext
DESCRIPTION:Morning Session I\n
 \n
 Agenda https://datatracker.ietf.org/meeting/71/materials/agenda-71-mext\n
 \n
 Session materials: https://datatracker.ietf.org/meeting/71/session/mext\n
 \n
 See in schedule: https://datatracker.ietf.org/meeting/71/agenda#row-71-2008-03-12-wed-0900-int-mext\n
END:VEVENT
BEGIN:VEVENT
UID:ietf-71-827-ntp
SUMMARY:ntp - Network Time Protocol
LOCATION:Salon I
STATUS:CONFIRMED
CLASS:PUBLIC
DTSTART;TZID=America/New_York:20080312T130000
DTEND;TZID=America/New_York:20080312T150000
DTSTAMP:20161222T095710Z
URL:https://datatracker.ietf.org/meeting/71/materials/agenda-71-ntp
DESCRIPTION:Afternoon Session I\n
 \n
 Agenda https://datatracker.ietf.org/meeting/71/materials/agenda-71-ntp\n
 \n
 Session materials: https://datatracker.ietf.org/meeting/71/session/ntp\n
 \n
 See in schedule: https://datatracker.ietf.org/meeting/71/agenda#row-71-2008-03-12-wed-1300-int-ntp\n
END:VEVENT
BEGIN:VEVENT
UID:ietf-71-847-dna
SUMMARY:dna - Detecting Network Attachment
LOCATION:Franklin 3/4
STATUS:CONFIRMED
CLASS:PUBLIC
DTSTART;TZID=America/New_York:20080312T151000
DTEND;TZID=America/New_York:20080312T161000
DTSTAMP:20161222T095710Z
URL:https://datatracker.ietf.org/meeting/71/materials/agenda-71-dna
DESCRIPTION:Afternoon Session II\n
 \n
 Agenda https://datatracker.ietf.org/meeting/71/materials/agenda-71-dna\n
 \n
 Session materials: https://datatracker.ietf.org/meeting/71/session/dna\n
 \n
 See in schedule: https://datatracker.ietf.org/meeting/71/agenda#row-71-2008-03-12-wed-1510-int-dna\n
END:VEVENT
BEGIN:VEVENT
UID:ietf-71-866-pana
SUMMARY:pana - Protocol for carrying Authentication for Network Access
LOCATION:Franklin 5
STATUS:CONFIRMED
CLASS:PUBLIC
DTSTART;TZID=America/New_York:20080312T151000
DTEND;TZID=America/New_York:20080312T161000
DTSTAMP:20161222T095710Z
URL:https://datatracker.ietf.org/meeting/71/materials/agenda-71-pana
DESCRIPTION:Afternoon Session II\n
 \n
 Agenda https://datatracker.ietf.org/meeting/71/materials/agenda-71-pana\n
 \n
 Session materials: https://datatracker.ietf.org/meeting/71/session/pana\n
 \n
 See in schedule: https://datatracker.ietf.org/meeting/71/agenda#row-71-2008-03-12-wed-1510-int-pana\n
END:VEVENT
BEGIN:VEVENT
UID:ietf-71-792-mext
SUMMARY:mext - Mobility EXTensions for IPv6
LOCATION:Franklin 6/7
STATUS:CONFIRMED
CLASS:PUBLIC
DTSTART;TZID=America/New_York:20080313T090000
DTEND;TZID=America/New_York:20080313T113000
DTSTAMP:20161222T095710Z
DESCRIPTION:Morning Session I\n
 \n
 Session materials: https://datatracker.ietf.org/meeting/71/session/mext\n
 \n
 See in schedule: https://datatracker.ietf.org/meeting/71/agenda#row-71-2008-03-13-thu-0900-int-mext\n
END:VEVENT
BEGIN:VEVENT
UID:ietf-71-843-mip4
SUMMARY:mip4 - Mobility for IPv4
LOCATION:Salon I
STATUS:CONFIRMED
CLASS:PUBLIC
DTSTART;TZID=America/New_York:20080313T130000
DTEND;TZID=America/New_York:20080313T150000
DTSTAMP:20161222T095710Z
URL:https://datatracker.ietf.org/meeting/71/materials/agenda-71-mip4
DESCRIPTION:Afternoon Session I\n
 \n
 Agenda https://datatracker.ietf.org/meeting/71/materials/agenda-71-mip4\n
 \n
 Session materials: https://datatracker.ietf.org/meeting/71/session/mip4\n
 \n
 See in schedule: https://datatracker.ietf.org/meeting/71/agenda#row-71-2008-03-13-thu-1300-int-mip4\n
END:VEVENT
BEGIN:VEVENT
UID:ietf-71-865-tictoc
SUMMARY:tictoc - Timing over IP Connection and Transfer of Clock
LOCATION:Franklin 13
STATUS:CONFIRMED
CLASS:PUBLIC
DTSTART;TZID=America/New_York:20080313T130000
DTEND;TZID=America/New_York:20080313T150000
DTSTAMP:20161222T095710Z
URL:https://datatracker.ietf.org/meeting/71/materials/agenda-71-tictoc
DESCRIPTION:Afternoon Session I\n
 \n
 Agenda https://datatracker.ietf.org/meeting/71/materials/agenda-71-tictoc\n
 \n
 Session materials: https://datatracker.ietf.org/meeting/71/session/tictoc\n
 \n
 See in schedule: https://datatracker.ietf.org/meeting/71/agenda#row-71-2008-03-13-thu-1300-int-tictoc\n
END:VEVENT
BEGIN:VEVENT
UID:ietf-71-867-pana
SUMMARY:pana - Protocol for carrying Authentication for Network Access
LOCATION:Franklin 5
STATUS:CONFIRMED
CLASS:PUBLIC
DTSTART;TZID=America/New_York:20080313T151000
DTEND;TZID=America/New_York:20080313T161000
DTSTAMP:20161222T095710Z
URL:https://datatracker.ietf.org/meeting/71/materials/agenda-71-pana
DESCRIPTION:Afternoon Session II\n
 \n
 Agenda https://datatracker.ietf.org/meeting/71/materials/agenda-71-pana\n
 \n
 Session materials: https://datatracker.ietf.org/meeting/71/session/pana\n
 \n
 See in schedule: https://datatracker.ietf.org/meeting/71/agenda#row-71-2008-03-13-thu-1510-int-pana\n
END:VEVENT
END:VCALENDAR
