BEGIN:VCALENDAR
VERSION:2.0
METHOD:PUBLISH
PRODID:-//IETF//datatracker.ietf.org ical agenda//EN
BEGIN:VTIMEZONE
TZID:America/New_York
X-LIC-LOCATION:America/New_York
BEGIN:DAYLIGHT
TZOFFSETFROM:-0500
TZOFFSETTO:-0400
TZNAME:EDT
DTSTART:20070311T020000
RRULE:FREQ=YEARLY;BYMONTH=3;BYDAY=2SU
END:DAYLIGHT
BEGIN:STANDARD
TZOFFSETFROM:-0400
TZOFFSETTO:-0500
TZNAME:EST
DTSTART:20071104T020000
RRULE:FREQ=YEARLY;BYMONTH=11;BYDAY=1SU
END:STANDARD
BEGIN:STANDARD
TZOFFSETFROM:-045602
TZOFFSETTO:-0500
TZNAME:EST
DTSTART:18831118T120358
RDATE:18831118T120358
END:STANDARD
BEGIN:DAYLIGHT
TZOFFSETFROM:-0500
TZOFFSETTO:-0400
TZNAME:EDT
DTSTART:19180331T020000
RDATE:19180331T020000
RDATE:19190330T020000
RDATE:19200328T020000
RDATE:19210424T020000
RDATE:19220430T020000
RDATE:19230429T020000
RDATE:19240427T020000
RDATE:19250426T020000
RDATE:19260425T020000
RDATE:19270424T020000
RDATE:19280429T020000
RDATE:19290428T020000
RDATE:19300427T020000
RDATE:19310426T020000
RDATE:19320424T020000
RDATE:19330430T020000
RDATE:19340429T020000
RDATE:19350428T020000
RDATE:19360426T020000
RDATE:19370425T020000
RDATE:19380424T020000
RDATE:19390430T020000
RDATE:19400428T020000
RDATE:19410427T020000
RDATE:19460428T020000
RDATE:19470427T020000
RDATE:19480425T020000
RDATE:19490424T020000
RDATE:19500430T020000
RDATE:19510429T020000
RDATE:19520427T020000
RDATE:19530426T020000
RDATE:19540425T020000
RDATE:19550424T020000
RDATE:19560429T020000
RDATE:19570428T020000
RDATE:19580427T020000
RDATE:19590426T020000
RDATE:19600424T020000
RDATE:19610430T020000
RDATE:19620429T020000
RDATE:19630428T020000
RDATE:19640426T020000
RDATE:19650425T020000
RDATE:19660424T020000
RDATE:19670430T020000
RDATE:19680428T020000
RDATE:19690427T020000
RDATE:19700426T020000
RDATE:19710425T020000
RDATE:19720430T020000
RDATE:19730429T020000
RDATE:19740106T020000
RDATE:19750223T020000
RDATE:19760425T020000
RDATE:19770424T020000
RDATE:19780430T020000
RDATE:19790429T020000
RDATE:19800427T020000
RDATE:19810426T020000
RDATE:19820425T020000
RDATE:19830424T020000
RDATE:19840429T020000
RDATE:19850428T020000
RDATE:19860427T020000
RDATE:19870405T020000
RDATE:19880403T020000
RDATE:19890402T020000
RDATE:19900401T020000
RDATE:19910407T020000
RDATE:19920405T020000
RDATE:19930404T020000
RDATE:19940403T020000
RDATE:19950402T020000
RDATE:19960407T020000
RDATE:19970406T020000
RDATE:19980405T020000
RDATE:19990404T020000
RDATE:20000402T020000
RDATE:20010401T020000
RDATE:20020407T020000
RDATE:20030406T020000
RDATE:20040404T020000
RDATE:20050403T020000
RDATE:20060402T020000
END:DAYLIGHT
BEGIN:STANDARD
TZOFFSETFROM:-0400
TZOFFSETTO:-0500
TZNAME:EST
DTSTART:19181027T020000
RDATE:19181027T020000
RDATE:19191026T020000
RDATE:19201031T020000
RDATE:19210925T020000
RDATE:19220924T020000
RDATE:19230930T020000
RDATE:19240928T020000
RDATE:19250927T020000
RDATE:19260926T020000
RDATE:19270925T020000
RDATE:19280930T020000
RDATE:19290929T020000
RDATE:19300928T020000
RDATE:19310927T020000
RDATE:19320925T020000
RDATE:19330924T020000
RDATE:19340930T020000
RDATE:19350929T020000
RDATE:19360927T020000
RDATE:19370926T020000
RDATE:19380925T020000
RDATE:19390924T020000
RDATE:19400929T020000
RDATE:19410928T020000
RDATE:19450930T020000
RDATE:19460929T020000
RDATE:19470928T020000
RDATE:19480926T020000
RDATE:19490925T020000
RDATE:19500924T020000
RDATE:19510930T020000
RDATE:19520928T020000
RDATE:19530927T020000
RDATE:19540926T020000
RDATE:19551030T020000
RDATE:19561028T020000
RDATE:19571027T020000
RDATE:19581026T020000
RDATE:19591025T020000
RDATE:19601030T020000
RDATE:19611029T020000
RDATE:19621028T020000
RDATE:19631027T020000
RDATE:19641025T020000
RDATE:19651031T020000
RDATE:19661030T020000
RDATE:19671029T020000
RDATE:19681027T020000
RDATE:19691026T020000
RDATE:19701025T020000
RDATE:19711031T020000
RDATE:19721029T020000
RDATE:19731028T020000
RDATE:19741027T020000
RDATE:19751026T020000
RDATE:19761031T020000
RDATE:19771030T020000
RDATE:19781029T020000
RDATE:19791028T020000
RDATE:19801026T020000
RDATE:19811025T020000
RDATE:19821031T020000
RDATE:19831030T020000
RDATE:19841028T020000
RDATE:19851027T020000
RDATE:19861026T020000
RDATE:19871025T020000
RDATE:19881030T020000
RDATE:19891029T020000
RDATE:19901028T020000
RDATE:19911027T020000
RDATE:19921025T020000
RDATE:19931031T020000
RDATE:19941030T020000
RDATE:19951029T020000
RDATE:19961027T020000
RDATE:19971026T020000
RDATE:19981025T020000
RDATE:19991031T020000
RDATE:20001029T020000
RDATE:20011028T020000
RDATE:20021027T020000
RDATE:20031026T020000
RDATE:20041031T020000
RDATE:20051030T020000
RDATE:20061029T020000
END:STANDARD
BEGIN:STANDARD
TZOFFSETFROM:-0500
TZOFFSETTO:-0500
TZNAME:EST
DTSTART:19200101T000000
RDATE:19200101T000000
RDATE:19420101T000000
RDATE:19460101T000000
RDATE:19670101T000000
END:STANDARD
BEGIN:DAYLIGHT
TZOFFSETFROM:-0500
TZOFFSETTO:-0400
TZNAME:EWT
DTSTART:19420209T020000
RDATE:19420209T020000
END:DAYLIGHT
BEGIN:DAYLIGHT
TZOFFSETFROM:-0400
TZOFFSETTO:-0400
TZNAME:EPT
DTSTART:19450814T190000
RDATE:19450814T190000
END:DAYLIGHT
END:VTIMEZONE
BEGIN:VEVENT
UID:ietf-71-839-mpls
SUMMARY:mpls - Multiprotocol Label Switching
LOCATION:Franklin 6/7
STATUS:CONFIRMED
CLASS:PUBLIC
DTSTART;TZID=America/New_York:20080310T090000
DTEND;TZID=America/New_York:20080310T113000
DTSTAMP:20161222T095710Z
URL:https://datatracker.ietf.org/meeting/71/materials/agenda-71-mpls
DESCRIPTION:Morning Session I\n
 \n
 Agenda https://datatracker.ietf.org/meeting/71/materials/agenda-71-mpls\n
 \n
 Session materials: https://datatracker.ietf.org/meeting/71/session/mpls\n
 \n
 See in schedule: https://datatracker.ietf.org/meeting/71/agenda#row-71-2008-03-10-mon-0900-rtg-mpls\n
END:VEVENT
BEGIN:VEVENT
UID:ietf-71-766-ccamp
SUMMARY:ccamp - Common Control and Measurement Plane
LOCATION:Franklin 3/4
STATUS:CONFIRMED
CLASS:PUBLIC
DTSTART;TZID=America/New_York:20080310T130000
DTEND;TZID=America/New_York:20080310T150000
DTSTAMP:20161222T095710Z
URL:https://datatracker.ietf.org/meeting/71/materials/agenda-71-ccamp
DESCRIPTION:Afternoon Session I\n
 \n
 Agenda https://datatracker.ietf.org/meeting/71/materials/agenda-71-ccamp\n
 \n
 Session materials: https://datatracker.ietf.org/meeting/71/session/ccamp\n
 \n
 See in schedule: https://datatracker.ietf.org/meeting/71/agenda#row-71-2008-03-10-mon-1300-rtg-ccamp\n
END:VEVENT
BEGIN:VEVENT
UID:ietf-71-765-pwe3
SUMMARY:pwe3 - Pseudowire Emulation Edge to Edge
LOCATION:Franklin 6/7
STATUS:CONFIRMED
CLASS:PUBLIC
DTSTART;TZID=America/New_York:20080310T152000
DTEND;TZID=America/New_York:20080310T172000
DTSTAMP:20161222T095710Z
URL:https://datatracker.ietf.org/meeting/71/materials/agenda-71-pwe3
DESCRIPTION:Afternoon Session II\n
 \n
 Agenda https://datatracker.ietf.org/meeting/71/materials/agenda-71-pwe3\n
 \n
 Session materials: https://datatracker.ietf.org/meeting/71/session/pwe3\n
 \n
 See in schedule: https://datatracker.ietf.org/meeting/71/agenda#row-71-2008-03-10-mon-1520-rtg-pwe3\n
END:VEVENT
BEGIN:VEVENT
UID:ietf-71-849-l3vpn
SUMMARY:l3vpn - Layer 3 Virtual Private Networks
LOCATION:Franklin 13
STATUS:CONFIRMED
CLASS:PUBLIC
DTSTART;TZID=America/New_York:20080310T174000
DTEND;TZID=America/New_York:20080310T195000
DTSTAMP:20161222T095710Z
URL:https://datatracker.ietf.org/meeting/71/materials/agenda-71-l3vpn
DESCRIPTION:Afternoon Session III\n
 \n
 Agenda https://datatracker.ietf.org/meeting/71/materials/agenda-71-l3vpn\n
 \n
 Session materials: https://datatracker.ietf.org/meeting/71/session/l3vpn\n
 \n
 See in schedule: https://datatracker.ietf.org/meeting/71/agenda#row-71-2008-03-10-mon-1740-rtg-l3vpn\n
END:VEVENT
BEGIN:VEVENT
UID:ietf-71-778-manet
SUMMARY:manet - Mobile Ad-hoc Networks
LOCATION:Franklin 6/7
STATUS:CONFIRMED
CLASS:PUBLIC
DTSTART;TZID=America/New_York:20080310T174000
DTEND;TZID=America/New_York:20080310T195000
DTSTAMP:20161222T095710Z
URL:https://datatracker.ietf.org/meeting/71/materials/agenda-71-manet
DESCRIPTION:Afternoon Session III\n
 \n
 Agenda https://datatracker.ietf.org/meeting/71/materials/agenda-71-manet\n
 \n
 Session materials: https://datatracker.ietf.org/meeting/71/session/manet\n
 \n
 See in schedule: https://datatracker.ietf.org/meeting/71/agenda#row-71-2008-03-10-mon-1740-rtg-manet\n
END:VEVENT
BEGIN:VEVENT
UID:ietf-71-776-sidr
SUMMARY:sidr - Secure Inter-Domain Routing
LOCATION:Franklin 3/4
STATUS:CONFIRMED
CLASS:PUBLIC
DTSTART;TZID=America/New_York:20080310T174000
DTEND;TZID=America/New_York:20080310T195000
DTSTAMP:20161222T095710Z
URL:https://datatracker.ietf.org/meeting/71/materials/agenda-71-sidr
DESCRIPTION:Afternoon Session III\n
 \n
 Agenda https://datatracker.ietf.org/meeting/71/materials/agenda-71-sidr\n
 \n
 Session materials: https://datatracker.ietf.org/meeting/71/session/sidr\n
 \n
 See in schedule: https://datatracker.ietf.org/meeting/71/agenda#row-71-2008-03-10-mon-1740-rtg-sidr\n
END:VEVENT
BEGIN:VEVENT
UID:ietf-71-771-rtgarea
SUMMARY:rtgarea - Routing Area Open Meeting
LOCATION:Franklin 13
STATUS:CONFIRMED
CLASS:PUBLIC
DTSTART;TZID=America/New_York:20080311T130000
DTEND;TZID=America/New_York:20080311T150000
DTSTAMP:20161222T095710Z
URL:https://datatracker.ietf.org/meeting/71/materials/agenda-71-rtgarea
DESCRIPTION:Afternoon Session I\n
 \n
 Agenda https://datatracker.ietf.org/meeting/71/materials/agenda-71-rtgarea\n
 \n
 Session materials: https://datatracker.ietf.org/meeting/71/session/rtgarea\n
 \n
 See in schedule: https://datatracker.ietf.org/meeting/71/agenda#row-71-2008-03-11-tue-1300-rtg-rtgarea\n
END:VEVENT
BEGIN:VEVENT
UID:ietf-71-823-ospf
SUMMARY:ospf - Open Shortest Path First IGP
LOCATION:Franklin 6/7
STATUS:CONFIRMED
CLASS:PUBLIC
DTSTART;TZID=America/New_York:20080311T152000
DTEND;TZID=America/New_York:20080311T172000
DTSTAMP:20161222T095710Z
URL:https://datatracker.ietf.org/meeting/71/materials/agenda-71-ospf
DESCRIPTION:Afternoon Session II\n
 \n
 Agenda https://datatracker.ietf.org/meeting/71/materials/agenda-71-ospf\n
 \n
 Session materials: https://datatracker.ietf.org/meeting/71/session/ospf\n
 \n
 See in schedule: https://datatracker.ietf.org/meeting/71/agenda#row-71-2008-03-11-tue-1520-rtg-ospf\n
END:VEVENT
BEGIN:VEVENT
UID:ietf-71-831-pce
SUMMARY:pce - Path Computation Element
LOCATION:Franklin 13
STATUS:CONFIRMED
CLASS:PUBLIC
DTSTART;TZID=America/New_York:20080311T152000
DTEND;TZID=America/New_York:20080311T172000
DTSTAMP:20161222T095710Z
URL:https://datatracker.ietf.org/meeting/71/materials/agenda-71-pce
DESCRIPTION:Afternoon Session II\n
 \n
 Agenda https://datatracker.ietf.org/meeting/71/materials/agenda-71-pce\n
 \n
 Session materials: https://datatracker.ietf.org/meeting/71/session/pce\n
 \n
 See in schedule: https://datatracker.ietf.org/meeting/71/agenda#row-71-2008-03-11-tue-1520-rtg-pce\n
END:VEVENT
BEGIN:VEVENT
UID:ietf-71-803-pim
SUMMARY:pim - Protocol Independent Multicast
LOCATION:Franklin 13
STATUS:CONFIRMED
CLASS:PUBLIC
DTSTART;TZID=America/New_York:20080311T174000
DTEND;TZID=America/New_York:20080311T184000
DTSTAMP:20161222T095710Z
URL:https://datatracker.ietf.org/meeting/71/materials/agenda-71-pim
DESCRIPTION:Afternoon Session III\n
 \n
 Agenda https://datatracker.ietf.org/meeting/71/materials/agenda-71-pim\n
 \n
 Session materials: https://datatracker.ietf.org/meeting/71/session/pim\n
 \n
 See in schedule: https://datatracker.ietf.org/meeting/71/agenda#row-71-2008-03-11-tue-1740-rtg-pim\n
END:VEVENT
BEGIN:VEVENT
UID:ietf-71-804-pim
SUMMARY:pim - Protocol Independent Multicast
LOCATION:Franklin 13
STATUS:CONFIRMED
CLASS:PUBLIC
DTSTART;TZID=America/New_York:20080311T185000
DTEND;TZID=America/New_York:20080311T195000
DTSTAMP:20161222T095710Z
URL:https://datatracker.ietf.org/meeting/71/materials/agenda-71-pim
DESCRIPTION:Afternoon Session IV\n
 \n
 Agenda https://datatracker.ietf.org/meeting/71/materials/agenda-71-pim\n
 \n
 Session materials: https://datatracker.ietf.org/meeting/71/session/pim\n
 \n
 See in schedule: https://datatracker.ietf.org/meeting/71/agenda#row-71-2008-03-11-tue-1850-rtg-pim\n
END:VEVENT
BEGIN:VEVENT
UID:ietf-71-840-rpsec
SUMMARY:rpsec - Routing Protocol Security Requirements
LOCATION:Franklin 6/7
STATUS:CONFIRMED
CLASS:PUBLIC
DTSTART;TZID=America/New_York:20080311T185000
DTEND;TZID=America/New_York:20080311T195000
DTSTAMP:20161222T095710Z
URL:https://datatracker.ietf.org/meeting/71/materials/agenda-71-rpsec
DESCRIPTION:Afternoon Session IV\n
 \n
 Agenda https://datatracker.ietf.org/meeting/71/materials/agenda-71-rpsec\n
 \n
 Session materials: https://datatracker.ietf.org/meeting/71/session/rpsec\n
 \n
 See in schedule: https://datatracker.ietf.org/meeting/71/agenda#row-71-2008-03-11-tue-1850-rtg-rpsec\n
END:VEVENT
BEGIN:VEVENT
UID:ietf-71-767-ccamp
SUMMARY:ccamp - Common Control and Measurement Plane
LOCATION:Franklin 3/4
STATUS:CONFIRMED
CLASS:PUBLIC
DTSTART;TZID=America/New_York:20080312T090000
DTEND;TZID=America/New_York:20080312T113000
DTSTAMP:20161222T095710Z
URL:https://datatracker.ietf.org/meeting/71/materials/agenda-71-ccamp
DESCRIPTION:Morning Session I\n
 \n
 Agenda https://datatracker.ietf.org/meeting/71/materials/agenda-71-ccamp\n
 \n
 Session materials: https://datatracker.ietf.org/meeting/71/session/ccamp\n
 \n
 See in schedule: https://datatracker.ietf.org/meeting/71/agenda#row-71-2008-03-12-wed-0900-rtg-ccamp\n
END:VEVENT
BEGIN:VEVENT
UID:ietf-71-851-idr
SUMMARY:idr - Inter-Domain Routing
LOCATION:Franklin 5
STATUS:CONFIRMED
CLASS:PUBLIC
DTSTART;TZID=America/New_York:20080312T090000
DTEND;TZID=America/New_York:20080312T113000
DTSTAMP:20161222T095710Z
URL:https://datatracker.ietf.org/meeting/71/materials/agenda-71-idr
DESCRIPTION:Morning Session I\n
 \n
 Agenda https://datatracker.ietf.org/meeting/71/materials/agenda-71-idr\n
 \n
 Session materials: https://datatracker.ietf.org/meeting/71/session/idr\n
 \n
 See in schedule: https://datatracker.ietf.org/meeting/71/agenda#row-71-2008-03-12-wed-0900-rtg-idr\n
END:VEVENT
BEGIN:VEVENT
UID:ietf-71-872-karp
SUMMARY:karp - Keying and Authentication for Routing Protocols
LOCATION:Franklin 3/4
STATUS:CONFIRMED
CLASS:PUBLIC
DTSTART;TZID=America/New_York:20080312T130000
DTEND;TZID=America/New_York:20080312T150000
DTSTAMP:20161222T095710Z
URL:https://datatracker.ietf.org/meeting/71/materials/agenda-71-karp
DESCRIPTION:Afternoon Session I\n
 \n
 Agenda https://datatracker.ietf.org/meeting/71/materials/agenda-71-karp\n
 \n
 Session materials: https://datatracker.ietf.org/meeting/71/session/karp\n
 \n
 See in schedule: https://datatracker.ietf.org/meeting/71/agenda#row-71-2008-03-12-wed-1300-rtg-karp\n
END:VEVENT
BEGIN:VEVENT
UID:ietf-71-779-isis
SUMMARY:isis - IS-IS for IP Internets
LOCATION:Franklin 11/12
STATUS:CONFIRMED
CLASS:PUBLIC
DTSTART;TZID=America/New_York:20080312T151000
DTEND;TZID=America/New_York:20080312T161000
DTSTAMP:20161222T095710Z
URL:https://datatracker.ietf.org/meeting/71/materials/agenda-71-isis
DESCRIPTION:Afternoon Session II\n
 \n
 Agenda https://datatracker.ietf.org/meeting/71/materials/agenda-71-isis\n
 \n
 Session materials: https://datatracker.ietf.org/meeting/71/session/isis\n
 \n
 See in schedule: https://datatracker.ietf.org/meeting/71/agenda#row-71-2008-03-12-wed-1510-rtg-isis\n
END:VEVENT
BEGIN:VEVENT
UID:ietf-71-816-l2vpn
SUMMARY:l2vpn - Layer 2 Virtual Private Networks
LOCATION:Franklin 3/4
STATUS:CONFIRMED
CLASS:PUBLIC
DTSTART;TZID=America/New_York:20080313T090000
DTEND;TZID=America/New_York:20080313T113000
DTSTAMP:20161222T095710Z
URL:https://datatracker.ietf.org/meeting/71/materials/agenda-71-l2vpn
DESCRIPTION:Morning Session I\n
 \n
 Agenda https://datatracker.ietf.org/meeting/71/materials/agenda-71-l2vpn\n
 \n
 Session materials: https://datatracker.ietf.org/meeting/71/session/l2vpn\n
 \n
 See in schedule: https://datatracker.ietf.org/meeting/71/agenda#row-71-2008-03-13-thu-0900-rtg-l2vpn\n
END:VEVENT
BEGIN:VEVENT
UID:ietf-71-857-roll
SUMMARY:roll - Routing Over Low power and Lossy networks
LOCATION:Franklin 13
STATUS:CONFIRMED
CLASS:PUBLIC
DTSTART;TZID=America/New_York:20080313T090000
DTEND;TZID=America/New_York:20080313T113000
DTSTAMP:20161222T095710Z
URL:https://datatracker.ietf.org/meeting/71/materials/agenda-71-roll
DESCRIPTION:Morning Session I\n
 \n
 Agenda https://datatracker.ietf.org/meeting/71/materials/agenda-71-roll\n
 \n
 Session materials: https://datatracker.ietf.org/meeting/71/session/roll\n
 \n
 See in schedule: https://datatracker.ietf.org/meeting/71/agenda#row-71-2008-03-13-thu-0900-rtg-roll\n
END:VEVENT
END:VCALENDAR
