BEGIN:VCALENDAR
VERSION:2.0
METHOD:PUBLISH
PRODID:-//IETF//datatracker.ietf.org ical agenda//EN
BEGIN:VTIMEZONE
TZID:Europe/Dublin
X-LIC-LOCATION:Europe/Dublin
BEGIN:DAYLIGHT
TZOFFSETFROM:+0000
TZOFFSETTO:+0100
TZNAME:IST
DTSTART:19810329T010000
RRULE:FREQ=YEARLY;BYMONTH=3;BYDAY=-1SU
END:DAYLIGHT
BEGIN:STANDARD
TZOFFSETFROM:+0100
TZOFFSETTO:+0000
TZNAME:GMT
DTSTART:19961027T020000
RRULE:FREQ=YEARLY;BYMONTH=10;BYDAY=-1SU
END:STANDARD
BEGIN:STANDARD
TZOFFSETFROM:-0025
TZOFFSETTO:-002521
TZNAME:DMT
DTSTART:18800802T000000
RDATE:18800802T000000
END:STANDARD
BEGIN:DAYLIGHT
TZOFFSETFROM:-002521
TZOFFSETTO:+003439
TZNAME:IST
DTSTART:19160521T020000
RDATE:19160521T020000
END:DAYLIGHT
BEGIN:STANDARD
TZOFFSETFROM:+003439
TZOFFSETTO:+0000
TZNAME:GMT
DTSTART:19161001T030000
RDATE:19161001T030000
END:STANDARD
BEGIN:DAYLIGHT
TZOFFSETFROM:+0000
TZOFFSETTO:+0100
TZNAME:BST
DTSTART:19170408T020000
RDATE:19170408T020000
RDATE:19180324T020000
RDATE:19190330T020000
RDATE:19200328T020000
RDATE:19210403T020000
END:DAYLIGHT
BEGIN:STANDARD
TZOFFSETFROM:+0100
TZOFFSETTO:+0000
TZNAME:GMT
DTSTART:19170917T030000
RDATE:19170917T030000
RDATE:19180930T030000
RDATE:19190929T030000
RDATE:19201025T030000
RDATE:19211003T030000
RDATE:19221008T030000
RDATE:19230916T030000
RDATE:19240921T030000
RDATE:19251004T030000
RDATE:19261003T030000
RDATE:19271002T030000
RDATE:19281007T030000
RDATE:19291006T030000
RDATE:19301005T030000
RDATE:19311004T030000
RDATE:19321002T030000
RDATE:19331008T030000
RDATE:19341007T030000
RDATE:19351006T030000
RDATE:19361004T030000
RDATE:19371003T030000
RDATE:19381002T030000
RDATE:19391119T030000
RDATE:19461006T020000
RDATE:19471102T020000
RDATE:19481031T030000
RDATE:19491030T030000
RDATE:19501022T030000
RDATE:19511021T030000
RDATE:19521026T030000
RDATE:19531004T030000
RDATE:19541003T030000
RDATE:19551002T030000
RDATE:19561007T030000
RDATE:19571006T030000
RDATE:19581005T030000
RDATE:19591004T030000
RDATE:19601002T030000
RDATE:19611029T030000
RDATE:19621028T030000
RDATE:19631027T030000
RDATE:19641025T030000
RDATE:19651024T030000
RDATE:19661023T030000
RDATE:19671029T030000
RDATE:19711031T030000
RDATE:19721029T030000
RDATE:19731028T030000
RDATE:19741027T030000
RDATE:19751026T030000
RDATE:19761024T030000
RDATE:19771023T030000
RDATE:19781029T030000
RDATE:19791028T030000
RDATE:19801026T030000
RDATE:19811025T020000
RDATE:19821024T020000
RDATE:19831023T020000
RDATE:19841028T020000
RDATE:19851027T020000
RDATE:19861026T020000
RDATE:19871025T020000
RDATE:19881023T020000
RDATE:19891029T020000
RDATE:19901028T020000
RDATE:19911027T020000
RDATE:19921025T020000
RDATE:19931024T020000
RDATE:19941023T020000
RDATE:19951022T020000
END:STANDARD
BEGIN:STANDARD
TZOFFSETFROM:+0000
TZOFFSETTO:+0000
TZNAME:GMT
DTSTART:19211206T000000
RDATE:19211206T000000
RDATE:19960101T000000
END:STANDARD
BEGIN:DAYLIGHT
TZOFFSETFROM:+0000
TZOFFSETTO:+0100
TZNAME:IST
DTSTART:19220326T020000
RDATE:19220326T020000
RDATE:19230422T020000
RDATE:19240413T020000
RDATE:19250419T020000
RDATE:19260418T020000
RDATE:19270410T020000
RDATE:19280422T020000
RDATE:19290421T020000
RDATE:19300413T020000
RDATE:19310419T020000
RDATE:19320417T020000
RDATE:19330409T020000
RDATE:19340422T020000
RDATE:19350414T020000
RDATE:19360419T020000
RDATE:19370418T020000
RDATE:19380410T020000
RDATE:19390416T020000
RDATE:19400225T020000
RDATE:19470316T020000
RDATE:19480418T020000
RDATE:19490403T020000
RDATE:19500416T020000
RDATE:19510415T020000
RDATE:19520420T020000
RDATE:19530419T020000
RDATE:19540411T020000
RDATE:19550417T020000
RDATE:19560422T020000
RDATE:19570414T020000
RDATE:19580420T020000
RDATE:19590419T020000
RDATE:19600410T020000
RDATE:19610326T020000
RDATE:19620325T020000
RDATE:19630331T020000
RDATE:19640322T020000
RDATE:19650321T020000
RDATE:19660320T020000
RDATE:19670319T020000
RDATE:19680218T020000
RDATE:19720319T020000
RDATE:19730318T020000
RDATE:19740317T020000
RDATE:19750316T020000
RDATE:19760321T020000
RDATE:19770320T020000
RDATE:19780319T020000
RDATE:19790318T020000
RDATE:19800316T020000
END:DAYLIGHT
BEGIN:STANDARD
TZOFFSETFROM:+0100
TZOFFSETTO:+0100
TZNAME:IST
DTSTART:19681027T000000
RDATE:19681027T000000
END:STANDARD
END:VTIMEZONE
BEGIN:VEVENT
UID:ietf-72-956-pana
SUMMARY:pana - Protocol for carrying Authentication for Network Access
LOCATION:Rathcoole
STATUS:CONFIRMED
CLASS:PUBLIC
DTSTART;TZID=Europe/Dublin:20080728T090000
DTEND;TZID=Europe/Dublin:20080728T113000
DTSTAMP:20161222T095710Z
URL:https://datatracker.ietf.org/meeting/72/materials/agenda-72-pana
DESCRIPTION:Morning Session I\n
 \n
 Agenda https://datatracker.ietf.org/meeting/72/materials/agenda-72-pana\n
 \n
 Session materials: https://datatracker.ietf.org/meeting/72/session/pana\n
 \n
 See in schedule: https://datatracker.ietf.org/meeting/72/agenda#row-72-2008-07-28-mon-0900-int-pana\n
END:VEVENT
BEGIN:VEVENT
UID:ietf-72-919-softwire
SUMMARY:softwire - Softwires
LOCATION:Convention 2
STATUS:CONFIRMED
CLASS:PUBLIC
DTSTART;TZID=Europe/Dublin:20080728T090000
DTEND;TZID=Europe/Dublin:20080728T113000
DTSTAMP:20161222T095710Z
DESCRIPTION:Morning Session I\n
 \n
 Session materials: https://datatracker.ietf.org/meeting/72/session/softwire\n
 \n
 See in schedule: https://datatracker.ietf.org/meeting/72/agenda#row-72-2008-07-28-mon-0900-int-softwire\n
END:VEVENT
BEGIN:VEVENT
UID:ietf-72-904-csi
SUMMARY:csi - Cga & Send maIntenance
LOCATION:Convention 3
STATUS:CONFIRMED
CLASS:PUBLIC
DTSTART;TZID=Europe/Dublin:20080728T130000
DTEND;TZID=Europe/Dublin:20080728T150000
DTSTAMP:20161222T095710Z
URL:https://datatracker.ietf.org/meeting/72/materials/agenda-72-csi
DESCRIPTION:Afternoon Session I\n
 \n
 Agenda https://datatracker.ietf.org/meeting/72/materials/agenda-72-csi\n
 \n
 Session materials: https://datatracker.ietf.org/meeting/72/session/csi\n
 \n
 See in schedule: https://datatracker.ietf.org/meeting/72/agenda#row-72-2008-07-28-mon-1300-int-csi\n
END:VEVENT
BEGIN:VEVENT
UID:ietf-72-935-mip4
SUMMARY:mip4 - Mobility for IPv4
LOCATION:Conservatory
STATUS:CONFIRMED
CLASS:PUBLIC
DTSTART;TZID=Europe/Dublin:20080728T130000
DTEND;TZID=Europe/Dublin:20080728T150000
DTSTAMP:20161222T095710Z
URL:https://datatracker.ietf.org/meeting/72/materials/agenda-72-mip4
DESCRIPTION:Afternoon Session I\n
 \n
 Agenda https://datatracker.ietf.org/meeting/72/materials/agenda-72-mip4\n
 \n
 Session materials: https://datatracker.ietf.org/meeting/72/session/mip4\n
 \n
 See in schedule: https://datatracker.ietf.org/meeting/72/agenda#row-72-2008-07-28-mon-1300-int-mip4\n
END:VEVENT
BEGIN:VEVENT
UID:ietf-72-905-mext
SUMMARY:mext - Mobility EXTensions for IPv6
LOCATION:Convention 1
STATUS:CONFIRMED
CLASS:PUBLIC
DTSTART;TZID=Europe/Dublin:20080728T152000
DTEND;TZID=Europe/Dublin:20080728T172000
DTSTAMP:20161222T095710Z
DESCRIPTION:Afternoon Session II\n
 \n
 Session materials: https://datatracker.ietf.org/meeting/72/session/mext\n
 \n
 See in schedule: https://datatracker.ietf.org/meeting/72/agenda#row-72-2008-07-28-mon-1520-int-mext\n
END:VEVENT
BEGIN:VEVENT
UID:ietf-72-909-ntp
SUMMARY:ntp - Network Time Protocol
LOCATION:Conservatory
STATUS:CONFIRMED
CLASS:PUBLIC
DTSTART;TZID=Europe/Dublin:20080728T174000
DTEND;TZID=Europe/Dublin:20080728T195000
DTSTAMP:20161222T095710Z
URL:https://datatracker.ietf.org/meeting/72/materials/agenda-72-ntp
DESCRIPTION:Afternoon Session III\n
 \n
 Agenda https://datatracker.ietf.org/meeting/72/materials/agenda-72-ntp\n
 \n
 Session materials: https://datatracker.ietf.org/meeting/72/session/ntp\n
 \n
 See in schedule: https://datatracker.ietf.org/meeting/72/agenda#row-72-2008-07-28-mon-1740-int-ntp\n
END:VEVENT
BEGIN:VEVENT
UID:ietf-72-1000-savi
SUMMARY:savi - Source Address Validation Improvements
LOCATION:Ballroom 1
STATUS:CONFIRMED
CLASS:PUBLIC
DTSTART;TZID=Europe/Dublin:20080728T174000
DTEND;TZID=Europe/Dublin:20080728T195000
DTSTAMP:20161222T095710Z
URL:https://datatracker.ietf.org/meeting/72/materials/agenda-72-savi
DESCRIPTION:Afternoon Session III\n
 \n
 Agenda https://datatracker.ietf.org/meeting/72/materials/agenda-72-savi\n
 \n
 Session materials: https://datatracker.ietf.org/meeting/72/session/savi\n
 \n
 See in schedule: https://datatracker.ietf.org/meeting/72/agenda#row-72-2008-07-28-mon-1740-int-savi\n
END:VEVENT
BEGIN:VEVENT
UID:ietf-72-893-6lowpan
SUMMARY:6lowpan - IPv6 over Low power WPAN
LOCATION:Ballroom 2
STATUS:CONFIRMED
CLASS:PUBLIC
DTSTART;TZID=Europe/Dublin:20080729T090000
DTEND;TZID=Europe/Dublin:20080729T113000
DTSTAMP:20161222T095710Z
URL:https://datatracker.ietf.org/meeting/72/materials/agenda-72-6lowpan
DESCRIPTION:Morning Session I\n
 \n
 Agenda https://datatracker.ietf.org/meeting/72/materials/agenda-72-6lowpan\n
 \n
 Session materials: https://datatracker.ietf.org/meeting/72/session/6lowpan\n
 \n
 See in schedule: https://datatracker.ietf.org/meeting/72/agenda#row-72-2008-07-29-tue-0900-int-6lowpan\n
END:VEVENT
BEGIN:VEVENT
UID:ietf-72-987-dhc
SUMMARY:dhc - Dynamic Host Configuration
LOCATION:Ballroom 1
STATUS:CONFIRMED
CLASS:PUBLIC
DTSTART;TZID=Europe/Dublin:20080729T090000
DTEND;TZID=Europe/Dublin:20080729T113000
DTSTAMP:20161222T095710Z
URL:https://datatracker.ietf.org/meeting/72/materials/agenda-72-dhc
DESCRIPTION:Morning Session I\n
 \n
 Agenda https://datatracker.ietf.org/meeting/72/materials/agenda-72-dhc\n
 \n
 Session materials: https://datatracker.ietf.org/meeting/72/session/dhc\n
 \n
 See in schedule: https://datatracker.ietf.org/meeting/72/agenda#row-72-2008-07-29-tue-0900-int-dhc\n
END:VEVENT
BEGIN:VEVENT
UID:ietf-72-906-mext
SUMMARY:mext - Mobility EXTensions for IPv6
LOCATION:Convention 2
STATUS:CONFIRMED
CLASS:PUBLIC
DTSTART;TZID=Europe/Dublin:20080729T130000
DTEND;TZID=Europe/Dublin:20080729T150000
DTSTAMP:20161222T095710Z
URL:https://datatracker.ietf.org/meeting/72/materials/agenda-72-mext
DESCRIPTION:Afternoon Session I\n
 \n
 Agenda https://datatracker.ietf.org/meeting/72/materials/agenda-72-mext\n
 \n
 Session materials: https://datatracker.ietf.org/meeting/72/session/mext\n
 \n
 See in schedule: https://datatracker.ietf.org/meeting/72/agenda#row-72-2008-07-29-tue-1300-int-mext\n
END:VEVENT
BEGIN:VEVENT
UID:ietf-72-958-tictoc
SUMMARY:tictoc - Timing over IP Connection and Transfer of Clock
LOCATION:Rathcoole
STATUS:CONFIRMED
CLASS:PUBLIC
DTSTART;TZID=Europe/Dublin:20080729T130000
DTEND;TZID=Europe/Dublin:20080729T150000
DTSTAMP:20161222T095710Z
URL:https://datatracker.ietf.org/meeting/72/materials/agenda-72-tictoc
DESCRIPTION:Afternoon Session I\n
 \n
 Agenda https://datatracker.ietf.org/meeting/72/materials/agenda-72-tictoc\n
 \n
 Session materials: https://datatracker.ietf.org/meeting/72/session/tictoc\n
 \n
 See in schedule: https://datatracker.ietf.org/meeting/72/agenda#row-72-2008-07-29-tue-1300-int-tictoc\n
END:VEVENT
BEGIN:VEVENT
UID:ietf-72-910-mipshop
SUMMARY:mipshop - Mobility for IP: Performance, Signaling and Handoff Optimization (Room Change)
LOCATION:Ballroom 1
STATUS:CONFIRMED
CLASS:PUBLIC
DTSTART;TZID=Europe/Dublin:20080729T152000
DTEND;TZID=Europe/Dublin:20080729T172000
DTSTAMP:20161222T095710Z
URL:https://datatracker.ietf.org/meeting/72/materials/agenda-72-mipshop
DESCRIPTION:Afternoon Session II\n
 Note: Room Change\n
 \n
 Agenda https://datatracker.ietf.org/meeting/72/materials/agenda-72-mipshop\n
 \n
 Session materials: https://datatracker.ietf.org/meeting/72/session/mipshop\n
 \n
 See in schedule: https://datatracker.ietf.org/meeting/72/agenda#row-72-2008-07-29-tue-1520-int-mipshop\n
END:VEVENT
BEGIN:VEVENT
UID:ietf-72-908-6man
SUMMARY:6man - IPv6 Maintenance
LOCATION:Ballroom 1
STATUS:CONFIRMED
CLASS:PUBLIC
DTSTART;TZID=Europe/Dublin:20080730T090000
DTEND;TZID=Europe/Dublin:20080730T113000
DTSTAMP:20161222T095710Z
URL:https://datatracker.ietf.org/meeting/72/materials/agenda-72-6man
DESCRIPTION:Morning Session I\n
 \n
 Agenda https://datatracker.ietf.org/meeting/72/materials/agenda-72-6man\n
 \n
 Session materials: https://datatracker.ietf.org/meeting/72/session/6man\n
 \n
 See in schedule: https://datatracker.ietf.org/meeting/72/agenda#row-72-2008-07-30-wed-0900-int-6man\n
END:VEVENT
BEGIN:VEVENT
UID:ietf-72-999-explisp
SUMMARY:explisp - Experimentation in LISP
LOCATION:Convention 2
STATUS:CONFIRMED
CLASS:PUBLIC
DTSTART;TZID=Europe/Dublin:20080730T090000
DTEND;TZID=Europe/Dublin:20080730T113000
DTSTAMP:20161222T095710Z
URL:https://datatracker.ietf.org/meeting/72/materials/agenda-72-explisp
DESCRIPTION:Morning Session I\n
 \n
 Agenda https://datatracker.ietf.org/meeting/72/materials/agenda-72-explisp\n
 \n
 Session materials: https://datatracker.ietf.org/meeting/72/session/explisp\n
 \n
 See in schedule: https://datatracker.ietf.org/meeting/72/agenda#row-72-2008-07-30-wed-0900-int-explisp\n
END:VEVENT
BEGIN:VEVENT
UID:ietf-72-962-ancp
SUMMARY:ancp - Access Node Control Protocol
LOCATION:Newcastle
STATUS:CONFIRMED
CLASS:PUBLIC
DTSTART;TZID=Europe/Dublin:20080730T130000
DTEND;TZID=Europe/Dublin:20080730T150000
DTSTAMP:20161222T095710Z
URL:https://datatracker.ietf.org/meeting/72/materials/agenda-72-ancp
DESCRIPTION:Afternoon Session I\n
 \n
 Agenda https://datatracker.ietf.org/meeting/72/materials/agenda-72-ancp\n
 \n
 Session materials: https://datatracker.ietf.org/meeting/72/session/ancp\n
 \n
 See in schedule: https://datatracker.ietf.org/meeting/72/agenda#row-72-2008-07-30-wed-1300-int-ancp\n
END:VEVENT
BEGIN:VEVENT
UID:ietf-72-980-netlmm
SUMMARY:netlmm - Network-based Localized Mobility Management
LOCATION:Convention 2
STATUS:CONFIRMED
CLASS:PUBLIC
DTSTART;TZID=Europe/Dublin:20080730T130000
DTEND;TZID=Europe/Dublin:20080730T150000
DTSTAMP:20161222T095710Z
URL:https://datatracker.ietf.org/meeting/72/materials/agenda-72-netlmm
DESCRIPTION:Afternoon Session I\n
 \n
 Agenda https://datatracker.ietf.org/meeting/72/materials/agenda-72-netlmm\n
 \n
 Session materials: https://datatracker.ietf.org/meeting/72/session/netlmm\n
 \n
 See in schedule: https://datatracker.ietf.org/meeting/72/agenda#row-72-2008-07-30-wed-1300-int-netlmm\n
END:VEVENT
BEGIN:VEVENT
UID:ietf-72-936-16ng
SUMMARY:16ng - IP over IEEE 802.16 Networks
LOCATION:Convention 3
STATUS:CONFIRMED
CLASS:PUBLIC
DTSTART;TZID=Europe/Dublin:20080730T151000
DTEND;TZID=Europe/Dublin:20080730T161000
DTSTAMP:20161222T095710Z
URL:https://datatracker.ietf.org/meeting/72/materials/agenda-72-16ng
DESCRIPTION:Afternoon Session II\n
 \n
 Agenda https://datatracker.ietf.org/meeting/72/materials/agenda-72-16ng\n
 \n
 Session materials: https://datatracker.ietf.org/meeting/72/session/16ng\n
 \n
 See in schedule: https://datatracker.ietf.org/meeting/72/agenda#row-72-2008-07-30-wed-1510-int-16ng\n
END:VEVENT
BEGIN:VEVENT
UID:ietf-72-992-intarea
SUMMARY:intarea - Internet Area Working Group
LOCATION:Convention 2
STATUS:CONFIRMED
CLASS:PUBLIC
DTSTART;TZID=Europe/Dublin:20080731T090000
DTEND;TZID=Europe/Dublin:20080731T113000
DTSTAMP:20161222T095710Z
URL:https://datatracker.ietf.org/meeting/72/materials/agenda-72-intarea
DESCRIPTION:Morning Session I\n
 \n
 Agenda https://datatracker.ietf.org/meeting/72/materials/agenda-72-intarea\n
 \n
 Session materials: https://datatracker.ietf.org/meeting/72/session/intarea\n
 \n
 See in schedule: https://datatracker.ietf.org/meeting/72/agenda#row-72-2008-07-31-thu-0900-int-intarea\n
END:VEVENT
BEGIN:VEVENT
UID:ietf-72-961-dnsext
SUMMARY:dnsext - DNS Extensions
LOCATION:Ballroom 1
STATUS:CONFIRMED
CLASS:PUBLIC
DTSTART;TZID=Europe/Dublin:20080731T130000
DTEND;TZID=Europe/Dublin:20080731T150000
DTSTAMP:20161222T095710Z
URL:https://datatracker.ietf.org/meeting/72/materials/agenda-72-dnsext
DESCRIPTION:Afternoon Session I\n
 \n
 Agenda https://datatracker.ietf.org/meeting/72/materials/agenda-72-dnsext\n
 \n
 Session materials: https://datatracker.ietf.org/meeting/72/session/dnsext\n
 \n
 See in schedule: https://datatracker.ietf.org/meeting/72/agenda#row-72-2008-07-31-thu-1300-int-dnsext\n
END:VEVENT
BEGIN:VEVENT
UID:ietf-72-971-dna
SUMMARY:dna - Detecting Network Attachment
LOCATION:Ballroom 1
STATUS:CONFIRMED
CLASS:PUBLIC
DTSTART;TZID=Europe/Dublin:20080731T151000
DTEND;TZID=Europe/Dublin:20080731T161000
DTSTAMP:20161222T095710Z
URL:https://datatracker.ietf.org/meeting/72/materials/agenda-72-dna
DESCRIPTION:Afternoon Session II\n
 \n
 Agenda https://datatracker.ietf.org/meeting/72/materials/agenda-72-dna\n
 \n
 Session materials: https://datatracker.ietf.org/meeting/72/session/dna\n
 \n
 See in schedule: https://datatracker.ietf.org/meeting/72/agenda#row-72-2008-07-31-thu-1510-int-dna\n
END:VEVENT
BEGIN:VEVENT
UID:ietf-72-942-hip
SUMMARY:hip - Host Identity Protocol
LOCATION:Rathcoole
STATUS:CONFIRMED
CLASS:PUBLIC
DTSTART;TZID=Europe/Dublin:20080731T151000
DTEND;TZID=Europe/Dublin:20080731T161000
DTSTAMP:20161222T095710Z
URL:https://datatracker.ietf.org/meeting/72/materials/agenda-72-hip
DESCRIPTION:Afternoon Session II\n
 \n
 Agenda https://datatracker.ietf.org/meeting/72/materials/agenda-72-hip\n
 \n
 Session materials: https://datatracker.ietf.org/meeting/72/session/hip\n
 \n
 See in schedule: https://datatracker.ietf.org/meeting/72/agenda#row-72-2008-07-31-thu-1510-int-hip\n
END:VEVENT
END:VCALENDAR
