BEGIN:VCALENDAR
VERSION:2.0
METHOD:PUBLISH
PRODID:-//IETF//datatracker.ietf.org ical agenda//EN
BEGIN:VTIMEZONE
TZID:Europe/Dublin
X-LIC-LOCATION:Europe/Dublin
BEGIN:DAYLIGHT
TZOFFSETFROM:+0000
TZOFFSETTO:+0100
TZNAME:IST
DTSTART:19810329T010000
RRULE:FREQ=YEARLY;BYMONTH=3;BYDAY=-1SU
END:DAYLIGHT
BEGIN:STANDARD
TZOFFSETFROM:+0100
TZOFFSETTO:+0000
TZNAME:GMT
DTSTART:19961027T020000
RRULE:FREQ=YEARLY;BYMONTH=10;BYDAY=-1SU
END:STANDARD
BEGIN:STANDARD
TZOFFSETFROM:-0025
TZOFFSETTO:-002521
TZNAME:DMT
DTSTART:18800802T000000
RDATE:18800802T000000
END:STANDARD
BEGIN:DAYLIGHT
TZOFFSETFROM:-002521
TZOFFSETTO:+003439
TZNAME:IST
DTSTART:19160521T020000
RDATE:19160521T020000
END:DAYLIGHT
BEGIN:STANDARD
TZOFFSETFROM:+003439
TZOFFSETTO:+0000
TZNAME:GMT
DTSTART:19161001T030000
RDATE:19161001T030000
END:STANDARD
BEGIN:DAYLIGHT
TZOFFSETFROM:+0000
TZOFFSETTO:+0100
TZNAME:BST
DTSTART:19170408T020000
RDATE:19170408T020000
RDATE:19180324T020000
RDATE:19190330T020000
RDATE:19200328T020000
RDATE:19210403T020000
END:DAYLIGHT
BEGIN:STANDARD
TZOFFSETFROM:+0100
TZOFFSETTO:+0000
TZNAME:GMT
DTSTART:19170917T030000
RDATE:19170917T030000
RDATE:19180930T030000
RDATE:19190929T030000
RDATE:19201025T030000
RDATE:19211003T030000
RDATE:19221008T030000
RDATE:19230916T030000
RDATE:19240921T030000
RDATE:19251004T030000
RDATE:19261003T030000
RDATE:19271002T030000
RDATE:19281007T030000
RDATE:19291006T030000
RDATE:19301005T030000
RDATE:19311004T030000
RDATE:19321002T030000
RDATE:19331008T030000
RDATE:19341007T030000
RDATE:19351006T030000
RDATE:19361004T030000
RDATE:19371003T030000
RDATE:19381002T030000
RDATE:19391119T030000
RDATE:19461006T020000
RDATE:19471102T020000
RDATE:19481031T030000
RDATE:19491030T030000
RDATE:19501022T030000
RDATE:19511021T030000
RDATE:19521026T030000
RDATE:19531004T030000
RDATE:19541003T030000
RDATE:19551002T030000
RDATE:19561007T030000
RDATE:19571006T030000
RDATE:19581005T030000
RDATE:19591004T030000
RDATE:19601002T030000
RDATE:19611029T030000
RDATE:19621028T030000
RDATE:19631027T030000
RDATE:19641025T030000
RDATE:19651024T030000
RDATE:19661023T030000
RDATE:19671029T030000
RDATE:19711031T030000
RDATE:19721029T030000
RDATE:19731028T030000
RDATE:19741027T030000
RDATE:19751026T030000
RDATE:19761024T030000
RDATE:19771023T030000
RDATE:19781029T030000
RDATE:19791028T030000
RDATE:19801026T030000
RDATE:19811025T020000
RDATE:19821024T020000
RDATE:19831023T020000
RDATE:19841028T020000
RDATE:19851027T020000
RDATE:19861026T020000
RDATE:19871025T020000
RDATE:19881023T020000
RDATE:19891029T020000
RDATE:19901028T020000
RDATE:19911027T020000
RDATE:19921025T020000
RDATE:19931024T020000
RDATE:19941023T020000
RDATE:19951022T020000
END:STANDARD
BEGIN:STANDARD
TZOFFSETFROM:+0000
TZOFFSETTO:+0000
TZNAME:GMT
DTSTART:19211206T000000
RDATE:19211206T000000
RDATE:19960101T000000
END:STANDARD
BEGIN:DAYLIGHT
TZOFFSETFROM:+0000
TZOFFSETTO:+0100
TZNAME:IST
DTSTART:19220326T020000
RDATE:19220326T020000
RDATE:19230422T020000
RDATE:19240413T020000
RDATE:19250419T020000
RDATE:19260418T020000
RDATE:19270410T020000
RDATE:19280422T020000
RDATE:19290421T020000
RDATE:19300413T020000
RDATE:19310419T020000
RDATE:19320417T020000
RDATE:19330409T020000
RDATE:19340422T020000
RDATE:19350414T020000
RDATE:19360419T020000
RDATE:19370418T020000
RDATE:19380410T020000
RDATE:19390416T020000
RDATE:19400225T020000
RDATE:19470316T020000
RDATE:19480418T020000
RDATE:19490403T020000
RDATE:19500416T020000
RDATE:19510415T020000
RDATE:19520420T020000
RDATE:19530419T020000
RDATE:19540411T020000
RDATE:19550417T020000
RDATE:19560422T020000
RDATE:19570414T020000
RDATE:19580420T020000
RDATE:19590419T020000
RDATE:19600410T020000
RDATE:19610326T020000
RDATE:19620325T020000
RDATE:19630331T020000
RDATE:19640322T020000
RDATE:19650321T020000
RDATE:19660320T020000
RDATE:19670319T020000
RDATE:19680218T020000
RDATE:19720319T020000
RDATE:19730318T020000
RDATE:19740317T020000
RDATE:19750316T020000
RDATE:19760321T020000
RDATE:19770320T020000
RDATE:19780319T020000
RDATE:19790318T020000
RDATE:19800316T020000
END:DAYLIGHT
BEGIN:STANDARD
TZOFFSETFROM:+0100
TZOFFSETTO:+0100
TZNAME:IST
DTSTART:19681027T000000
RDATE:19681027T000000
END:STANDARD
END:VTIMEZONE
BEGIN:VEVENT
UID:ietf-72-983-v6ops
SUMMARY:v6ops - IPv6 Operations
LOCATION:Newcastle
STATUS:CONFIRMED
CLASS:PUBLIC
DTSTART;TZID=Europe/Dublin:20080728T090000
DTEND;TZID=Europe/Dublin:20080728T113000
DTSTAMP:20161222T095710Z
URL:https://datatracker.ietf.org/meeting/72/materials/agenda-72-v6ops
DESCRIPTION:Morning Session I\n
 \n
 Agenda https://datatracker.ietf.org/meeting/72/materials/agenda-72-v6ops\n
 \n
 Session materials: https://datatracker.ietf.org/meeting/72/session/v6ops\n
 \n
 See in schedule: https://datatracker.ietf.org/meeting/72/agenda#row-72-2008-07-28-mon-0900-ops-v6ops\n
END:VEVENT
BEGIN:VEVENT
UID:ietf-72-977-dime
SUMMARY:dime - Diameter Maintenance and Extensions
LOCATION:Ballroom 1
STATUS:CONFIRMED
CLASS:PUBLIC
DTSTART;TZID=Europe/Dublin:20080728T130000
DTEND;TZID=Europe/Dublin:20080728T150000
DTSTAMP:20161222T095710Z
URL:https://datatracker.ietf.org/meeting/72/materials/agenda-72-dime
DESCRIPTION:Afternoon Session I\n
 \n
 Agenda https://datatracker.ietf.org/meeting/72/materials/agenda-72-dime\n
 \n
 Session materials: https://datatracker.ietf.org/meeting/72/session/dime\n
 \n
 See in schedule: https://datatracker.ietf.org/meeting/72/agenda#row-72-2008-07-28-mon-1300-ops-dime\n
END:VEVENT
BEGIN:VEVENT
UID:ietf-72-889-bmwg
SUMMARY:bmwg - Benchmarking Methodology
LOCATION:Conservatory
STATUS:CONFIRMED
CLASS:PUBLIC
DTSTART;TZID=Europe/Dublin:20080728T152000
DTEND;TZID=Europe/Dublin:20080728T172000
DTSTAMP:20161222T095710Z
URL:https://datatracker.ietf.org/meeting/72/materials/agenda-72-bmwg
DESCRIPTION:Afternoon Session II\n
 \n
 Agenda https://datatracker.ietf.org/meeting/72/materials/agenda-72-bmwg\n
 \n
 Session materials: https://datatracker.ietf.org/meeting/72/session/bmwg\n
 \n
 See in schedule: https://datatracker.ietf.org/meeting/72/agenda#row-72-2008-07-28-mon-1520-ops-bmwg\n
END:VEVENT
BEGIN:VEVENT
UID:ietf-72-982-ipfix
SUMMARY:ipfix - IP Flow Information Export
LOCATION:Rathcoole
STATUS:CONFIRMED
CLASS:PUBLIC
DTSTART;TZID=Europe/Dublin:20080728T174000
DTEND;TZID=Europe/Dublin:20080728T195000
DTSTAMP:20161222T095710Z
URL:https://datatracker.ietf.org/meeting/72/materials/agenda-72-ipfix
DESCRIPTION:Afternoon Session III\n
 \n
 Agenda https://datatracker.ietf.org/meeting/72/materials/agenda-72-ipfix\n
 \n
 Session materials: https://datatracker.ietf.org/meeting/72/session/ipfix\n
 \n
 See in schedule: https://datatracker.ietf.org/meeting/72/agenda#row-72-2008-07-28-mon-1740-ops-ipfix\n
END:VEVENT
BEGIN:VEVENT
UID:ietf-72-938-opsarea
SUMMARY:opsarea - Operations & Management Area Open Meeting
LOCATION:Convention 1
STATUS:CONFIRMED
CLASS:PUBLIC
DTSTART;TZID=Europe/Dublin:20080729T090000
DTEND;TZID=Europe/Dublin:20080729T113000
DTSTAMP:20161222T095710Z
URL:https://datatracker.ietf.org/meeting/72/materials/agenda-72-opsarea
DESCRIPTION:Morning Session I\n
 \n
 Agenda https://datatracker.ietf.org/meeting/72/materials/agenda-72-opsarea\n
 \n
 Session materials: https://datatracker.ietf.org/meeting/72/session/opsarea\n
 \n
 See in schedule: https://datatracker.ietf.org/meeting/72/agenda#row-72-2008-07-29-tue-0900-ops-opsarea\n
END:VEVENT
BEGIN:VEVENT
UID:ietf-72-950-dnsop
SUMMARY:dnsop - Domain Name System Operations
LOCATION:Ballroom 1
STATUS:CONFIRMED
CLASS:PUBLIC
DTSTART;TZID=Europe/Dublin:20080729T130000
DTEND;TZID=Europe/Dublin:20080729T150000
DTSTAMP:20161222T095710Z
URL:https://datatracker.ietf.org/meeting/72/materials/agenda-72-dnsop
DESCRIPTION:Afternoon Session I\n
 \n
 Agenda https://datatracker.ietf.org/meeting/72/materials/agenda-72-dnsop\n
 \n
 Session materials: https://datatracker.ietf.org/meeting/72/session/dnsop\n
 \n
 See in schedule: https://datatracker.ietf.org/meeting/72/agenda#row-72-2008-07-29-tue-1300-ops-dnsop\n
END:VEVENT
BEGIN:VEVENT
UID:ietf-72-890-pmol
SUMMARY:pmol - Performance Metrics for Other Layers
LOCATION:Newcastle
STATUS:CONFIRMED
CLASS:PUBLIC
DTSTART;TZID=Europe/Dublin:20080729T152000
DTEND;TZID=Europe/Dublin:20080729T172000
DTSTAMP:20161222T095710Z
URL:https://datatracker.ietf.org/meeting/72/materials/agenda-72-pmol
DESCRIPTION:Afternoon Session II\n
 \n
 Agenda https://datatracker.ietf.org/meeting/72/materials/agenda-72-pmol\n
 \n
 Session materials: https://datatracker.ietf.org/meeting/72/session/pmol\n
 \n
 See in schedule: https://datatracker.ietf.org/meeting/72/agenda#row-72-2008-07-29-tue-1520-ops-pmol\n
END:VEVENT
BEGIN:VEVENT
UID:ietf-72-933-capwap
SUMMARY:capwap - Control And Provisioning of Wireless Access Points
LOCATION:Ballroom 1
STATUS:CONFIRMED
CLASS:PUBLIC
DTSTART;TZID=Europe/Dublin:20080729T174000
DTEND;TZID=Europe/Dublin:20080729T184000
DTSTAMP:20161222T095710Z
URL:https://datatracker.ietf.org/meeting/72/materials/agenda-72-capwap
DESCRIPTION:Afternoon Session III\n
 \n
 Agenda https://datatracker.ietf.org/meeting/72/materials/agenda-72-capwap\n
 \n
 Session materials: https://datatracker.ietf.org/meeting/72/session/capwap\n
 \n
 See in schedule: https://datatracker.ietf.org/meeting/72/agenda#row-72-2008-07-29-tue-1740-ops-capwap\n
END:VEVENT
BEGIN:VEVENT
UID:ietf-72-937-netconf
SUMMARY:netconf - Network Configuration
LOCATION:Conservatory
STATUS:CONFIRMED
CLASS:PUBLIC
DTSTART;TZID=Europe/Dublin:20080729T185000
DTEND;TZID=Europe/Dublin:20080729T195000
DTSTAMP:20161222T095710Z
URL:https://datatracker.ietf.org/meeting/72/materials/agenda-72-netconf
DESCRIPTION:Afternoon Session IV\n
 \n
 Agenda https://datatracker.ietf.org/meeting/72/materials/agenda-72-netconf\n
 \n
 Session materials: https://datatracker.ietf.org/meeting/72/session/netconf\n
 \n
 See in schedule: https://datatracker.ietf.org/meeting/72/agenda#row-72-2008-07-29-tue-1850-ops-netconf\n
END:VEVENT
BEGIN:VEVENT
UID:ietf-72-960-radext
SUMMARY:radext - RADIUS EXTensions
LOCATION:Conservatory
STATUS:CONFIRMED
CLASS:PUBLIC
DTSTART;TZID=Europe/Dublin:20080730T090000
DTEND;TZID=Europe/Dublin:20080730T113000
DTSTAMP:20161222T095710Z
URL:https://datatracker.ietf.org/meeting/72/materials/agenda-72-radext
DESCRIPTION:Morning Session I\n
 \n
 Agenda https://datatracker.ietf.org/meeting/72/materials/agenda-72-radext\n
 \n
 Session materials: https://datatracker.ietf.org/meeting/72/session/radext\n
 \n
 See in schedule: https://datatracker.ietf.org/meeting/72/agenda#row-72-2008-07-30-wed-0900-ops-radext\n
END:VEVENT
BEGIN:VEVENT
UID:ietf-72-979-opsawg
SUMMARY:opsawg - Operations and Management Area Working Group
LOCATION:Convention 1
STATUS:CONFIRMED
CLASS:PUBLIC
DTSTART;TZID=Europe/Dublin:20080730T130000
DTEND;TZID=Europe/Dublin:20080730T150000
DTSTAMP:20161222T095710Z
URL:https://datatracker.ietf.org/meeting/72/materials/agenda-72-opsawg
DESCRIPTION:Afternoon Session I\n
 \n
 Agenda https://datatracker.ietf.org/meeting/72/materials/agenda-72-opsawg\n
 \n
 Session materials: https://datatracker.ietf.org/meeting/72/session/opsawg\n
 \n
 See in schedule: https://datatracker.ietf.org/meeting/72/agenda#row-72-2008-07-30-wed-1300-ops-opsawg\n
END:VEVENT
BEGIN:VEVENT
UID:ietf-72-969-opsec
SUMMARY:opsec - Operational Security Capabilities for IP Network Infrastructure
LOCATION:Conservatory
STATUS:CONFIRMED
CLASS:PUBLIC
DTSTART;TZID=Europe/Dublin:20080730T151000
DTEND;TZID=Europe/Dublin:20080730T161000
DTSTAMP:20161222T095710Z
URL:https://datatracker.ietf.org/meeting/72/materials/agenda-72-opsec
DESCRIPTION:Afternoon Session II\n
 \n
 Agenda https://datatracker.ietf.org/meeting/72/materials/agenda-72-opsec\n
 \n
 Session materials: https://datatracker.ietf.org/meeting/72/session/opsec\n
 \n
 See in schedule: https://datatracker.ietf.org/meeting/72/agenda#row-72-2008-07-30-wed-1510-ops-opsec\n
END:VEVENT
BEGIN:VEVENT
UID:ietf-72-944-mboned
SUMMARY:mboned - MBONE Deployment
LOCATION:Convention 3
STATUS:CONFIRMED
CLASS:PUBLIC
DTSTART;TZID=Europe/Dublin:20080731T090000
DTEND;TZID=Europe/Dublin:20080731T113000
DTSTAMP:20161222T095710Z
URL:https://datatracker.ietf.org/meeting/72/materials/agenda-72-mboned
DESCRIPTION:Morning Session I\n
 \n
 Agenda https://datatracker.ietf.org/meeting/72/materials/agenda-72-mboned\n
 \n
 Session materials: https://datatracker.ietf.org/meeting/72/session/mboned\n
 \n
 See in schedule: https://datatracker.ietf.org/meeting/72/agenda#row-72-2008-07-31-thu-0900-ops-mboned\n
END:VEVENT
BEGIN:VEVENT
UID:ietf-72-966-netmod
SUMMARY:netmod - NETCONF Data Modeling Language
LOCATION:Newcastle
STATUS:CONFIRMED
CLASS:PUBLIC
DTSTART;TZID=Europe/Dublin:20080731T090000
DTEND;TZID=Europe/Dublin:20080731T113000
DTSTAMP:20161222T095710Z
URL:https://datatracker.ietf.org/meeting/72/materials/agenda-72-netmod
DESCRIPTION:Morning Session I\n
 \n
 Agenda https://datatracker.ietf.org/meeting/72/materials/agenda-72-netmod\n
 \n
 Session materials: https://datatracker.ietf.org/meeting/72/session/netmod\n
 \n
 See in schedule: https://datatracker.ietf.org/meeting/72/agenda#row-72-2008-07-31-thu-0900-ops-netmod\n
END:VEVENT
BEGIN:VEVENT
UID:ietf-72-984-v6ops
SUMMARY:v6ops - IPv6 Operations
LOCATION:Ballroom 2
STATUS:CONFIRMED
CLASS:PUBLIC
DTSTART;TZID=Europe/Dublin:20080731T130000
DTEND;TZID=Europe/Dublin:20080731T150000
DTSTAMP:20161222T095710Z
URL:https://datatracker.ietf.org/meeting/72/materials/agenda-72-v6ops
DESCRIPTION:Afternoon Session I\n
 \n
 Agenda https://datatracker.ietf.org/meeting/72/materials/agenda-72-v6ops\n
 \n
 Session materials: https://datatracker.ietf.org/meeting/72/session/v6ops\n
 \n
 See in schedule: https://datatracker.ietf.org/meeting/72/agenda#row-72-2008-07-31-thu-1300-ops-v6ops\n
END:VEVENT
BEGIN:VEVENT
UID:ietf-72-985-grow
SUMMARY:grow - Global Routing Operations
LOCATION:Newcastle
STATUS:CONFIRMED
CLASS:PUBLIC
DTSTART;TZID=Europe/Dublin:20080731T151000
DTEND;TZID=Europe/Dublin:20080731T161000
DTSTAMP:20161222T095710Z
URL:https://datatracker.ietf.org/meeting/72/materials/agenda-72-grow
DESCRIPTION:Afternoon Session II\n
 \n
 Agenda https://datatracker.ietf.org/meeting/72/materials/agenda-72-grow\n
 \n
 Session materials: https://datatracker.ietf.org/meeting/72/session/grow\n
 \n
 See in schedule: https://datatracker.ietf.org/meeting/72/agenda#row-72-2008-07-31-thu-1510-ops-grow\n
END:VEVENT
BEGIN:VEVENT
UID:ietf-72-967-netmod
SUMMARY:netmod - NETCONF Data Modeling Language
LOCATION:Convention 1
STATUS:CONFIRMED
CLASS:PUBLIC
DTSTART;TZID=Europe/Dublin:20080801T090000
DTEND;TZID=Europe/Dublin:20080801T113000
DTSTAMP:20161222T095710Z
URL:https://datatracker.ietf.org/meeting/72/materials/agenda-72-netmod
DESCRIPTION:Morning Session I\n
 \n
 Agenda https://datatracker.ietf.org/meeting/72/materials/agenda-72-netmod\n
 \n
 Session materials: https://datatracker.ietf.org/meeting/72/session/netmod\n
 \n
 See in schedule: https://datatracker.ietf.org/meeting/72/agenda#row-72-2008-08-01-fri-0900-ops-netmod\n
END:VEVENT
END:VCALENDAR
