BEGIN:VCALENDAR
VERSION:2.0
METHOD:PUBLISH
PRODID:-//IETF//datatracker.ietf.org ical agenda//EN
BEGIN:VTIMEZONE
TZID:Europe/Dublin
X-LIC-LOCATION:Europe/Dublin
BEGIN:DAYLIGHT
TZOFFSETFROM:+0000
TZOFFSETTO:+0100
TZNAME:IST
DTSTART:19810329T010000
RRULE:FREQ=YEARLY;BYMONTH=3;BYDAY=-1SU
END:DAYLIGHT
BEGIN:STANDARD
TZOFFSETFROM:+0100
TZOFFSETTO:+0000
TZNAME:GMT
DTSTART:19961027T020000
RRULE:FREQ=YEARLY;BYMONTH=10;BYDAY=-1SU
END:STANDARD
BEGIN:STANDARD
TZOFFSETFROM:-0025
TZOFFSETTO:-002521
TZNAME:DMT
DTSTART:18800802T000000
RDATE:18800802T000000
END:STANDARD
BEGIN:DAYLIGHT
TZOFFSETFROM:-002521
TZOFFSETTO:+003439
TZNAME:IST
DTSTART:19160521T020000
RDATE:19160521T020000
END:DAYLIGHT
BEGIN:STANDARD
TZOFFSETFROM:+003439
TZOFFSETTO:+0000
TZNAME:GMT
DTSTART:19161001T030000
RDATE:19161001T030000
END:STANDARD
BEGIN:DAYLIGHT
TZOFFSETFROM:+0000
TZOFFSETTO:+0100
TZNAME:BST
DTSTART:19170408T020000
RDATE:19170408T020000
RDATE:19180324T020000
RDATE:19190330T020000
RDATE:19200328T020000
RDATE:19210403T020000
END:DAYLIGHT
BEGIN:STANDARD
TZOFFSETFROM:+0100
TZOFFSETTO:+0000
TZNAME:GMT
DTSTART:19170917T030000
RDATE:19170917T030000
RDATE:19180930T030000
RDATE:19190929T030000
RDATE:19201025T030000
RDATE:19211003T030000
RDATE:19221008T030000
RDATE:19230916T030000
RDATE:19240921T030000
RDATE:19251004T030000
RDATE:19261003T030000
RDATE:19271002T030000
RDATE:19281007T030000
RDATE:19291006T030000
RDATE:19301005T030000
RDATE:19311004T030000
RDATE:19321002T030000
RDATE:19331008T030000
RDATE:19341007T030000
RDATE:19351006T030000
RDATE:19361004T030000
RDATE:19371003T030000
RDATE:19381002T030000
RDATE:19391119T030000
RDATE:19461006T020000
RDATE:19471102T020000
RDATE:19481031T030000
RDATE:19491030T030000
RDATE:19501022T030000
RDATE:19511021T030000
RDATE:19521026T030000
RDATE:19531004T030000
RDATE:19541003T030000
RDATE:19551002T030000
RDATE:19561007T030000
RDATE:19571006T030000
RDATE:19581005T030000
RDATE:19591004T030000
RDATE:19601002T030000
RDATE:19611029T030000
RDATE:19621028T030000
RDATE:19631027T030000
RDATE:19641025T030000
RDATE:19651024T030000
RDATE:19661023T030000
RDATE:19671029T030000
RDATE:19711031T030000
RDATE:19721029T030000
RDATE:19731028T030000
RDATE:19741027T030000
RDATE:19751026T030000
RDATE:19761024T030000
RDATE:19771023T030000
RDATE:19781029T030000
RDATE:19791028T030000
RDATE:19801026T030000
RDATE:19811025T020000
RDATE:19821024T020000
RDATE:19831023T020000
RDATE:19841028T020000
RDATE:19851027T020000
RDATE:19861026T020000
RDATE:19871025T020000
RDATE:19881023T020000
RDATE:19891029T020000
RDATE:19901028T020000
RDATE:19911027T020000
RDATE:19921025T020000
RDATE:19931024T020000
RDATE:19941023T020000
RDATE:19951022T020000
END:STANDARD
BEGIN:STANDARD
TZOFFSETFROM:+0000
TZOFFSETTO:+0000
TZNAME:GMT
DTSTART:19211206T000000
RDATE:19211206T000000
RDATE:19960101T000000
END:STANDARD
BEGIN:DAYLIGHT
TZOFFSETFROM:+0000
TZOFFSETTO:+0100
TZNAME:IST
DTSTART:19220326T020000
RDATE:19220326T020000
RDATE:19230422T020000
RDATE:19240413T020000
RDATE:19250419T020000
RDATE:19260418T020000
RDATE:19270410T020000
RDATE:19280422T020000
RDATE:19290421T020000
RDATE:19300413T020000
RDATE:19310419T020000
RDATE:19320417T020000
RDATE:19330409T020000
RDATE:19340422T020000
RDATE:19350414T020000
RDATE:19360419T020000
RDATE:19370418T020000
RDATE:19380410T020000
RDATE:19390416T020000
RDATE:19400225T020000
RDATE:19470316T020000
RDATE:19480418T020000
RDATE:19490403T020000
RDATE:19500416T020000
RDATE:19510415T020000
RDATE:19520420T020000
RDATE:19530419T020000
RDATE:19540411T020000
RDATE:19550417T020000
RDATE:19560422T020000
RDATE:19570414T020000
RDATE:19580420T020000
RDATE:19590419T020000
RDATE:19600410T020000
RDATE:19610326T020000
RDATE:19620325T020000
RDATE:19630331T020000
RDATE:19640322T020000
RDATE:19650321T020000
RDATE:19660320T020000
RDATE:19670319T020000
RDATE:19680218T020000
RDATE:19720319T020000
RDATE:19730318T020000
RDATE:19740317T020000
RDATE:19750316T020000
RDATE:19760321T020000
RDATE:19770320T020000
RDATE:19780319T020000
RDATE:19790318T020000
RDATE:19800316T020000
END:DAYLIGHT
BEGIN:STANDARD
TZOFFSETFROM:+0100
TZOFFSETTO:+0100
TZNAME:IST
DTSTART:19681027T000000
RDATE:19681027T000000
END:STANDARD
END:VTIMEZONE
BEGIN:VEVENT
UID:ietf-72-928-sipping
SUMMARY:sipping - Session Initiation Proposal Investigation
LOCATION:Convention 1
STATUS:CONFIRMED
CLASS:PUBLIC
DTSTART;TZID=Europe/Dublin:20080728T090000
DTEND;TZID=Europe/Dublin:20080728T113000
DTSTAMP:20161222T095710Z
URL:https://datatracker.ietf.org/meeting/72/materials/agenda-72-sipping
DESCRIPTION:Morning Session I\n
 \n
 Agenda https://datatracker.ietf.org/meeting/72/materials/agenda-72-sipping\n
 \n
 Session materials: https://datatracker.ietf.org/meeting/72/session/sipping\n
 \n
 See in schedule: https://datatracker.ietf.org/meeting/72/agenda#row-72-2008-07-28-mon-0900-rai-sipping\n
END:VEVENT
BEGIN:VEVENT
UID:ietf-72-927-speermint
SUMMARY:speermint - Session PEERing for Multimedia INTerconnect
LOCATION:Convention 2
STATUS:CONFIRMED
CLASS:PUBLIC
DTSTART;TZID=Europe/Dublin:20080728T130000
DTEND;TZID=Europe/Dublin:20080728T150000
DTSTAMP:20161222T095710Z
URL:https://datatracker.ietf.org/meeting/72/materials/agenda-72-speermint
DESCRIPTION:Afternoon Session I\n
 \n
 Agenda https://datatracker.ietf.org/meeting/72/materials/agenda-72-speermint\n
 \n
 Session materials: https://datatracker.ietf.org/meeting/72/session/speermint\n
 \n
 See in schedule: https://datatracker.ietf.org/meeting/72/agenda#row-72-2008-07-28-mon-1300-rai-speermint\n
END:VEVENT
BEGIN:VEVENT
UID:ietf-72-925-bliss
SUMMARY:bliss - Basic Level of Interoperability for SIP Services
LOCATION:Ballroom 2
STATUS:CONFIRMED
CLASS:PUBLIC
DTSTART;TZID=Europe/Dublin:20080728T152000
DTEND;TZID=Europe/Dublin:20080728T172000
DTSTAMP:20161222T095710Z
URL:https://datatracker.ietf.org/meeting/72/materials/agenda-72-bliss
DESCRIPTION:Afternoon Session II\n
 \n
 Agenda https://datatracker.ietf.org/meeting/72/materials/agenda-72-bliss\n
 \n
 Session materials: https://datatracker.ietf.org/meeting/72/session/bliss\n
 \n
 See in schedule: https://datatracker.ietf.org/meeting/72/agenda#row-72-2008-07-28-mon-1520-rai-bliss\n
END:VEVENT
BEGIN:VEVENT
UID:ietf-72-917-avt
SUMMARY:avt - Audio/Video Transport
LOCATION:Convention 1
STATUS:CONFIRMED
CLASS:PUBLIC
DTSTART;TZID=Europe/Dublin:20080728T174000
DTEND;TZID=Europe/Dublin:20080728T195000
DTSTAMP:20161222T095710Z
URL:https://datatracker.ietf.org/meeting/72/materials/agenda-72-avt
DESCRIPTION:Afternoon Session III\n
 \n
 Agenda https://datatracker.ietf.org/meeting/72/materials/agenda-72-avt\n
 \n
 Session materials: https://datatracker.ietf.org/meeting/72/session/avt\n
 \n
 See in schedule: https://datatracker.ietf.org/meeting/72/agenda#row-72-2008-07-28-mon-1740-rai-avt\n
END:VEVENT
BEGIN:VEVENT
UID:ietf-72-970-ecrit
SUMMARY:ecrit - Emergency Context Resolution with Internet Technologies
LOCATION:Convention 3
STATUS:CONFIRMED
CLASS:PUBLIC
DTSTART;TZID=Europe/Dublin:20080729T152000
DTEND;TZID=Europe/Dublin:20080729T172000
DTSTAMP:20161222T095710Z
URL:https://datatracker.ietf.org/meeting/72/materials/agenda-72-ecrit
DESCRIPTION:Afternoon Session II\n
 \n
 Agenda https://datatracker.ietf.org/meeting/72/materials/agenda-72-ecrit\n
 \n
 Session materials: https://datatracker.ietf.org/meeting/72/session/ecrit\n
 \n
 See in schedule: https://datatracker.ietf.org/meeting/72/agenda#row-72-2008-07-29-tue-1520-rai-ecrit\n
END:VEVENT
BEGIN:VEVENT
UID:ietf-72-948-xcon
SUMMARY:xcon - Centralized Conferencing
LOCATION:Convention 3
STATUS:CONFIRMED
CLASS:PUBLIC
DTSTART;TZID=Europe/Dublin:20080729T174000
DTEND;TZID=Europe/Dublin:20080729T184000
DTSTAMP:20161222T095710Z
URL:https://datatracker.ietf.org/meeting/72/materials/agenda-72-xcon
DESCRIPTION:Afternoon Session III\n
 \n
 Agenda https://datatracker.ietf.org/meeting/72/materials/agenda-72-xcon\n
 \n
 Session materials: https://datatracker.ietf.org/meeting/72/session/xcon\n
 \n
 See in schedule: https://datatracker.ietf.org/meeting/72/agenda#row-72-2008-07-29-tue-1740-rai-xcon\n
END:VEVENT
BEGIN:VEVENT
UID:ietf-72-918-avt
SUMMARY:avt - Audio/Video Transport
LOCATION:Ballroom 1
STATUS:CONFIRMED
CLASS:PUBLIC
DTSTART;TZID=Europe/Dublin:20080729T185000
DTEND;TZID=Europe/Dublin:20080729T195000
DTSTAMP:20161222T095710Z
URL:https://datatracker.ietf.org/meeting/72/materials/agenda-72-avt
DESCRIPTION:Afternoon Session IV\n
 \n
 Agenda https://datatracker.ietf.org/meeting/72/materials/agenda-72-avt\n
 \n
 Session materials: https://datatracker.ietf.org/meeting/72/session/avt\n
 \n
 See in schedule: https://datatracker.ietf.org/meeting/72/agenda#row-72-2008-07-29-tue-1850-rai-avt\n
END:VEVENT
BEGIN:VEVENT
UID:ietf-72-895-enum
SUMMARY:enum - Telephone Number Mapping
LOCATION:Convention 3
STATUS:CONFIRMED
CLASS:PUBLIC
DTSTART;TZID=Europe/Dublin:20080729T185000
DTEND;TZID=Europe/Dublin:20080729T195000
DTSTAMP:20161222T095710Z
URL:https://datatracker.ietf.org/meeting/72/materials/agenda-72-enum
DESCRIPTION:Afternoon Session IV\n
 \n
 Agenda https://datatracker.ietf.org/meeting/72/materials/agenda-72-enum\n
 \n
 Session materials: https://datatracker.ietf.org/meeting/72/session/enum\n
 \n
 See in schedule: https://datatracker.ietf.org/meeting/72/agenda#row-72-2008-07-29-tue-1850-rai-enum\n
END:VEVENT
BEGIN:VEVENT
UID:ietf-72-911-p2psip
SUMMARY:p2psip - Peer-to-Peer Session Initiation Protocol
LOCATION:Convention 3
STATUS:CONFIRMED
CLASS:PUBLIC
DTSTART;TZID=Europe/Dublin:20080730T090000
DTEND;TZID=Europe/Dublin:20080730T113000
DTSTAMP:20161222T095710Z
URL:https://datatracker.ietf.org/meeting/72/materials/agenda-72-p2psip
DESCRIPTION:Morning Session I\n
 \n
 Agenda https://datatracker.ietf.org/meeting/72/materials/agenda-72-p2psip\n
 \n
 Session materials: https://datatracker.ietf.org/meeting/72/session/p2psip\n
 \n
 See in schedule: https://datatracker.ietf.org/meeting/72/agenda#row-72-2008-07-30-wed-0900-rai-p2psip\n
END:VEVENT
BEGIN:VEVENT
UID:ietf-72-934-mediactrl
SUMMARY:mediactrl - Media Server Control
LOCATION:Ballroom 2
STATUS:CONFIRMED
CLASS:PUBLIC
DTSTART;TZID=Europe/Dublin:20080730T130000
DTEND;TZID=Europe/Dublin:20080730T150000
DTSTAMP:20161222T095710Z
URL:https://datatracker.ietf.org/meeting/72/materials/agenda-72-mediactrl
DESCRIPTION:Afternoon Session I\n
 \n
 Agenda https://datatracker.ietf.org/meeting/72/materials/agenda-72-mediactrl\n
 \n
 Session materials: https://datatracker.ietf.org/meeting/72/session/mediactrl\n
 \n
 See in schedule: https://datatracker.ietf.org/meeting/72/agenda#row-72-2008-07-30-wed-1300-rai-mediactrl\n
END:VEVENT
BEGIN:VEVENT
UID:ietf-72-939-simple
SUMMARY:simple - SIP for Instant Messaging and Presence Leveraging Extensions
LOCATION:Ballroom 1
STATUS:CONFIRMED
CLASS:PUBLIC
DTSTART;TZID=Europe/Dublin:20080730T151000
DTEND;TZID=Europe/Dublin:20080730T161000
DTSTAMP:20161222T095710Z
URL:https://datatracker.ietf.org/meeting/72/materials/agenda-72-simple
DESCRIPTION:Afternoon Session II\n
 \n
 Agenda https://datatracker.ietf.org/meeting/72/materials/agenda-72-simple\n
 \n
 Session materials: https://datatracker.ietf.org/meeting/72/session/simple\n
 \n
 See in schedule: https://datatracker.ietf.org/meeting/72/agenda#row-72-2008-07-30-wed-1510-rai-simple\n
END:VEVENT
BEGIN:VEVENT
UID:ietf-72-940-geopriv
SUMMARY:geopriv - Geographic Location/Privacy
LOCATION:Ballroom 2
STATUS:CONFIRMED
CLASS:PUBLIC
DTSTART;TZID=Europe/Dublin:20080731T090000
DTEND;TZID=Europe/Dublin:20080731T113000
DTSTAMP:20161222T095710Z
URL:https://datatracker.ietf.org/meeting/72/materials/agenda-72-geopriv
DESCRIPTION:Morning Session I\n
 \n
 Agenda https://datatracker.ietf.org/meeting/72/materials/agenda-72-geopriv\n
 \n
 Session materials: https://datatracker.ietf.org/meeting/72/session/geopriv\n
 \n
 See in schedule: https://datatracker.ietf.org/meeting/72/agenda#row-72-2008-07-31-thu-0900-rai-geopriv\n
END:VEVENT
BEGIN:VEVENT
UID:ietf-72-994-drinks
SUMMARY:drinks - Data for Reachability of Inter/tra-NetworK SIP
LOCATION:Ballroom 2
STATUS:CONFIRMED
CLASS:PUBLIC
DTSTART;TZID=Europe/Dublin:20080731T151000
DTEND;TZID=Europe/Dublin:20080731T161000
DTSTAMP:20161222T095710Z
URL:https://datatracker.ietf.org/meeting/72/materials/agenda-72-drinks
DESCRIPTION:Afternoon Session II\n
 \n
 Agenda https://datatracker.ietf.org/meeting/72/materials/agenda-72-drinks\n
 \n
 Session materials: https://datatracker.ietf.org/meeting/72/session/drinks\n
 \n
 See in schedule: https://datatracker.ietf.org/meeting/72/agenda#row-72-2008-07-31-thu-1510-rai-drinks\n
END:VEVENT
BEGIN:VEVENT
UID:ietf-72-993-mmusic
SUMMARY:mmusic - Multiparty Multimedia Session Control
LOCATION:Convention 2
STATUS:CONFIRMED
CLASS:PUBLIC
DTSTART;TZID=Europe/Dublin:20080801T090000
DTEND;TZID=Europe/Dublin:20080801T113000
DTSTAMP:20161222T095710Z
URL:https://datatracker.ietf.org/meeting/72/materials/agenda-72-mmusic
DESCRIPTION:Morning Session I\n
 \n
 Agenda https://datatracker.ietf.org/meeting/72/materials/agenda-72-mmusic\n
 \n
 Session materials: https://datatracker.ietf.org/meeting/72/session/mmusic\n
 \n
 See in schedule: https://datatracker.ietf.org/meeting/72/agenda#row-72-2008-08-01-fri-0900-rai-mmusic\n
END:VEVENT
END:VCALENDAR
